BEGIN:VCALENDAR
VERSION:2.0
PRODID:-//Vihma.fi - ECPv6.15.20//NONSGML v1.0//EN
CALSCALE:GREGORIAN
METHOD:PUBLISH
X-WR-CALNAME:Vihma.fi
X-ORIGINAL-URL:https://www.vihma.fi
X-WR-CALDESC:Tapahtumat Vihma.fi
REFRESH-INTERVAL;VALUE=DURATION:PT1H
X-Robots-Tag:noindex
X-PUBLISHED-TTL:PT1H
BEGIN:VTIMEZONE
TZID:Europe/Helsinki
BEGIN:DAYLIGHT
TZOFFSETFROM:+0200
TZOFFSETTO:+0300
TZNAME:EEST
DTSTART:20240331T010000
END:DAYLIGHT
BEGIN:STANDARD
TZOFFSETFROM:+0300
TZOFFSETTO:+0200
TZNAME:EET
DTSTART:20241027T010000
END:STANDARD
BEGIN:DAYLIGHT
TZOFFSETFROM:+0200
TZOFFSETTO:+0300
TZNAME:EEST
DTSTART:20250330T010000
END:DAYLIGHT
BEGIN:STANDARD
TZOFFSETFROM:+0300
TZOFFSETTO:+0200
TZNAME:EET
DTSTART:20251026T010000
END:STANDARD
BEGIN:DAYLIGHT
TZOFFSETFROM:+0200
TZOFFSETTO:+0300
TZNAME:EEST
DTSTART:20260329T010000
END:DAYLIGHT
BEGIN:STANDARD
TZOFFSETFROM:+0300
TZOFFSETTO:+0200
TZNAME:EET
DTSTART:20261025T010000
END:STANDARD
END:VTIMEZONE
BEGIN:VEVENT
DTSTART;TZID=Europe/Helsinki:20250319T180000
DTEND;TZID=Europe/Helsinki:20250319T200000
DTSTAMP:20260419T205916
CREATED:20250115T105640Z
LAST-MODIFIED:20260416T173932Z
UID:10001694-1742407200-1742414400@www.vihma.fi
SUMMARY:Ulkoratavuoro Rissala
DESCRIPTION:Ampumaratavuoro keskiviikkoisin Karjalan lennoston radalla Rissalassa. \nVuorolle pitää olla voimassa oleva kulkulupa PV:n alueelle. \nHUOM! Kaikkien radalle saapuvien on käytävä toistaiseksi ilmoittautumassa päävartiossa! \nIlmoita päävartiossa meneväsi reserviläisten ampumavuorolle ja esitä ajo-/henkilökortti sekä yhdistyksen jäsenkortti ja toimi päävartion ohjeiden mukaisesti. \nErikseen mainituille ratavuoroille on mahdollista varata laina-aseita (Huom! Vain lomakkeella näkyville vuoroille voi varata lainakalustoa.). Vuoron alussa laina-ase ampujat maksavat osallistumismaksun\, joka sisältää mm. aseiden käytön\, ratamaksun\, patruunat\, taulut\, paikkatarvikkeet ja mahdolliset muut laina- varusteet. Reserviläiset voivat varata yhdistyksen laina-aseita seuraavalla lomakkeella. Tarkista vuorot ja varausehdot lomakkeelta. \nKarjalan Lennosto on 16.2.2026 linjannut\, että toistaiseksi liikemaaliradalle ei saa mennä\, kun pistooliradalla ammutaan. Syy liittyy tilanteeseen\, jossa liikemaaliradalle tuli kimmoke ammuntojen aikana pistooliradalta. Asiaa on tutkittu ja selvitetty ja johtopäätös on\, että kimmokkeet aiheuttaa jäätynyt pistooliradan taustavalli\, muuta selitytä lennosto ei ole tähän ole löytänyt. \nTurvallisten ammuntojen suorittamiseksi talviaikana jotta mahdollisilta uusilta kimmokkeiden aiheuttamilta tilanteilta vältyttäisiin\, tehdään seuraava tarkennus: \n\nKun varataan käyttöön liikemaalirata\, tulee samalla varata myös pistoolirata\, jotta sen käyttö esim. vartioston harjoitteluun on samalla ampumavuorolla estetty.\nTämä linjaus on voimassa sen aikaa\, kun voidaan varmistua\, että taustavalli on pehmennyt ja ns. ”imee” pistooliradan laukaukset vallin sisälle eli kevään koittaessa ja maan pinnan sulettua.\n\nHUOM! JOS VARAUSLISTALLA EI OLE MERKITTY RATAVUOROA\, SILLOIN VUOROLLE EI OLE SAATAVISSA LAINAKALUSTOA. RISSALAN KIVÄÄRIVUOROILLE EI OLE TÄLLÄ HETKELLÄ SAATAVISSA LAINAKALUSTOA!  \nOletko tulossa ensimmäistä kertaa viikkovuorolle? Tutustu toimintaa helpottaviin ohjeisiin Vihman nettisivuilla. \nVuoden 2026 ratavuorot: \n\nHuhtikuu\n1.4.2026 Kiväärivuoro\n8.4.2026 Pistoolivuoro\n15.4.2026 Kiväärivuoro\n22.4.2026 Pistoolivuoro\n29.4.2026 Kiväärivuoro \nToukokuu\n6.5.2026 Pistoolivuoro\n13.5.2026 Kiväärivuoro\n18.5.-20.6.2026 (Kaikki radat poissa käytöstä) \nKesäkuu\n24.6.2026 Kiväärivuoro \nHeinäkuu\n1.7.2026 Pistoolivuoro\n8.7.2026 Kiväärivuoro\n15.7.2026 Pistoolivuoro\n22.7.2026 Kiväärivuoro\n29.7.2026 Pistoolivuoro \nElokuu\n5.8.2026 Kiväärivuoro\n12.8.2026 Pistoolivuoro\n19.8.2026 Kiväärivuoro\n26.8.2026 Pistoolivuoro \nSyyskuu\n2.9.2026 Kiväärivuoro\n9.9.2026 Pistoolivuoro\n16.9.2026 Kiväärivuoro\n23.9.2026 Pistoolivuoro\n30.9.2026 Kiväärivuoro \nLokakuu\n7.10.2026 Pistoolivuoro\n14.10.2026 Kiväärivuoro\n21.10.2026 Pistoolivuoro\n28.10.2026 Kiväärivuoro \nMarraskuu\n4.11.2026 Pistoolivuoro\n11.11.2026 Kiväärivuoro\n18.11.2026 Pistoolivuoro\n19.-27.11.2026 (Kaikki radat poissa käytöstä) \nJoulukuu\n2.12.2026 Pistoolivuoro\n9.12.2026 Kiväärivuoro\n16.12.2026 Pistoolivuoro\n23.12.2026 Kiväärivuoro
URL:https://www.vihma.fi/tapahtuma/ulkoratavuoro-rissala-4-2022-09-28-2-2/2025-03-19/
LOCATION:Rissala\, Leppälammentie\, Toivala\, 70900
CATEGORIES:Ammunta
ORGANIZER;CN="Pohjois-Savon reservipiirit":MAILTO:toiminnanjohtaja@vihma.fi
GEO:62.9927132;27.788968
X-APPLE-STRUCTURED-LOCATION;VALUE=URI;X-ADDRESS=Rissala Leppälammentie Toivala 70900;X-APPLE-RADIUS=500;X-TITLE=Leppälammentie:geo:27.788968,62.9927132
END:VEVENT
BEGIN:VEVENT
DTSTART;TZID=Europe/Helsinki:20250320T180000
DTEND;TZID=Europe/Helsinki:20250320T200000
DTSTAMP:20260419T205916
CREATED:20230120T112633Z
LAST-MODIFIED:20251123T212455Z
UID:10003401-1742493600-1742500800@www.vihma.fi
SUMMARY:Ulkoratavuoro Heinjoki
DESCRIPTION:Pohjois-Savon reservipiirien kiväärivuoro Kuopiossa Heinjoen luodikkoradalla torstaisin klo 18-20. \nOletko tulossa ensimmäistä kertaa viikkovuorolle? Tutustu toimintaa helpottaviin ohjeisiin Vihman nettisivuilla. \nAlueelle saavuttaessa on automaattinen portti\, joka tullaan avaamaan noin klo 17.30. \nErikseen mainituille ratavuoroille on mahdollista varata laina-aseita. Vuoron alussa laina-ase ampujat maksavat osallistumismaksun\, joka sisältää mm. aseiden käytön\, ratamaksun\, patruunat\, taulut\, paikkatarvikkeet ja mahdolliset muut laina- varusteet. Patruunoita ei myydä ratavuorojen ulkopuoliseen käyttöön. Reserviläiset voivat varata yhdistyksen laina-aseita on seuraavalla lomakkeella. Tarkista vuorot ja varausehdot lomakkeelta. \nJos olet tulossa ensimmäistä kertaa ulkorata vuoroille\, pidetään pienimuotoinen perehdytys ratatoimintaan. Ilmoittaudu radalle tullessasi ammunnan johtajalle\, että olet ensimmäistä kertaa paikalla. Perehdytyksessä käydään läpi yhteiset pelisäännöt ja toimintatavat. \nJokaisella ampujalla tulee olla voimassa oleva Reserviläisten ampumaturva tai SAL:n kilpailu/harrastajalisenssi. Muista kirjata jokainen ampumakertasi piirien ratapäiväkirjaan.
URL:https://www.vihma.fi/tapahtuma/ulkoratavuoro-heinjoki-4/2025-03-20/
LOCATION:Heinjoen ampumaurheilukeskus\, Savitie 118\, Hiltulanlahti\, 70870\, Suomi
CATEGORIES:Ammunta
GEO:62.7948279;27.5626754
X-APPLE-STRUCTURED-LOCATION;VALUE=URI;X-ADDRESS=Heinjoen ampumaurheilukeskus Savitie 118 Hiltulanlahti 70870 Suomi;X-APPLE-RADIUS=500;X-TITLE=Savitie 118:geo:27.5626754,62.7948279
END:VEVENT
BEGIN:VEVENT
DTSTART;TZID=Europe/Helsinki:20250321T160000
DTEND;TZID=Europe/Helsinki:20250323T150000
DTSTAMP:20260419T205916
CREATED:20250116T134536Z
LAST-MODIFIED:20250116T135024Z
UID:10003542-1742572800-1742742000@www.vihma.fi
SUMMARY:Talvijotos "Rovajotos" 2025
DESCRIPTION:Reserviläisurheiluliiton valtakunnallinen talvijotos 2025 pidetään 21.3.- 23.3. Someroharjulla\, Rovaniemellä. Jotos on kaikille avoin partioiden välinen sotilastaitokilpailu sekä kunto- ja liikuntatapahtuma. Osallistujilta vaaditaan vähintään 18 vuoden ikää ja riittävää fyysistä kuntoa hiihtomarssia varten. Jotos on fyysisesti vaativa ja tehtävärasteilla mitataan pääasiassa sotilastaitoja\, mutta varusmiespalvelun suorittaminen sinänsä ei ole vaatimuksena\, jos muuta kautta on hankittuna vastaavaa osaamista. Kilpailijoille suositellaan omaa vakuutusta. \n  \nJotoksella kilpaillaan 3-4 -henkisissä partioissa ja se alkaa perjantai-iltana 21.3.2025 Someroharjun varuskunnassa ilmoittautumisella ja varusteiden jaolla\, sekä jotoksen alkupuhuttelulla.  Varsinainen kilpailu käynnistyy lauantaiaamuna 22.3. sisältäen etenemistä maastossa hiihtäen. Lauantain ja sunnuntain aikana matkan varrella partiot suorittavat erilaisia tehtävärasteja\, joilla mitataan osallistujien ampuma-\, ensiapu\, maasto- ja erilaisia sotilaallisia taitoja. Sotilastaitokilpailussa on yksi sarja ja kolme parasta partiota palkitaan. Jotos päättyy sunnuntaina 23.3. klo 15 mennessä. \n  \nKuljettava matka on noin 30-40 km. Tärkeimpiä tehtäväalueita jotoksella ovat: reserviläistiedot ja -taidot\, suunnistus ja kartanluku\, ensiapu- ja pelastuspalvelutoiminta\, erävaellustiedot ja -taidot sekä luonto- ja yleistiedot. Partiolla tulee olla mukanaan kilpailun aikana tarvittava muona\, keitto- ja ruokailuvälineet\, majoittumisvälineet (teltat järjestäjien puolesta)\, pimeäsuunnistusvälineet\, matkapuhelin ja tilanteen mukainen vaatetus. \n  \nOsallistujille jaetaan PV:n lumipuvut\, huopavuorikumisaappaat\, sukset ja sauvat. Majoittumiseen la-su väliseksi yöksi on varattu puolijoukkueteltat kamiinoineen. Tehtävärasteilla kalusto on järjestäjien puolesta. Osallistujille tullaan tarjoamaan ruokaa ennen kilpailua sekä kilpailun jälkeen. Muilta osin osallistujat käyttävät omia varusteitaan ja tukeutuvat omaan ruokahuoltoon. Pe-la majoitus on kasarmimajoitus\, la-su maasto-olosuhteissa puolijoukkueteltassa. Viimeistään kahta viikkoa ennen jotosta kilpailijoille lähetetään ennakko-ohje\, jossa on mainittu mm. pakolliset henkilö- ja ryhmäkohtaiset varusteet. \nIlmoittautuminen 23.2.2025 mennessä RESUL:n kilpailukalenterin kautta https://resul-kalenteri.fi/tapahtuma-ilmoitus/rovajotos-2025/ \nPartion osallistumismaksu: 200€ \nMaksu ilmoittautumisen yhteydessä.
URL:https://www.vihma.fi/tapahtuma/talvijotos-rovajotos-2025/
LOCATION:Rovaniemi
CATEGORIES:JOTOS
END:VEVENT
BEGIN:VEVENT
DTSTART;TZID=Europe/Helsinki:20250321T180000
DTEND;TZID=Europe/Helsinki:20250321T200000
DTSTAMP:20260419T205916
CREATED:20230618T165637Z
LAST-MODIFIED:20241231T132915Z
UID:10003469-1742580000-1742587200@www.vihma.fi
SUMMARY:Omatoimi ulkoratavuoro Heinjoki
DESCRIPTION:Pohjois-Savon reservipiirien ja Kuopion ampuma- ja metsästysseuran (KAMS) yhteinen kiväärivuoro Heinjoen luodikkoradalla klo 18-20. \nOletko tulossa ensimmäistä kertaa viikkovuorolle? Tutustu toimintaa helpottaviin ohjeisiin Vihman nettisivuilla. \nHeinjoen perjantain vuorot toimivat toistaiseksi omatoimivuoroina ja lainakalustoa ei ole saatavilla\, jos ei muuta ole mainittu. Ampujilla tulee näillä vuoroilla olla omat avaimet tai muu tapa päästä radalle\, omat paikkatarvikkeet sekä taulut. \nJokaisella ampujalla tulee olla voimassa oleva Reserviläisten ampumaturva tai SAL:n kilpailu/harrastajalisenssi. Muistakaa kirjata ampumasuoritteet radan päiväkirjaan.
URL:https://www.vihma.fi/tapahtuma/ulkoratavuoro-heinjoki-3-2/2025-03-21/
LOCATION:Heinjoen ampumaurheilukeskus\, Savitie 118\, Hiltulanlahti\, 70870\, Suomi
CATEGORIES:Ammunta
GEO:62.7948279;27.5626754
X-APPLE-STRUCTURED-LOCATION;VALUE=URI;X-ADDRESS=Heinjoen ampumaurheilukeskus Savitie 118 Hiltulanlahti 70870 Suomi;X-APPLE-RADIUS=500;X-TITLE=Savitie 118:geo:27.5626754,62.7948279
END:VEVENT
BEGIN:VEVENT
DTSTART;VALUE=DATE:20250322
DTEND;VALUE=DATE:20250324
DTSTAMP:20260419T205916
CREATED:20250225T093842Z
LAST-MODIFIED:20260416T174023Z
UID:10002810-1742601600-1742774399@www.vihma.fi
SUMMARY:Rissalan ampumaradan viikonloppukäyttö
DESCRIPTION:Rissalan ampumaradalla on mahdollista käydä ampumassa myös viikonloppuisin viikkovuorojen ulkopuolella. Tämä vaatii kulkuluvan\, jonka hakemiseen löydät ohjeen Vihman ammunta -sivustolta. Jokainen radankäyttäjä on velvollinen noudattamaan Rissalan ampumaradan johtosääntöä. Johtosääntöä on noudatettava kaikissa olosuhteissa ja ampumapaikat on siistittävä ammuntojen jälkeen. Muistetaan myös samalla huomioida muut radan käyttäjät. \nKarjalan Lennosto on 16.2.2026 linjannut\, että toistaiseksi liikemaaliradalle ei saa mennä\, kun pistooliradalla ammutaan. Syy liittyy tilanteeseen\, jossa liikemaaliradalle tuli kimmoke ammuntojen aikana pistooliradalta. Asiaa on tutkittu ja selvitetty ja johtopäätös on\, että kimmokkeet aiheuttaa jäätynyt pistooliradan taustavalli\, muuta selitytä lennosto ei ole tähän ole löytänyt. \nTurvallisten ammuntojen suorittamiseksi talviaikana jotta mahdollisilta uusilta kimmokkeiden aiheuttamilta tilanteilta vältyttäisiin\, tehdään seuraava tarkennus: \n\nKun varataan käyttöön liikemaalirata\, tulee samalla varata myös pistoolirata\, jotta sen käyttö esim. vartioston harjoitteluun on samalla ampumavuorolla estetty.\nTämä linjaus on voimassa sen aikaa\, kun voidaan varmistua\, että taustavalli on pehmennyt ja ns. ”imee” pistooliradan laukaukset vallin sisälle eli kevään koittaessa ja maan pinnan sulettua.\n\nTiedossa olevat poikkeukset jolloin ampumarata tai sen osia ei ole käytettävissä: \nSulkuihin merkitty harjoitus käytössä oleva ampumarata sekä aikamääreet\, jos tiedossa. \nLa 18.4. (Pistooli\, kivääri)\nSu 19.4. (Pistooli)\nLa-su 25.-26.4. (Pistooli\, kivääri)\nLa 9.5. (Pistooli\, kivääri)\n18.5.-20.6.2026 (Kaikki radat poissa käytöstä)\nLa 27.6. (Pistooli\, kivääri)\nLa 4.7. (Pistooli\, kivääri)\nLa 1.8. (Pistooli\, kivääri)\nLa-su 8.-9.8. (Kivääri)\nLa-su 15.-16.8. (Kivääri)\nLa-su 22.-23.8. (Pistooli\, kivääri)\nLa-su 5.-6.9. (Kivääri)\nLa 12.9. (Pistooli\, kivääri)\nLa-su 10.-11.10. (Kivääri)\nLa 17.10. (Pistooli)\n19.-27.11.2026 (Kaikki radat poissa käytöstä)\nLa-su 31.10.-1.11. (Pistooli\, kivääri)\nLa 28.11. (Pistooli\, kivääri) \nHuom! Karjalan lennosto pidättää oikeudet muutoksiin. Lennoston harjoitustoiminta menee kaiken edelle. Ammunta on kokonaan kielletty juhlapyhinä\, joulu- ja juhannusaattoina sekä pääsiäislauantaina. \n 
URL:https://www.vihma.fi/tapahtuma/rissalan-ampumaradan-viikonloppu-2/2025-03-22/
CATEGORIES:Ammunta
END:VEVENT
BEGIN:VEVENT
DTSTART;TZID=Europe/Helsinki:20250323T130000
DTEND;TZID=Europe/Helsinki:20250323T150000
DTSTAMP:20260419T205916
CREATED:20250319T085410Z
LAST-MODIFIED:20250319T085410Z
UID:10003930-1742734800-1742742000@www.vihma.fi
SUMMARY:Liikuntailtapäivä Vesannolla
DESCRIPTION:OHJELMASSA LIIKKUMISTA KÄVELLEN TAI LUMIKENGILLÄ (OMAT MUKAAN). \nTONIN LAAVULLA MAKKARATULET. \nOSOITE PIRTINTIE 79\, 72300 VESANTO. LUOTA KARTTAA\, ÄLÄ MAPSIIN! \nTAPAHTUMASSA ON MYÖS MAHDOLLISTA AMPUA 9MM/ARSKA JOS ON HARRASTEKERRALLE\nTARVETTA. \nILMOITTAUTUMINEN 20.3.2025 MENNESSÄ viitamaen.toni@gmail.com tai 0400 366 208 vatsapilla Toni L \nT: Vesannon reserviläiset
URL:https://www.vihma.fi/tapahtuma/liikuntailtapaiva-vesannolla/
LOCATION:Vesanto
END:VEVENT
END:VCALENDAR