BEGIN:VCALENDAR
VERSION:2.0
PRODID:-//Vihma.fi - ECPv6.15.20//NONSGML v1.0//EN
CALSCALE:GREGORIAN
METHOD:PUBLISH
X-WR-CALNAME:Vihma.fi
X-ORIGINAL-URL:https://www.vihma.fi
X-WR-CALDESC:Tapahtumat Vihma.fi
REFRESH-INTERVAL;VALUE=DURATION:PT1H
X-Robots-Tag:noindex
X-PUBLISHED-TTL:PT1H
BEGIN:VTIMEZONE
TZID:Europe/Helsinki
BEGIN:DAYLIGHT
TZOFFSETFROM:+0200
TZOFFSETTO:+0300
TZNAME:EEST
DTSTART:20230326T010000
END:DAYLIGHT
BEGIN:STANDARD
TZOFFSETFROM:+0300
TZOFFSETTO:+0200
TZNAME:EET
DTSTART:20231029T010000
END:STANDARD
BEGIN:DAYLIGHT
TZOFFSETFROM:+0200
TZOFFSETTO:+0300
TZNAME:EEST
DTSTART:20240331T010000
END:DAYLIGHT
BEGIN:STANDARD
TZOFFSETFROM:+0300
TZOFFSETTO:+0200
TZNAME:EET
DTSTART:20241027T010000
END:STANDARD
BEGIN:DAYLIGHT
TZOFFSETFROM:+0200
TZOFFSETTO:+0300
TZNAME:EEST
DTSTART:20250330T010000
END:DAYLIGHT
BEGIN:STANDARD
TZOFFSETFROM:+0300
TZOFFSETTO:+0200
TZNAME:EET
DTSTART:20251026T010000
END:STANDARD
END:VTIMEZONE
BEGIN:VEVENT
DTSTART;TZID=Europe/Helsinki:20240501T080000
DTEND;TZID=Europe/Helsinki:20240930T170000
DTSTAMP:20260420T220253
CREATED:20240329T103546Z
LAST-MODIFIED:20240329T103645Z
UID:10002204-1714550400-1727715600@www.vihma.fi
SUMMARY:Pyöräilyn kilometrikisa 1.5.-30.9.2024
DESCRIPTION:HUOMIO!\nOn aika jälleen kaivaa polkupyörät varastoista keväthuoltoa varten.\nVuoden 2024 pyöräilyn kilometrikisa lähestyy. 1.5.-30.9.2024 välisenä aikana pidetään ketjua kireällä Pohjois-Savon reserviläispiirien yhteisellä joukkueella.\n”Vihman Reservi”\nLiittyäksesi joukkueeseen\, mene kilometrikisa sivuille ja kirjaudu tai rekisteröidy itsesi sisään ja liity joukkueeseen Vihman reservi. Liittymiskoodi on ”Vihma84462”\n”Vihman Reservi” joukkueella kilometritavoite olisi edellisen vuoden tapaan jokseenkin vapaa. Kilometrejä kuitenkin keräillään pitkin kisaa ja olisi mukavaa jos kilometripäivityksiä tulisi suhteellisen säännöllisesti. Kaikki kilometrit lasketaan.\nMikäli mieleesi tulee kysymyksiä tai tarvitset ohjeita\, lue ensin tämä:\nLisätietoa kilometrikisan sivuilla.\nHuomio! Polarin tuotteiden käyttäjät. Kirjaaminen helpottuu huomattavasti ottamalla polar flown käyttöön\nkilometrikisa polar-flow
URL:https://www.vihma.fi/tapahtuma/pyorailyn-kilometrikisa-1-5-30-9-2024/
CATEGORIES:Liikunta
END:VEVENT
BEGIN:VEVENT
DTSTART;TZID=Europe/Helsinki:20240507T180000
DTEND;TZID=Europe/Helsinki:20240507T200000
DTSTAMP:20260420T220253
CREATED:20240417T162150Z
LAST-MODIFIED:20240417T163104Z
UID:10002232-1715104800-1715112000@www.vihma.fi
SUMMARY:Viikkoammunnat Iisalmi\, kivääri. / Kivääriesittely Hanhilammella
DESCRIPTION:Erilaisten kiväärien ja kiväärilajien esittelyilta 100m kivääriradalla Hanhilammen ampumaradalla. \nPaikan päällä nähtävänä ja kokeiltavana kiväärikalustoa. Lisäksi tietoa kiväärilajeista\, harrastuksen aloittamisesta yms.
URL:https://www.vihma.fi/tapahtuma/kivaariesittely-hanhilammella/
LOCATION:Hanhilammentie 99 Iisalmi\, Hanhilammentie 99\, Iisalmi
CATEGORIES:Ammunta
GEO:63.6116096;27.0718359
X-APPLE-STRUCTURED-LOCATION;VALUE=URI;X-ADDRESS=Hanhilammentie 99 Iisalmi Hanhilammentie 99 Iisalmi;X-APPLE-RADIUS=500;X-TITLE=Hanhilammentie 99:geo:27.0718359,63.6116096
END:VEVENT
BEGIN:VEVENT
DTSTART;TZID=Europe/Helsinki:20240508T180000
DTEND;TZID=Europe/Helsinki:20240508T200000
DTSTAMP:20260420T220253
CREATED:20240228T193017Z
LAST-MODIFIED:20250113T190828Z
UID:10001649-1715191200-1715198400@www.vihma.fi
SUMMARY:Ulkoratavuoro Rissala
DESCRIPTION:Ampumaratavuoro keskiviikkoisin Karjalan lennoston radalla Rissalassa. \nVuorolle pitää olla voimassa oleva kulkulupa PV:n alueelle. \nHUOM! Kaikkien radalle saapuvien on käytävä toistaiseksi ilmoittautumassa päävartiossa! \nIlmoita päävartiossa meneväsi reserviläisten ampumavuorolle ja esitä ajo-/henkilökortti sekä yhdistyksen jäsenkortti. Kuittaat sieltä mukaasi vierailijakortin\, joka pitää palauttaa lähtiessä. \nErikseen mainituille ratavuoroille on mahdollista varata laina-aseita. Vuoron alussa laina-ase ampujat maksavat osallistumismaksun\, joka sisältää mm. aseiden käytön\, ratamaksun\, patruunat\, taulut\, paikkatarvikkeet ja mahdolliset muut laina- varusteet. Reserviläiset voivat varata yhdistyksen laina-aseita seuraavalla lomakkeella. Tarkista vuorot ja varausehdot lomakkeelta. \nHUOM! RISSALAN KIVÄÄRIVUOROILLE EI OLE TÄLLÄ HETKELLÄ SAATAVISSA LAINAKALUSTOA! \nOletko tulossa ensimmäistä kertaa viikkovuorolle? Tutustu toimintaa helpottaviin ohjeisiin Vihman nettisivuilla. \nRatavuorot ja niihin liittyvät huomiot: \nTammikuu \nKE 15.1.2025 Pistooli klo18-20 \nKE 22.1.2025 Kivääri 300M klo18-20
URL:https://www.vihma.fi/tapahtuma/ulkoratavuoro-rissala-4-2022-09-28-2/2024-05-08/
LOCATION:Rissala\, Leppälammentie\, Toivala\, 70900
CATEGORIES:Ammunta
ORGANIZER;CN="Pohjois-Savon reservipiirit":MAILTO:toiminnanjohtaja@vihma.fi
GEO:62.9927132;27.788968
X-APPLE-STRUCTURED-LOCATION;VALUE=URI;X-ADDRESS=Rissala Leppälammentie Toivala 70900;X-APPLE-RADIUS=500;X-TITLE=Leppälammentie:geo:27.788968,62.9927132
END:VEVENT
BEGIN:VEVENT
DTSTART;VALUE=DATE:20240509
DTEND;VALUE=DATE:20240513
DTSTAMP:20260420T220253
CREATED:20240308T052826Z
LAST-MODIFIED:20240329T100730Z
UID:10002173-1715212800-1715558399@www.vihma.fi
SUMMARY:Resul Four Day March #R4DM24
DESCRIPTION:RESUL FOUR DAY MARCH 9.-12.5.2024\nRESUL Four Day March on kaikille avoin kansainvälinen nelipäiväinen etämarssitapahtuma.\n\n\nTervetuloa suositulle Reserviläisurheiluliiton etämarssille\, joka järjestetään nyt viidettä kertaa! Sinä valitset missä ja milloin marssit. Tallennat vain kulkemasi reitin digitaalisesti ja syötät tulokset. Hyväksyttyyn suoritukseen tarvitaan vain 10 km matka neljän päivän aikana. Osallistumalla olet myös mukana tuotepalkintojen arvonnassa. Tapahtuman kautta tuhannet ihmiset ovat löytäneet iloa liikunnasta ja ulkoilusta. Tule mukaan!\n\nPaikallisilla kerhoilla ja yhdistyksillä on tilaisuuden aikana yhteislähtöjä. Lisätietoa niiden omilla infokanavilla…\n\n\nReitin tallentamiseen käy myös heiaheia-sovellus\, jonka kanssa RESUL on solminut yhteistyön\nLisätietoa linkistä reserviläisurheiluliiton kuntokortti sivulle\n\nVarustelekan vinkkejä marssimiseen.
URL:https://www.vihma.fi/tapahtuma/resul-four-day-march-rfdm/
CATEGORIES:Liikunta
END:VEVENT
BEGIN:VEVENT
DTSTART;TZID=Europe/Helsinki:20240510T180000
DTEND;TZID=Europe/Helsinki:20240510T200000
DTSTAMP:20260420T220253
CREATED:20230618T165637Z
LAST-MODIFIED:20241231T132915Z
UID:10001547-1715364000-1715371200@www.vihma.fi
SUMMARY:Omatoimi ulkoratavuoro Heinjoki
DESCRIPTION:Pohjois-Savon reservipiirien ja Kuopion ampuma- ja metsästysseuran (KAMS) yhteinen kiväärivuoro Heinjoen luodikkoradalla klo 18-20. \nOletko tulossa ensimmäistä kertaa viikkovuorolle? Tutustu toimintaa helpottaviin ohjeisiin Vihman nettisivuilla. \nHeinjoen perjantain vuorot toimivat toistaiseksi omatoimivuoroina ja lainakalustoa ei ole saatavilla\, jos ei muuta ole mainittu. Ampujilla tulee näillä vuoroilla olla omat avaimet tai muu tapa päästä radalle\, omat paikkatarvikkeet sekä taulut. \nJokaisella ampujalla tulee olla voimassa oleva Reserviläisten ampumaturva tai SAL:n kilpailu/harrastajalisenssi. Muistakaa kirjata ampumasuoritteet radan päiväkirjaan.
URL:https://www.vihma.fi/tapahtuma/ulkoratavuoro-heinjoki-3-2/2024-05-10/
LOCATION:Heinjoen ampumaurheilukeskus\, Savitie 118\, Hiltulanlahti\, 70870\, Suomi
CATEGORIES:Ammunta
GEO:62.7948279;27.5626754
X-APPLE-STRUCTURED-LOCATION;VALUE=URI;X-ADDRESS=Heinjoen ampumaurheilukeskus Savitie 118 Hiltulanlahti 70870 Suomi;X-APPLE-RADIUS=500;X-TITLE=Savitie 118:geo:27.5626754,62.7948279
END:VEVENT
END:VCALENDAR