BEGIN:VCALENDAR
VERSION:2.0
PRODID:-//Vihma.fi - ECPv6.15.20//NONSGML v1.0//EN
CALSCALE:GREGORIAN
METHOD:PUBLISH
X-WR-CALNAME:Vihma.fi
X-ORIGINAL-URL:https://www.vihma.fi
X-WR-CALDESC:Tapahtumat Vihma.fi
REFRESH-INTERVAL;VALUE=DURATION:PT1H
X-Robots-Tag:noindex
X-PUBLISHED-TTL:PT1H
BEGIN:VTIMEZONE
TZID:Europe/Helsinki
BEGIN:DAYLIGHT
TZOFFSETFROM:+0200
TZOFFSETTO:+0300
TZNAME:EEST
DTSTART:20230326T010000
END:DAYLIGHT
BEGIN:STANDARD
TZOFFSETFROM:+0300
TZOFFSETTO:+0200
TZNAME:EET
DTSTART:20231029T010000
END:STANDARD
BEGIN:DAYLIGHT
TZOFFSETFROM:+0200
TZOFFSETTO:+0300
TZNAME:EEST
DTSTART:20240331T010000
END:DAYLIGHT
BEGIN:STANDARD
TZOFFSETFROM:+0300
TZOFFSETTO:+0200
TZNAME:EET
DTSTART:20241027T010000
END:STANDARD
BEGIN:DAYLIGHT
TZOFFSETFROM:+0200
TZOFFSETTO:+0300
TZNAME:EEST
DTSTART:20250330T010000
END:DAYLIGHT
BEGIN:STANDARD
TZOFFSETFROM:+0300
TZOFFSETTO:+0200
TZNAME:EET
DTSTART:20251026T010000
END:STANDARD
END:VTIMEZONE
BEGIN:VEVENT
DTSTART;TZID=Europe/Helsinki:20240424T180000
DTEND;TZID=Europe/Helsinki:20240424T200000
DTSTAMP:20260421T011925
CREATED:20240228T193017Z
LAST-MODIFIED:20250113T190828Z
UID:10001647-1713981600-1713988800@www.vihma.fi
SUMMARY:Ulkoratavuoro Rissala
DESCRIPTION:Ampumaratavuoro keskiviikkoisin Karjalan lennoston radalla Rissalassa. \nVuorolle pitää olla voimassa oleva kulkulupa PV:n alueelle. \nHUOM! Kaikkien radalle saapuvien on käytävä toistaiseksi ilmoittautumassa päävartiossa! \nIlmoita päävartiossa meneväsi reserviläisten ampumavuorolle ja esitä ajo-/henkilökortti sekä yhdistyksen jäsenkortti. Kuittaat sieltä mukaasi vierailijakortin\, joka pitää palauttaa lähtiessä. \nErikseen mainituille ratavuoroille on mahdollista varata laina-aseita. Vuoron alussa laina-ase ampujat maksavat osallistumismaksun\, joka sisältää mm. aseiden käytön\, ratamaksun\, patruunat\, taulut\, paikkatarvikkeet ja mahdolliset muut laina- varusteet. Reserviläiset voivat varata yhdistyksen laina-aseita seuraavalla lomakkeella. Tarkista vuorot ja varausehdot lomakkeelta. \nHUOM! RISSALAN KIVÄÄRIVUOROILLE EI OLE TÄLLÄ HETKELLÄ SAATAVISSA LAINAKALUSTOA! \nOletko tulossa ensimmäistä kertaa viikkovuorolle? Tutustu toimintaa helpottaviin ohjeisiin Vihman nettisivuilla. \nRatavuorot ja niihin liittyvät huomiot: \nTammikuu \nKE 15.1.2025 Pistooli klo18-20 \nKE 22.1.2025 Kivääri 300M klo18-20
URL:https://www.vihma.fi/tapahtuma/ulkoratavuoro-rissala-4-2022-09-28-2/2024-04-24/
LOCATION:Rissala\, Leppälammentie\, Toivala\, 70900
CATEGORIES:Ammunta
ORGANIZER;CN="Pohjois-Savon reservipiirit":MAILTO:toiminnanjohtaja@vihma.fi
GEO:62.9927132;27.788968
X-APPLE-STRUCTURED-LOCATION;VALUE=URI;X-ADDRESS=Rissala Leppälammentie Toivala 70900;X-APPLE-RADIUS=500;X-TITLE=Leppälammentie:geo:27.788968,62.9927132
END:VEVENT
BEGIN:VEVENT
DTSTART;TZID=Europe/Helsinki:20240425T180000
DTEND;TZID=Europe/Helsinki:20240425T200000
DTSTAMP:20260421T011925
CREATED:20230120T112633Z
LAST-MODIFIED:20251123T212455Z
UID:10001493-1714068000-1714075200@www.vihma.fi
SUMMARY:Ulkoratavuoro Heinjoki
DESCRIPTION:Pohjois-Savon reservipiirien kiväärivuoro Kuopiossa Heinjoen luodikkoradalla torstaisin klo 18-20. \nOletko tulossa ensimmäistä kertaa viikkovuorolle? Tutustu toimintaa helpottaviin ohjeisiin Vihman nettisivuilla. \nAlueelle saavuttaessa on automaattinen portti\, joka tullaan avaamaan noin klo 17.30. \nErikseen mainituille ratavuoroille on mahdollista varata laina-aseita. Vuoron alussa laina-ase ampujat maksavat osallistumismaksun\, joka sisältää mm. aseiden käytön\, ratamaksun\, patruunat\, taulut\, paikkatarvikkeet ja mahdolliset muut laina- varusteet. Patruunoita ei myydä ratavuorojen ulkopuoliseen käyttöön. Reserviläiset voivat varata yhdistyksen laina-aseita on seuraavalla lomakkeella. Tarkista vuorot ja varausehdot lomakkeelta. \nJos olet tulossa ensimmäistä kertaa ulkorata vuoroille\, pidetään pienimuotoinen perehdytys ratatoimintaan. Ilmoittaudu radalle tullessasi ammunnan johtajalle\, että olet ensimmäistä kertaa paikalla. Perehdytyksessä käydään läpi yhteiset pelisäännöt ja toimintatavat. \nJokaisella ampujalla tulee olla voimassa oleva Reserviläisten ampumaturva tai SAL:n kilpailu/harrastajalisenssi. Muista kirjata jokainen ampumakertasi piirien ratapäiväkirjaan.
URL:https://www.vihma.fi/tapahtuma/ulkoratavuoro-heinjoki-4/2024-04-25/
LOCATION:Heinjoen ampumaurheilukeskus\, Savitie 118\, Hiltulanlahti\, 70870\, Suomi
CATEGORIES:Ammunta
GEO:62.7948279;27.5626754
X-APPLE-STRUCTURED-LOCATION;VALUE=URI;X-ADDRESS=Heinjoen ampumaurheilukeskus Savitie 118 Hiltulanlahti 70870 Suomi;X-APPLE-RADIUS=500;X-TITLE=Savitie 118:geo:27.5626754,62.7948279
END:VEVENT
BEGIN:VEVENT
DTSTART;VALUE=DATE:20240426
DTEND;VALUE=DATE:20240429
DTSTAMP:20260421T011925
CREATED:20240308T052410Z
LAST-MODIFIED:20240329T100632Z
UID:10002172-1714089600-1714348799@www.vihma.fi
SUMMARY:Varusteleka Etäsotilasmarssi  26.-28.4.2024
DESCRIPTION:  \n  \nVarustelekan tapahtumasivu \n  \nVarustelekan vinkkejä tapahtumaa ajatellen.
URL:https://www.vihma.fi/tapahtuma/varusteleka-etasotilasmarssi-2/
CATEGORIES:Liikunta
END:VEVENT
BEGIN:VEVENT
DTSTART;VALUE=DATE:20240427
DTEND;VALUE=DATE:20240428
DTSTAMP:20260421T011925
CREATED:20240308T052328Z
LAST-MODIFIED:20240308T053123Z
UID:10002171-1714176000-1714262399@www.vihma.fi
SUMMARY:Varusteleka Etäsotilasmarssi
DESCRIPTION:
URL:https://www.vihma.fi/tapahtuma/varusteleka-etasotilasmarssi/
CATEGORIES:Liikunta
END:VEVENT
BEGIN:VEVENT
DTSTART;TZID=Europe/Helsinki:20240428T100000
DTEND;TZID=Europe/Helsinki:20240428T170000
DTSTAMP:20260421T011925
CREATED:20240318T092325Z
LAST-MODIFIED:20240425T085728Z
UID:10002187-1714298400-1714323600@www.vihma.fi
SUMMARY:Pohjois-Savon reserviläispiirien sisärata PM ruutiaseet
DESCRIPTION:Maaningan sisärata \nsu 28.04.2024  klo  10.00 alkaen \n– Isopistooli \n– Pistoolipika \n  \nIlmoittautuminen 22.04.2024 mennessä sähköpostiin teerimaki2@gmail.com \nIlmoita viestissä seuraavat asiat: nimi\, sarja\, lajit ja yhdistys \nKilpailun eräluettelot: Eräluettelot 28.04.2024 Isopistooli ja pistoolipika \n.22 pistooleja lainattavissa paikalla\, varaukset tehdään ilmoittautumisen yhteydessä. \nOsallistumismaksut 10€/hlö/laji käteisellä.
URL:https://www.vihma.fi/tapahtuma/pohjois-savon-reservilaispiirien-sisarata-pm-ruutiaseet-2/
CATEGORIES:Ammunta
END:VEVENT
END:VCALENDAR