BEGIN:VCALENDAR
VERSION:2.0
PRODID:-//Vihma.fi - ECPv6.15.20//NONSGML v1.0//EN
CALSCALE:GREGORIAN
METHOD:PUBLISH
X-WR-CALNAME:Vihma.fi
X-ORIGINAL-URL:https://www.vihma.fi
X-WR-CALDESC:Tapahtumat Vihma.fi
REFRESH-INTERVAL;VALUE=DURATION:PT1H
X-Robots-Tag:noindex
X-PUBLISHED-TTL:PT1H
BEGIN:VTIMEZONE
TZID:Europe/Helsinki
BEGIN:DAYLIGHT
TZOFFSETFROM:+0200
TZOFFSETTO:+0300
TZNAME:EEST
DTSTART:20230326T010000
END:DAYLIGHT
BEGIN:STANDARD
TZOFFSETFROM:+0300
TZOFFSETTO:+0200
TZNAME:EET
DTSTART:20231029T010000
END:STANDARD
BEGIN:DAYLIGHT
TZOFFSETFROM:+0200
TZOFFSETTO:+0300
TZNAME:EEST
DTSTART:20240331T010000
END:DAYLIGHT
BEGIN:STANDARD
TZOFFSETFROM:+0300
TZOFFSETTO:+0200
TZNAME:EET
DTSTART:20241027T010000
END:STANDARD
BEGIN:DAYLIGHT
TZOFFSETFROM:+0200
TZOFFSETTO:+0300
TZNAME:EEST
DTSTART:20250330T010000
END:DAYLIGHT
BEGIN:STANDARD
TZOFFSETFROM:+0300
TZOFFSETTO:+0200
TZNAME:EET
DTSTART:20251026T010000
END:STANDARD
END:VTIMEZONE
BEGIN:VEVENT
DTSTART;TZID=Europe/Helsinki:20240416T173000
DTEND;TZID=Europe/Helsinki:20240416T210000
DTSTAMP:20260421T011922
CREATED:20240412T061458Z
LAST-MODIFIED:20240412T061546Z
UID:10002222-1713288600-1713301200@www.vihma.fi
SUMMARY:POHJOIS-SAVON  RESERVIUPSEERIPIIRI RY - SÄÄNTÖMÄÄRÄINEN KEVÄTKOKOUS
DESCRIPTION:AIKA: Tiistai 16.4.2024 n. klo 19.00\nPAIKKA: Savon Koulutuskuntayhtymä\, Hehkukatu 1\, pääovi; ravintolamaailman aula\, 1. krs \nKäsiteltävät asiat: Sääntöjen kevätkokoukselle määräämät asiat \nKahvitarjoilu klo 17:30 \nPohjois-Savon Reservipiirien yhteinen esitelmätilaisuus klo 18:00 (myös Teams) \nKokous n klo 19:00 \nJokaisella Pohjois-Savon Reserviupseeripiiriin kuuluvan yhdistyksen jäsenellä on vaihtoehtona mahdollisuus osallistua piirin kevätkokoukseen Teams-yhteydellä.
URL:https://www.vihma.fi/tapahtuma/pohjois-savon-reserviupseeripiiri-ry-saantomaarainen-kevatkokous-2/
CATEGORIES:Kokoukset
ORGANIZER;CN="Pohjois-Savon Reserviupseeripiiri":MAILTO:toiminnanjohtaja@vihma.fi
END:VEVENT
BEGIN:VEVENT
DTSTART;TZID=Europe/Helsinki:20240416T173000
DTEND;TZID=Europe/Helsinki:20240416T210000
DTSTAMP:20260421T011922
CREATED:20240412T061901Z
LAST-MODIFIED:20240412T062214Z
UID:10002223-1713288600-1713301200@www.vihma.fi
SUMMARY:POHJOIS-SAVON RESERVILÄISPIIRI RY - SÄÄNTÖMÄÄRÄINEN KEVÄTKOKOUS
DESCRIPTION:AIKA: Tiistai 16.4.2024 n. klo 19.00\nPAIKKA: Savon Koulutuskuntayhtymä\, Hehkukatu 1\, pääovi; ravintolamaailman aula\, 1. krs \nKäsiteltävät asiat:Sääntöjen kevätkokoukselle määräämät asiat \nKahvitarjoilu klo 17:30 \nPohjois-Savon Reservipiirien yhteinen esitelmätilaisuus klo 18:00 (myös Teams) \nKokous n. klo 19:00 \nJokaisella Pohjois-Savon Reserviläispiiriin kuuluvan yhdistyksen jäsenellä on vaihtoehtona mahdollisuus osallistua piirin kevätkokoukseen Teams-yhteydellä.
URL:https://www.vihma.fi/tapahtuma/pohjois-savon-reservilaispiiri-ry-saantomaarainen-kevatkokous-2/
CATEGORIES:Kokoukset
ORGANIZER;CN="Pohjois-Savon Reservil%C3%A4ispiiri":MAILTO:toiminnanjohtaja@vihma.fi
END:VEVENT
BEGIN:VEVENT
DTSTART;TZID=Europe/Helsinki:20240416T180000
DTEND;TZID=Europe/Helsinki:20240416T200000
DTSTAMP:20260421T011922
CREATED:20240411T060741Z
LAST-MODIFIED:20240411T060741Z
UID:10002220-1713290400-1713297600@www.vihma.fi
SUMMARY:Tutustumispäivä / ampumataitopäivä Hanhilammella
DESCRIPTION:Kaikille avoin tutustumishenkinen ammuntapäivä Iisalmen Hanhilammen ampumaradalla. \nPaikan päällä kivääri- ja pistoolikalustoa. 10lks kokeilusarja maksutta molemmilla asetyypeillä. Enemmänkin voi ampua patruunakustannuksia vastaan. \nPaikan päällä ohjaajilta saat myös tietoa ammuntoihin\, harrastuksen aloittamiseen\, aseen hankintaan yms liittyen. \nKahvitarjoilu. \nTervetuloa!
URL:https://www.vihma.fi/tapahtuma/tutustumispaiva-ampumataitopaiva-hanhilammella/
LOCATION:Hanhilammentie 99 Iisalmi\, Hanhilammentie 99\, Iisalmi
CATEGORIES:Ammunta
GEO:63.6116096;27.0718359
X-APPLE-STRUCTURED-LOCATION;VALUE=URI;X-ADDRESS=Hanhilammentie 99 Iisalmi Hanhilammentie 99 Iisalmi;X-APPLE-RADIUS=500;X-TITLE=Hanhilammentie 99:geo:27.0718359,63.6116096
END:VEVENT
BEGIN:VEVENT
DTSTART;TZID=Europe/Helsinki:20240417T180000
DTEND;TZID=Europe/Helsinki:20240417T200000
DTSTAMP:20260421T011922
CREATED:20240228T193017Z
LAST-MODIFIED:20250113T190828Z
UID:10001646-1713376800-1713384000@www.vihma.fi
SUMMARY:Ulkoratavuoro Rissala
DESCRIPTION:Ampumaratavuoro keskiviikkoisin Karjalan lennoston radalla Rissalassa. \nVuorolle pitää olla voimassa oleva kulkulupa PV:n alueelle. \nHUOM! Kaikkien radalle saapuvien on käytävä toistaiseksi ilmoittautumassa päävartiossa! \nIlmoita päävartiossa meneväsi reserviläisten ampumavuorolle ja esitä ajo-/henkilökortti sekä yhdistyksen jäsenkortti. Kuittaat sieltä mukaasi vierailijakortin\, joka pitää palauttaa lähtiessä. \nErikseen mainituille ratavuoroille on mahdollista varata laina-aseita. Vuoron alussa laina-ase ampujat maksavat osallistumismaksun\, joka sisältää mm. aseiden käytön\, ratamaksun\, patruunat\, taulut\, paikkatarvikkeet ja mahdolliset muut laina- varusteet. Reserviläiset voivat varata yhdistyksen laina-aseita seuraavalla lomakkeella. Tarkista vuorot ja varausehdot lomakkeelta. \nHUOM! RISSALAN KIVÄÄRIVUOROILLE EI OLE TÄLLÄ HETKELLÄ SAATAVISSA LAINAKALUSTOA! \nOletko tulossa ensimmäistä kertaa viikkovuorolle? Tutustu toimintaa helpottaviin ohjeisiin Vihman nettisivuilla. \nRatavuorot ja niihin liittyvät huomiot: \nTammikuu \nKE 15.1.2025 Pistooli klo18-20 \nKE 22.1.2025 Kivääri 300M klo18-20
URL:https://www.vihma.fi/tapahtuma/ulkoratavuoro-rissala-4-2022-09-28-2/2024-04-17/
LOCATION:Rissala\, Leppälammentie\, Toivala\, 70900
CATEGORIES:Ammunta
ORGANIZER;CN="Pohjois-Savon reservipiirit":MAILTO:toiminnanjohtaja@vihma.fi
GEO:62.9927132;27.788968
X-APPLE-STRUCTURED-LOCATION;VALUE=URI;X-ADDRESS=Rissala Leppälammentie Toivala 70900;X-APPLE-RADIUS=500;X-TITLE=Leppälammentie:geo:27.788968,62.9927132
END:VEVENT
BEGIN:VEVENT
DTSTART;TZID=Europe/Helsinki:20240418T180000
DTEND;TZID=Europe/Helsinki:20240418T200000
DTSTAMP:20260421T011922
CREATED:20230120T112633Z
LAST-MODIFIED:20251123T212455Z
UID:10001492-1713463200-1713470400@www.vihma.fi
SUMMARY:Ulkoratavuoro Heinjoki
DESCRIPTION:Pohjois-Savon reservipiirien kiväärivuoro Kuopiossa Heinjoen luodikkoradalla torstaisin klo 18-20. \nOletko tulossa ensimmäistä kertaa viikkovuorolle? Tutustu toimintaa helpottaviin ohjeisiin Vihman nettisivuilla. \nAlueelle saavuttaessa on automaattinen portti\, joka tullaan avaamaan noin klo 17.30. \nErikseen mainituille ratavuoroille on mahdollista varata laina-aseita. Vuoron alussa laina-ase ampujat maksavat osallistumismaksun\, joka sisältää mm. aseiden käytön\, ratamaksun\, patruunat\, taulut\, paikkatarvikkeet ja mahdolliset muut laina- varusteet. Patruunoita ei myydä ratavuorojen ulkopuoliseen käyttöön. Reserviläiset voivat varata yhdistyksen laina-aseita on seuraavalla lomakkeella. Tarkista vuorot ja varausehdot lomakkeelta. \nJos olet tulossa ensimmäistä kertaa ulkorata vuoroille\, pidetään pienimuotoinen perehdytys ratatoimintaan. Ilmoittaudu radalle tullessasi ammunnan johtajalle\, että olet ensimmäistä kertaa paikalla. Perehdytyksessä käydään läpi yhteiset pelisäännöt ja toimintatavat. \nJokaisella ampujalla tulee olla voimassa oleva Reserviläisten ampumaturva tai SAL:n kilpailu/harrastajalisenssi. Muista kirjata jokainen ampumakertasi piirien ratapäiväkirjaan.
URL:https://www.vihma.fi/tapahtuma/ulkoratavuoro-heinjoki-4/2024-04-18/
LOCATION:Heinjoen ampumaurheilukeskus\, Savitie 118\, Hiltulanlahti\, 70870\, Suomi
CATEGORIES:Ammunta
GEO:62.7948279;27.5626754
X-APPLE-STRUCTURED-LOCATION;VALUE=URI;X-ADDRESS=Heinjoen ampumaurheilukeskus Savitie 118 Hiltulanlahti 70870 Suomi;X-APPLE-RADIUS=500;X-TITLE=Savitie 118:geo:27.5626754,62.7948279
END:VEVENT
BEGIN:VEVENT
DTSTART;TZID=Europe/Helsinki:20240419T180000
DTEND;TZID=Europe/Helsinki:20240419T200000
DTSTAMP:20260421T011922
CREATED:20230618T165637Z
LAST-MODIFIED:20241231T132915Z
UID:10001544-1713549600-1713556800@www.vihma.fi
SUMMARY:Omatoimi ulkoratavuoro Heinjoki
DESCRIPTION:Pohjois-Savon reservipiirien ja Kuopion ampuma- ja metsästysseuran (KAMS) yhteinen kiväärivuoro Heinjoen luodikkoradalla klo 18-20. \nOletko tulossa ensimmäistä kertaa viikkovuorolle? Tutustu toimintaa helpottaviin ohjeisiin Vihman nettisivuilla. \nHeinjoen perjantain vuorot toimivat toistaiseksi omatoimivuoroina ja lainakalustoa ei ole saatavilla\, jos ei muuta ole mainittu. Ampujilla tulee näillä vuoroilla olla omat avaimet tai muu tapa päästä radalle\, omat paikkatarvikkeet sekä taulut. \nJokaisella ampujalla tulee olla voimassa oleva Reserviläisten ampumaturva tai SAL:n kilpailu/harrastajalisenssi. Muistakaa kirjata ampumasuoritteet radan päiväkirjaan.
URL:https://www.vihma.fi/tapahtuma/ulkoratavuoro-heinjoki-3-2/2024-04-19/
LOCATION:Heinjoen ampumaurheilukeskus\, Savitie 118\, Hiltulanlahti\, 70870\, Suomi
CATEGORIES:Ammunta
GEO:62.7948279;27.5626754
X-APPLE-STRUCTURED-LOCATION;VALUE=URI;X-ADDRESS=Heinjoen ampumaurheilukeskus Savitie 118 Hiltulanlahti 70870 Suomi;X-APPLE-RADIUS=500;X-TITLE=Savitie 118:geo:27.5626754,62.7948279
END:VEVENT
BEGIN:VEVENT
DTSTART;VALUE=DATE:20240420
DTEND;VALUE=DATE:20240422
DTSTAMP:20260421T011922
CREATED:20240306T203957Z
LAST-MODIFIED:20240306T203957Z
UID:10002169-1713571200-1713743999@www.vihma.fi
SUMMARY:Pohjois-Savon reserviläisten rynnäkkökivääri ampumamestaruuskilpailu
DESCRIPTION:Perinteinen Pohjois-Savon reserviläisten rynnäkkökivääri ampumamestaruuskilpailu järjestetään Karjalan lennoston ampumaradalla Rissalassa 20.4. – 21.4.2022! Tutustu kilpailukutsuun ja ilmoittautumisohjeisiin Täältä.
URL:https://www.vihma.fi/tapahtuma/pohjois-savon-reservilaisten-rynnakkokivaari-ampumamestaruuskilpailu/
CATEGORIES:Ammunta
END:VEVENT
BEGIN:VEVENT
DTSTART;TZID=Europe/Helsinki:20240420T090000
DTEND;TZID=Europe/Helsinki:20240420T150000
DTSTAMP:20260421T011922
CREATED:20240410T103027Z
LAST-MODIFIED:20240410T164803Z
UID:10002217-1713603600-1713625200@www.vihma.fi
SUMMARY:Patruunoiden latauskurssi Heinjoella
DESCRIPTION:KuoRes järjestää patruunoiden latauskurssin Heinjoen ampumaradalla\n20.4.2024. Alla olevassa linkissä on ilmoittautumisohjeet. Kurssille\nmahtuu 30 osallistujaa. \nMukaan tarvitset:\n-Kuulosuojaimet\n-Suojalasit \nhttps://kuopion-reservilaiset.reservilaisliitto.fi/tapahtuma/patruunoiden-latauskurssi/ \nKuoRes tarjoaa osallistujille kahvit ja sämpylät.
URL:https://www.vihma.fi/tapahtuma/patruunoiden-lataus-peruskurssi-heinjoella/
CATEGORIES:Koulutus
END:VEVENT
END:VCALENDAR