BEGIN:VCALENDAR
VERSION:2.0
PRODID:-//Vihma.fi - ECPv6.15.20//NONSGML v1.0//EN
CALSCALE:GREGORIAN
METHOD:PUBLISH
X-WR-CALNAME:Vihma.fi
X-ORIGINAL-URL:https://www.vihma.fi
X-WR-CALDESC:Tapahtumat Vihma.fi
REFRESH-INTERVAL;VALUE=DURATION:PT1H
X-Robots-Tag:noindex
X-PUBLISHED-TTL:PT1H
BEGIN:VTIMEZONE
TZID:Europe/Helsinki
BEGIN:DAYLIGHT
TZOFFSETFROM:+0200
TZOFFSETTO:+0300
TZNAME:EEST
DTSTART:20230326T010000
END:DAYLIGHT
BEGIN:STANDARD
TZOFFSETFROM:+0300
TZOFFSETTO:+0200
TZNAME:EET
DTSTART:20231029T010000
END:STANDARD
BEGIN:DAYLIGHT
TZOFFSETFROM:+0200
TZOFFSETTO:+0300
TZNAME:EEST
DTSTART:20240331T010000
END:DAYLIGHT
BEGIN:STANDARD
TZOFFSETFROM:+0300
TZOFFSETTO:+0200
TZNAME:EET
DTSTART:20241027T010000
END:STANDARD
BEGIN:DAYLIGHT
TZOFFSETFROM:+0200
TZOFFSETTO:+0300
TZNAME:EEST
DTSTART:20250330T010000
END:DAYLIGHT
BEGIN:STANDARD
TZOFFSETFROM:+0300
TZOFFSETTO:+0200
TZNAME:EET
DTSTART:20251026T010000
END:STANDARD
END:VTIMEZONE
BEGIN:VEVENT
DTSTART;TZID=Europe/Helsinki:20240403T180000
DTEND;TZID=Europe/Helsinki:20240403T200000
DTSTAMP:20260420T233703
CREATED:20240228T193017Z
LAST-MODIFIED:20250113T190828Z
UID:10001644-1712167200-1712174400@www.vihma.fi
SUMMARY:Ulkoratavuoro Rissala
DESCRIPTION:Ampumaratavuoro keskiviikkoisin Karjalan lennoston radalla Rissalassa. \nVuorolle pitää olla voimassa oleva kulkulupa PV:n alueelle. \nHUOM! Kaikkien radalle saapuvien on käytävä toistaiseksi ilmoittautumassa päävartiossa! \nIlmoita päävartiossa meneväsi reserviläisten ampumavuorolle ja esitä ajo-/henkilökortti sekä yhdistyksen jäsenkortti. Kuittaat sieltä mukaasi vierailijakortin\, joka pitää palauttaa lähtiessä. \nErikseen mainituille ratavuoroille on mahdollista varata laina-aseita. Vuoron alussa laina-ase ampujat maksavat osallistumismaksun\, joka sisältää mm. aseiden käytön\, ratamaksun\, patruunat\, taulut\, paikkatarvikkeet ja mahdolliset muut laina- varusteet. Reserviläiset voivat varata yhdistyksen laina-aseita seuraavalla lomakkeella. Tarkista vuorot ja varausehdot lomakkeelta. \nHUOM! RISSALAN KIVÄÄRIVUOROILLE EI OLE TÄLLÄ HETKELLÄ SAATAVISSA LAINAKALUSTOA! \nOletko tulossa ensimmäistä kertaa viikkovuorolle? Tutustu toimintaa helpottaviin ohjeisiin Vihman nettisivuilla. \nRatavuorot ja niihin liittyvät huomiot: \nTammikuu \nKE 15.1.2025 Pistooli klo18-20 \nKE 22.1.2025 Kivääri 300M klo18-20
URL:https://www.vihma.fi/tapahtuma/ulkoratavuoro-rissala-4-2022-09-28-2/2024-04-03/
LOCATION:Rissala\, Leppälammentie\, Toivala\, 70900
CATEGORIES:Ammunta
ORGANIZER;CN="Pohjois-Savon reservipiirit":MAILTO:toiminnanjohtaja@vihma.fi
GEO:62.9927132;27.788968
X-APPLE-STRUCTURED-LOCATION;VALUE=URI;X-ADDRESS=Rissala Leppälammentie Toivala 70900;X-APPLE-RADIUS=500;X-TITLE=Leppälammentie:geo:27.788968,62.9927132
END:VEVENT
BEGIN:VEVENT
DTSTART;TZID=Europe/Helsinki:20240404T180000
DTEND;TZID=Europe/Helsinki:20240404T200000
DTSTAMP:20260420T233703
CREATED:20230120T112633Z
LAST-MODIFIED:20251123T212455Z
UID:10001490-1712253600-1712260800@www.vihma.fi
SUMMARY:Ulkoratavuoro Heinjoki
DESCRIPTION:Pohjois-Savon reservipiirien kiväärivuoro Kuopiossa Heinjoen luodikkoradalla torstaisin klo 18-20. \nOletko tulossa ensimmäistä kertaa viikkovuorolle? Tutustu toimintaa helpottaviin ohjeisiin Vihman nettisivuilla. \nAlueelle saavuttaessa on automaattinen portti\, joka tullaan avaamaan noin klo 17.30. \nErikseen mainituille ratavuoroille on mahdollista varata laina-aseita. Vuoron alussa laina-ase ampujat maksavat osallistumismaksun\, joka sisältää mm. aseiden käytön\, ratamaksun\, patruunat\, taulut\, paikkatarvikkeet ja mahdolliset muut laina- varusteet. Patruunoita ei myydä ratavuorojen ulkopuoliseen käyttöön. Reserviläiset voivat varata yhdistyksen laina-aseita on seuraavalla lomakkeella. Tarkista vuorot ja varausehdot lomakkeelta. \nJos olet tulossa ensimmäistä kertaa ulkorata vuoroille\, pidetään pienimuotoinen perehdytys ratatoimintaan. Ilmoittaudu radalle tullessasi ammunnan johtajalle\, että olet ensimmäistä kertaa paikalla. Perehdytyksessä käydään läpi yhteiset pelisäännöt ja toimintatavat. \nJokaisella ampujalla tulee olla voimassa oleva Reserviläisten ampumaturva tai SAL:n kilpailu/harrastajalisenssi. Muista kirjata jokainen ampumakertasi piirien ratapäiväkirjaan.
URL:https://www.vihma.fi/tapahtuma/ulkoratavuoro-heinjoki-4/2024-04-04/
LOCATION:Heinjoen ampumaurheilukeskus\, Savitie 118\, Hiltulanlahti\, 70870\, Suomi
CATEGORIES:Ammunta
GEO:62.7948279;27.5626754
X-APPLE-STRUCTURED-LOCATION;VALUE=URI;X-ADDRESS=Heinjoen ampumaurheilukeskus Savitie 118 Hiltulanlahti 70870 Suomi;X-APPLE-RADIUS=500;X-TITLE=Savitie 118:geo:27.5626754,62.7948279
END:VEVENT
BEGIN:VEVENT
DTSTART;TZID=Europe/Helsinki:20240405T180000
DTEND;TZID=Europe/Helsinki:20240405T200000
DTSTAMP:20260420T233703
CREATED:20230618T165637Z
LAST-MODIFIED:20241231T132915Z
UID:10001542-1712340000-1712347200@www.vihma.fi
SUMMARY:Omatoimi ulkoratavuoro Heinjoki
DESCRIPTION:Pohjois-Savon reservipiirien ja Kuopion ampuma- ja metsästysseuran (KAMS) yhteinen kiväärivuoro Heinjoen luodikkoradalla klo 18-20. \nOletko tulossa ensimmäistä kertaa viikkovuorolle? Tutustu toimintaa helpottaviin ohjeisiin Vihman nettisivuilla. \nHeinjoen perjantain vuorot toimivat toistaiseksi omatoimivuoroina ja lainakalustoa ei ole saatavilla\, jos ei muuta ole mainittu. Ampujilla tulee näillä vuoroilla olla omat avaimet tai muu tapa päästä radalle\, omat paikkatarvikkeet sekä taulut. \nJokaisella ampujalla tulee olla voimassa oleva Reserviläisten ampumaturva tai SAL:n kilpailu/harrastajalisenssi. Muistakaa kirjata ampumasuoritteet radan päiväkirjaan.
URL:https://www.vihma.fi/tapahtuma/ulkoratavuoro-heinjoki-3-2/2024-04-05/
LOCATION:Heinjoen ampumaurheilukeskus\, Savitie 118\, Hiltulanlahti\, 70870\, Suomi
CATEGORIES:Ammunta
GEO:62.7948279;27.5626754
X-APPLE-STRUCTURED-LOCATION;VALUE=URI;X-ADDRESS=Heinjoen ampumaurheilukeskus Savitie 118 Hiltulanlahti 70870 Suomi;X-APPLE-RADIUS=500;X-TITLE=Savitie 118:geo:27.5626754,62.7948279
END:VEVENT
BEGIN:VEVENT
DTSTART;TZID=Europe/Helsinki:20240406T090000
DTEND;TZID=Europe/Helsinki:20240406T170000
DTSTAMP:20260420T233703
CREATED:20240316T105343Z
LAST-MODIFIED:20240316T110125Z
UID:10002182-1712394000-1712422800@www.vihma.fi
SUMMARY:MPK perinneaseammunta\, pistooli
DESCRIPTION:Tavoite\nKurssin jälkeen osallistuja on harjaantunut perinneaseammunnassa. \nKurssi antaa Pohjois-Savon yhdistysten kilpa-ampujille mahdollisuuden harjoitella ennen perinneaseiden SM-kilpailuja. \nAmmunnoissa ratkaistaan Pohjois-Savon mestaruudet. \nKenelle kurssi soveltuu\nKurssi sopii Pohjois-Savon reserviläisyhdistysten jäsenille jotka harrastavat kilpa-ammuntaa perinneaseilla (pistooli)\, sekä harrastusta aloitteleville. \nTutustu tarkempiin tietoihin ja ilmoittaudu MPK:n kurssikalenterin kautta.
URL:https://www.vihma.fi/tapahtuma/mpk-perinneaseammunta-pistooli/
CATEGORIES:Ammunta
END:VEVENT
BEGIN:VEVENT
DTSTART;TZID=Europe/Helsinki:20240407T090000
DTEND;TZID=Europe/Helsinki:20240407T170000
DTSTAMP:20260420T233703
CREATED:20240316T110023Z
LAST-MODIFIED:20240316T110128Z
UID:10002183-1712480400-1712509200@www.vihma.fi
SUMMARY:MPK perinneaseammunta\, kivääri
DESCRIPTION:Tavoite\nKurssin jälkeen kurssilainen on harjaantunut perinneaseammunnassa. \nKurssi antaa Pohjois-Savon yhdistysten kilpa-ampujille mahdollisuuden harjoitella ennen perinneaseiden SM-kilpailuja. \nAmmunnoissa ratkaistaan Pohjois-Savon mestaruudet. \nKenelle kurssi soveltuu\nKurssi sopii täysi-ikäisille Pohjois-Savon reserviläisyhdistysten jäsenille jotka harrastavat kilpa-ammuntaa perinneaseilla (kivääri)\, sekä harrastusta aloitteleville. \nTutustu tarkempiin tietoihin ja ilmoittaudu MPK:n kurssikalenterin kautta.
URL:https://www.vihma.fi/tapahtuma/mpk-perinneaseammunta-kivaari/
CATEGORIES:Ammunta
END:VEVENT
END:VCALENDAR