BEGIN:VCALENDAR
VERSION:2.0
PRODID:-//Vihma.fi - ECPv6.15.20//NONSGML v1.0//EN
CALSCALE:GREGORIAN
METHOD:PUBLISH
X-WR-CALNAME:Vihma.fi
X-ORIGINAL-URL:https://www.vihma.fi
X-WR-CALDESC:Tapahtumat Vihma.fi
REFRESH-INTERVAL;VALUE=DURATION:PT1H
X-Robots-Tag:noindex
X-PUBLISHED-TTL:PT1H
BEGIN:VTIMEZONE
TZID:Europe/Helsinki
BEGIN:DAYLIGHT
TZOFFSETFROM:+0200
TZOFFSETTO:+0300
TZNAME:EEST
DTSTART:20230326T010000
END:DAYLIGHT
BEGIN:STANDARD
TZOFFSETFROM:+0300
TZOFFSETTO:+0200
TZNAME:EET
DTSTART:20231029T010000
END:STANDARD
BEGIN:DAYLIGHT
TZOFFSETFROM:+0200
TZOFFSETTO:+0300
TZNAME:EEST
DTSTART:20240331T010000
END:DAYLIGHT
BEGIN:STANDARD
TZOFFSETFROM:+0300
TZOFFSETTO:+0200
TZNAME:EET
DTSTART:20241027T010000
END:STANDARD
BEGIN:DAYLIGHT
TZOFFSETFROM:+0200
TZOFFSETTO:+0300
TZNAME:EEST
DTSTART:20250330T010000
END:DAYLIGHT
BEGIN:STANDARD
TZOFFSETFROM:+0300
TZOFFSETTO:+0200
TZNAME:EET
DTSTART:20251026T010000
END:STANDARD
END:VTIMEZONE
BEGIN:VEVENT
DTSTART;TZID=Europe/Helsinki:20240221T000000
DTEND;TZID=Europe/Helsinki:20240221T000000
DTSTAMP:20260421T034503
CREATED:20240110T202535Z
LAST-MODIFIED:20240124T162255Z
UID:10000785-1708473600-1708473600@www.vihma.fi
SUMMARY:Ulkoratavuoro Rissala
DESCRIPTION:2024 Pohjois-Savon reservipiirien johdettu ampumaratavuoro keskiviikkoisin Karjalan lennoston radalla Rissalassa. \nVuorolle pitää olla voimassa oleva kulkulupa PV:n alueelle. \nHUOM! Kaikkien radalle saapuvien on käytävä toistaiseksi ilmoittautumassa päävartiossa! \nIlmoita päävartiossa meneväsi reserviläisten ampumavuorolle ja esitä ajo-/henkilökortti sekä yhdistyksen jäsenkortti. Kuittaat sieltä mukaasi vierailijakortin\, joka pitää palauttaa lähtiessä. \nLainakaluston varaus tästä \nOhjeet uusille ampujille \nTammikuu \nKe 31.01.2024 klo 18-20 – Pistooli \nHelmikuu \nKE 07.02.2024 klo 18-20 – Kivääri \nKE 14.02.2024 klo 18-20 – Pistooli \nKE 21.02.2024 klo 18-20 – Kivääri \nKE 28.02.2024 klo 18-20 – Pistooli \nMaaliskuu \nKE 06.03.2024 klo 18-20 – Kivääri \nKE 13.03.2024 klo 18-20 – Pistooli \nKE 20.03.2024 klo 18-20 – Kivääri \nKE 27.03.2024 klo 18-20 – Pistooli \nHuhtikuu \nKE 03.04.2024 klo 18-20 – Kivääri \nKE 10.04.2024 klo 18-20 – Pistooli \nKE 17.04.2024 klo 18-20 – Kivääri \nKE 24.04.2024 klo 18-20 – Pistooli \nToukokuu \nKE 01.05.2024 VAPPU \nKE 08.05.2024 klo 18-20 – Pistooli \nKE 15.05.2024 klo 18-20 – Kivääri \nKE 22.05.2024 klo 18-20 – Pistooli \nKE 29.05.2024 klo 18-20 – Kivääri \nKesäkuu \nKE 05.06.2024 klo 18-20 – Pistooli \nKE 12.06.2024 klo 18-20 – Kivääri \nKE 19.06.2024 klo 18-20 – Pistooli \nKE 26.06.2024 klo 18-20 – Kivääri \nHeinäkuu \nKE 03.07.2024 klo 18-20 – Pistooli \nKE 10.07.2024 klo 18-20 – Kivääri \nKE 17.07.2024 klo 18-20 – Pistooli \nKE 24.07.2024 klo 18-20 – Kivääri \nKE 31.07.2024 klo 18-20 – Pistooli \nElokuu \nKE 07.08.2024 klo 18-20 – Kivääri \nKE 14.08.2024 klo 18-20 – Pistooli \nKE 21.08.2024 klo 18-20 – Kivääri \nKE 28.08.2024 klo 18-20 – Pistooli \nSyyskuu \nKE 04.09.2024 klo 18-20 – Kivääri \nKE 11.09.2024 klo 18-20 – Pistooli \nKE 18.09.2024 klo 18-20 – Kivääri \nKE 25.09.2024 klo 18-20 – Pistooli \nLokakuu \nKE 02.10.2024 klo 18-20 – Kivääri \nKE 09.10.2024 klo 18-20 – Pistooli \nKE 16.10.2024 klo 18-20 – Kivääri \nKE 23.10.2024 klo 18-20 – Pistooli \nKE 30.10.2024 klo 18-20 – Kivääri \nMarraskuu \nKE 06.11.2024 klo 18-20 – Pistooli \nKE 13.11.2024 klo 18-20 – Kivääri \nKE 20.11.2024 klo 18-20 – Pistooli \nKE 27.11.2024 klo 18-20 – Kivääri \nJoulukuu \nKE 04.12.2024 klo 18-20 – Pistooli \nKE 11.12.2024 klo 18-20 – Kivääri \nKE 18.12.2024 klo 18-20 – Pistooli \nJOULUTAUKO
URL:https://www.vihma.fi/tapahtuma/ulkoratavuoro-rissala-4-2022-09-28/2024-02-21/
LOCATION:Rissala\, Leppälammentie\, Toivala\, 70900
CATEGORIES:Ammunta
ORGANIZER;CN="Pohjois-Savon reservipiirit":MAILTO:toiminnanjohtaja@vihma.fi
GEO:62.9927132;27.788968
X-APPLE-STRUCTURED-LOCATION;VALUE=URI;X-ADDRESS=Rissala Leppälammentie Toivala 70900;X-APPLE-RADIUS=500;X-TITLE=Leppälammentie:geo:27.788968,62.9927132
END:VEVENT
BEGIN:VEVENT
DTSTART;TZID=Europe/Helsinki:20240222T180000
DTEND;TZID=Europe/Helsinki:20240222T200000
DTSTAMP:20260421T034503
CREATED:20230120T112633Z
LAST-MODIFIED:20251123T212455Z
UID:10001484-1708624800-1708632000@www.vihma.fi
SUMMARY:Ulkoratavuoro Heinjoki
DESCRIPTION:Pohjois-Savon reservipiirien kiväärivuoro Kuopiossa Heinjoen luodikkoradalla torstaisin klo 18-20. \nOletko tulossa ensimmäistä kertaa viikkovuorolle? Tutustu toimintaa helpottaviin ohjeisiin Vihman nettisivuilla. \nAlueelle saavuttaessa on automaattinen portti\, joka tullaan avaamaan noin klo 17.30. \nErikseen mainituille ratavuoroille on mahdollista varata laina-aseita. Vuoron alussa laina-ase ampujat maksavat osallistumismaksun\, joka sisältää mm. aseiden käytön\, ratamaksun\, patruunat\, taulut\, paikkatarvikkeet ja mahdolliset muut laina- varusteet. Patruunoita ei myydä ratavuorojen ulkopuoliseen käyttöön. Reserviläiset voivat varata yhdistyksen laina-aseita on seuraavalla lomakkeella. Tarkista vuorot ja varausehdot lomakkeelta. \nJos olet tulossa ensimmäistä kertaa ulkorata vuoroille\, pidetään pienimuotoinen perehdytys ratatoimintaan. Ilmoittaudu radalle tullessasi ammunnan johtajalle\, että olet ensimmäistä kertaa paikalla. Perehdytyksessä käydään läpi yhteiset pelisäännöt ja toimintatavat. \nJokaisella ampujalla tulee olla voimassa oleva Reserviläisten ampumaturva tai SAL:n kilpailu/harrastajalisenssi. Muista kirjata jokainen ampumakertasi piirien ratapäiväkirjaan.
URL:https://www.vihma.fi/tapahtuma/ulkoratavuoro-heinjoki-4/2024-02-22/
LOCATION:Heinjoen ampumaurheilukeskus\, Savitie 118\, Hiltulanlahti\, 70870\, Suomi
CATEGORIES:Ammunta
GEO:62.7948279;27.5626754
X-APPLE-STRUCTURED-LOCATION;VALUE=URI;X-ADDRESS=Heinjoen ampumaurheilukeskus Savitie 118 Hiltulanlahti 70870 Suomi;X-APPLE-RADIUS=500;X-TITLE=Savitie 118:geo:27.5626754,62.7948279
END:VEVENT
BEGIN:VEVENT
DTSTART;TZID=Europe/Helsinki:20240223T180000
DTEND;TZID=Europe/Helsinki:20240223T200000
DTSTAMP:20260421T034503
CREATED:20230618T165637Z
LAST-MODIFIED:20241231T132915Z
UID:10001536-1708711200-1708718400@www.vihma.fi
SUMMARY:Omatoimi ulkoratavuoro Heinjoki
DESCRIPTION:Pohjois-Savon reservipiirien ja Kuopion ampuma- ja metsästysseuran (KAMS) yhteinen kiväärivuoro Heinjoen luodikkoradalla klo 18-20. \nOletko tulossa ensimmäistä kertaa viikkovuorolle? Tutustu toimintaa helpottaviin ohjeisiin Vihman nettisivuilla. \nHeinjoen perjantain vuorot toimivat toistaiseksi omatoimivuoroina ja lainakalustoa ei ole saatavilla\, jos ei muuta ole mainittu. Ampujilla tulee näillä vuoroilla olla omat avaimet tai muu tapa päästä radalle\, omat paikkatarvikkeet sekä taulut. \nJokaisella ampujalla tulee olla voimassa oleva Reserviläisten ampumaturva tai SAL:n kilpailu/harrastajalisenssi. Muistakaa kirjata ampumasuoritteet radan päiväkirjaan.
URL:https://www.vihma.fi/tapahtuma/ulkoratavuoro-heinjoki-3-2/2024-02-23/
LOCATION:Heinjoen ampumaurheilukeskus\, Savitie 118\, Hiltulanlahti\, 70870\, Suomi
CATEGORIES:Ammunta
GEO:62.7948279;27.5626754
X-APPLE-STRUCTURED-LOCATION;VALUE=URI;X-ADDRESS=Heinjoen ampumaurheilukeskus Savitie 118 Hiltulanlahti 70870 Suomi;X-APPLE-RADIUS=500;X-TITLE=Savitie 118:geo:27.5626754,62.7948279
END:VEVENT
BEGIN:VEVENT
DTSTART;TZID=Europe/Helsinki:20240224T080000
DTEND;TZID=Europe/Helsinki:20240225T170000
DTSTAMP:20260421T034503
CREATED:20240122T050845Z
LAST-MODIFIED:20240122T050845Z
UID:10001601-1708761600-1708880400@www.vihma.fi
SUMMARY:RESUL:N ILMA-ASEMESTARUUSKILPAILUT
DESCRIPTION:ILMA-ASEKILPAILUT 2024\nJulkaistu 1.12.2023\n\n\nRESUL:N ILMA-ASEMESTARUUSKILPAILUT\nMÄNTSÄLÄN MONITOIMITALON ILMA-ASERADALLA 24.-25.2.2024\nPaikka\nMäntsälä: Monitoimitalon ilma-aserata\, Urheilutie 4\, Mäntsälä \nKilpailusäännöt\nKilpailussa noudatetaan SAL:n sääntöjä ja RESUL:n yleis- sekä ilma-asesääntöjä. Kilpailussa ammutaan elektronisiin Inband- taululaitteisiin. \nVakuutukset                \nKilpailijoilla on oltava SAL:n kilpailulisenssi tai Reserviläisliiton\, Reserviupseeriliiton tai MPKL:n ampumaturvavakuutus. \nKilpailun johtaja:\nToni Karlsson \nSarjat\nH\, H50\, H60\, H70\, H75\, H80\, D\, D50\, H16\, H18\, H20\, D16\, D18\, D20. \nKivääri H70\, H75\, H80 Sarjoissa ammutaan myös hihnatuelta erillisenä kilpailuna. \nJoukkuekilpailussa sarjat H/D ja H50/D50 \nPiirin joukkueen muodostavat neljä (4) ennen kilpailua nimettyä ampujaa\, joista kolmen (3) parhaan kilpailijan neljänkymmenen (40) ensimmäisen kilpalaukauksen tulos lasketaan joukkuetulokseen. \nOhjelma\nLauantaina 24.2.2024 ilmapistooli\, kaikki sarjat \nSunnuntaina 25.2.2024 Ilmakivääri\, kaikki sarjat \nIlmoittautumiset\nKirjalliset ilmoittautumiset piireittäin 2.2.2024 mennessä\, skoone.karlsson@gmail.com \nIlmoittautumisessa on mainittava sotilasarvo\, nimi\, laji\, sarja ja piiri. Joukkueiden osalta sarja. \nOsallistumismaksut\n30 € / laji / sarja / ampuja. Maksetaan Mäntsälän Reserviupseerikerho Ry:n tilille FI17 5282 0120 1389 36  17.2.2024 mennessä: \nJoukkuemaksua ei ole. \nJälki-ilmoittautuminen\nVain henkilökohtaiseen\, jos erissä on tilaa. \nJälki-ilmoittautumismaksu on 40 € / laji / sarja / ampuja. \nEräluettelot\nEräluettelot julkaistaan nettisivuilla: www.resul.fi ja www.rul.fi/mantsala viikkoa ennen kilpailua. \nMajoitukset \nJärjestäjä ei ole varannut majoituskiintiöitä. \nTiedustelut\nToni Karlsson 0400 208 255\, skoone.karlsson@gmail.com \n\nKilpailukutsu
URL:https://www.vihma.fi/tapahtuma/resuln-ilma-asemestaruuskilpailut/
LOCATION:Mäntsälä
CATEGORIES:Ammunta
END:VEVENT
END:VCALENDAR