BEGIN:VCALENDAR
VERSION:2.0
PRODID:-//Vihma.fi - ECPv6.15.20//NONSGML v1.0//EN
CALSCALE:GREGORIAN
METHOD:PUBLISH
X-WR-CALNAME:Vihma.fi
X-ORIGINAL-URL:https://www.vihma.fi
X-WR-CALDESC:Tapahtumat Vihma.fi
REFRESH-INTERVAL;VALUE=DURATION:PT1H
X-Robots-Tag:noindex
X-PUBLISHED-TTL:PT1H
BEGIN:VTIMEZONE
TZID:Europe/Helsinki
BEGIN:DAYLIGHT
TZOFFSETFROM:+0200
TZOFFSETTO:+0300
TZNAME:EEST
DTSTART:20220327T010000
END:DAYLIGHT
BEGIN:STANDARD
TZOFFSETFROM:+0300
TZOFFSETTO:+0200
TZNAME:EET
DTSTART:20221030T010000
END:STANDARD
BEGIN:DAYLIGHT
TZOFFSETFROM:+0200
TZOFFSETTO:+0300
TZNAME:EEST
DTSTART:20230326T010000
END:DAYLIGHT
BEGIN:STANDARD
TZOFFSETFROM:+0300
TZOFFSETTO:+0200
TZNAME:EET
DTSTART:20231029T010000
END:STANDARD
BEGIN:DAYLIGHT
TZOFFSETFROM:+0200
TZOFFSETTO:+0300
TZNAME:EEST
DTSTART:20240331T010000
END:DAYLIGHT
BEGIN:STANDARD
TZOFFSETFROM:+0300
TZOFFSETTO:+0200
TZNAME:EET
DTSTART:20241027T010000
END:STANDARD
END:VTIMEZONE
BEGIN:VEVENT
DTSTART;TZID=Europe/Helsinki:20230918T180000
DTEND;TZID=Europe/Helsinki:20230918T200000
DTSTAMP:20260421T153412
CREATED:20230512T041825Z
LAST-MODIFIED:20231205T060149Z
UID:10000870-1695060000-1695067200@www.vihma.fi
SUMMARY:Heinjoki pistoolivuoro
DESCRIPTION:Pohjois-Savon reservipiirien ja Kuopion ampuma- ja metsästysseuran (KAMS) yhteinen pistoolivuoro Heinjoen pistooliradalla klo 18-20. \nHuom! Radan maksimi kaliberi 9 mm ja ainoastaan vaipattomat lyijyluodit sallittuja! \n22lr lainakalustoa saatavilla ilman erillista varausta.
URL:https://www.vihma.fi/tapahtuma/heinjoki-pistoolivuoro-2-2/2023-09-18/
LOCATION:Heinjoen ampumaurheilukeskus\, Savitie 118\, Hiltulanlahti\, 70870\, Suomi
CATEGORIES:Ammunta
GEO:62.7948279;27.5626754
X-APPLE-STRUCTURED-LOCATION;VALUE=URI;X-ADDRESS=Heinjoen ampumaurheilukeskus Savitie 118 Hiltulanlahti 70870 Suomi;X-APPLE-RADIUS=500;X-TITLE=Savitie 118:geo:27.5626754,62.7948279
END:VEVENT
BEGIN:VEVENT
DTSTART;TZID=Europe/Helsinki:20230919T170000
DTEND;TZID=Europe/Helsinki:20230919T190000
DTSTAMP:20260421T153412
CREATED:20230315T134924Z
LAST-MODIFIED:20230315T134924Z
UID:10000718-1695142800-1695150000@www.vihma.fi
SUMMARY:Viikkoammunnat Iisalmi\, pistooli
DESCRIPTION:Piirin viikkoammunnat Iisalmessa. Vuoro on kaikille avoin. \nMahdollisuus ampua piirin aseilla tai omalla aseella. \nPortit avataan hieman ennen vuoron alkua\, saavu paikalle ja ilmoittaudu ammunnanjohtajalle. \nAmmunnasta veloitetaan ratamaksu sekä ammutut patruunat. Maksu onnistuu kortilla tai käteisellä.
URL:https://www.vihma.fi/tapahtuma/viikkoammunnat-iisalmi-pistooli-6/2023-09-19/
CATEGORIES:Ammunta
END:VEVENT
BEGIN:VEVENT
DTSTART;TZID=Europe/Helsinki:20230921T180000
DTEND;TZID=Europe/Helsinki:20230921T200000
DTSTAMP:20260421T153413
CREATED:20230120T112633Z
LAST-MODIFIED:20251123T212455Z
UID:10000528-1695319200-1695326400@www.vihma.fi
SUMMARY:Ulkoratavuoro Heinjoki
DESCRIPTION:Pohjois-Savon reservipiirien kiväärivuoro Kuopiossa Heinjoen luodikkoradalla torstaisin klo 18-20. \nOletko tulossa ensimmäistä kertaa viikkovuorolle? Tutustu toimintaa helpottaviin ohjeisiin Vihman nettisivuilla. \nAlueelle saavuttaessa on automaattinen portti\, joka tullaan avaamaan noin klo 17.30. \nErikseen mainituille ratavuoroille on mahdollista varata laina-aseita. Vuoron alussa laina-ase ampujat maksavat osallistumismaksun\, joka sisältää mm. aseiden käytön\, ratamaksun\, patruunat\, taulut\, paikkatarvikkeet ja mahdolliset muut laina- varusteet. Patruunoita ei myydä ratavuorojen ulkopuoliseen käyttöön. Reserviläiset voivat varata yhdistyksen laina-aseita on seuraavalla lomakkeella. Tarkista vuorot ja varausehdot lomakkeelta. \nJos olet tulossa ensimmäistä kertaa ulkorata vuoroille\, pidetään pienimuotoinen perehdytys ratatoimintaan. Ilmoittaudu radalle tullessasi ammunnan johtajalle\, että olet ensimmäistä kertaa paikalla. Perehdytyksessä käydään läpi yhteiset pelisäännöt ja toimintatavat. \nJokaisella ampujalla tulee olla voimassa oleva Reserviläisten ampumaturva tai SAL:n kilpailu/harrastajalisenssi. Muista kirjata jokainen ampumakertasi piirien ratapäiväkirjaan.
URL:https://www.vihma.fi/tapahtuma/ulkoratavuoro-heinjoki-4/2023-09-21/
LOCATION:Heinjoen ampumaurheilukeskus\, Savitie 118\, Hiltulanlahti\, 70870\, Suomi
CATEGORIES:Ammunta
GEO:62.7948279;27.5626754
X-APPLE-STRUCTURED-LOCATION;VALUE=URI;X-ADDRESS=Heinjoen ampumaurheilukeskus Savitie 118 Hiltulanlahti 70870 Suomi;X-APPLE-RADIUS=500;X-TITLE=Savitie 118:geo:27.5626754,62.7948279
END:VEVENT
BEGIN:VEVENT
DTSTART;TZID=Europe/Helsinki:20230922T130000
DTEND;TZID=Europe/Helsinki:20230924T160000
DTSTAMP:20260421T153413
CREATED:20230711T062515Z
LAST-MODIFIED:20230711T062515Z
UID:10001349-1695387600-1695571200@www.vihma.fi
SUMMARY:Tolokun jotos 2023
DESCRIPTION:Siilinjärven Reserviupseerikerho ry johtaa Reserviläisurheiluliitto ry:n valtakunnallisen syysjotoksen ”Tolokun jotos” Siilinjärvellä 22.-24.9.2023. Tapahtuman keskuspaikkana on vanha Tarinaharjun sairaala Siilinjärvellä (Tarinaharjuntie 49\, 71800 Siilinjärvi). \nJotoksella on kolme sarjaa: \n1. Sotilassarja (noin 50 km) (asevelvollisille) \n2. Reserviläissarja (noin 30 km) (asevelvollisille) \n3. retkisarja (alle 10 km) (kaikille avoin\, alle 15-vuotiaat vanhemman seurassa) \nJotoksen toteutuksessa ovat mukana Pohjois-Savon Reserviläispiiri\, Pohjois-Savon Reserviupseeripiiri\, sekä alueen muut maanpuolustusjärjestöt ja yhteistyökumppanit. \nYleistä: Reserviläisurheiluliiton jotoksen sääntöjen mukaan ”Reserviläisjotoksen tarkoituksena on ylläpitää ja edistää reserviläistaitojen säilymistä ja kehittymistä sekä kohottaa osallistujien fyysistä suorituskykyä ja kenttäkelpoisuutta.” \nJotoksella on uusia ulottuvuuksia\, koulutusnäkökulmasta on otettu huomioon erityisesti Ukrainasta saadut opit. Sen enempää paljastamatta – jotoksella on tiedossa jotain mitä aiemmin ei jotoksella ole nähty! \nKerää siis hyvä porukka kasaan ja tule kokemaan jotos Siilinjärven syksyssä!
URL:https://www.vihma.fi/tapahtuma/tolokun-jotos-2023/
CATEGORIES:JOTOS
ORGANIZER;CN="Siilinj%C3%A4rven Reserviupseerikerho ry":MAILTO:siilinjarvenreserviupseerit@gmail.com
END:VEVENT
BEGIN:VEVENT
DTSTART;TZID=Europe/Helsinki:20230922T180000
DTEND;TZID=Europe/Helsinki:20230922T200000
DTSTAMP:20260421T153413
CREATED:20230618T165637Z
LAST-MODIFIED:20241231T132915Z
UID:10001325-1695405600-1695412800@www.vihma.fi
SUMMARY:Omatoimi ulkoratavuoro Heinjoki
DESCRIPTION:Pohjois-Savon reservipiirien ja Kuopion ampuma- ja metsästysseuran (KAMS) yhteinen kiväärivuoro Heinjoen luodikkoradalla klo 18-20. \nOletko tulossa ensimmäistä kertaa viikkovuorolle? Tutustu toimintaa helpottaviin ohjeisiin Vihman nettisivuilla. \nHeinjoen perjantain vuorot toimivat toistaiseksi omatoimivuoroina ja lainakalustoa ei ole saatavilla\, jos ei muuta ole mainittu. Ampujilla tulee näillä vuoroilla olla omat avaimet tai muu tapa päästä radalle\, omat paikkatarvikkeet sekä taulut. \nJokaisella ampujalla tulee olla voimassa oleva Reserviläisten ampumaturva tai SAL:n kilpailu/harrastajalisenssi. Muistakaa kirjata ampumasuoritteet radan päiväkirjaan.
URL:https://www.vihma.fi/tapahtuma/ulkoratavuoro-heinjoki-3-2/2023-09-22/
LOCATION:Heinjoen ampumaurheilukeskus\, Savitie 118\, Hiltulanlahti\, 70870\, Suomi
CATEGORIES:Ammunta
GEO:62.7948279;27.5626754
X-APPLE-STRUCTURED-LOCATION;VALUE=URI;X-ADDRESS=Heinjoen ampumaurheilukeskus Savitie 118 Hiltulanlahti 70870 Suomi;X-APPLE-RADIUS=500;X-TITLE=Savitie 118:geo:27.5626754,62.7948279
END:VEVENT
END:VCALENDAR