BEGIN:VCALENDAR
VERSION:2.0
PRODID:-//Vihma.fi - ECPv6.15.20//NONSGML v1.0//EN
CALSCALE:GREGORIAN
METHOD:PUBLISH
X-ORIGINAL-URL:https://www.vihma.fi
X-WR-CALDESC:Tapahtumat Vihma.fi
REFRESH-INTERVAL;VALUE=DURATION:PT1H
X-Robots-Tag:noindex
X-PUBLISHED-TTL:PT1H
BEGIN:VTIMEZONE
TZID:Europe/Helsinki
BEGIN:DAYLIGHT
TZOFFSETFROM:+0200
TZOFFSETTO:+0300
TZNAME:EEST
DTSTART:20220327T010000
END:DAYLIGHT
BEGIN:STANDARD
TZOFFSETFROM:+0300
TZOFFSETTO:+0200
TZNAME:EET
DTSTART:20221030T010000
END:STANDARD
BEGIN:DAYLIGHT
TZOFFSETFROM:+0200
TZOFFSETTO:+0300
TZNAME:EEST
DTSTART:20230326T010000
END:DAYLIGHT
BEGIN:STANDARD
TZOFFSETFROM:+0300
TZOFFSETTO:+0200
TZNAME:EET
DTSTART:20231029T010000
END:STANDARD
BEGIN:DAYLIGHT
TZOFFSETFROM:+0200
TZOFFSETTO:+0300
TZNAME:EEST
DTSTART:20240331T010000
END:DAYLIGHT
BEGIN:STANDARD
TZOFFSETFROM:+0300
TZOFFSETTO:+0200
TZNAME:EET
DTSTART:20241027T010000
END:STANDARD
END:VTIMEZONE
BEGIN:VEVENT
DTSTART;TZID=Europe/Helsinki:20230904T180000
DTEND;TZID=Europe/Helsinki:20230904T200000
DTSTAMP:20260421T170710
CREATED:20230512T041825Z
LAST-MODIFIED:20231205T060149Z
UID:10000868-1693850400-1693857600@www.vihma.fi
SUMMARY:Heinjoki pistoolivuoro
DESCRIPTION:Pohjois-Savon reservipiirien ja Kuopion ampuma- ja metsästysseuran (KAMS) yhteinen pistoolivuoro Heinjoen pistooliradalla klo 18-20. \nHuom! Radan maksimi kaliberi 9 mm ja ainoastaan vaipattomat lyijyluodit sallittuja! \n22lr lainakalustoa saatavilla ilman erillista varausta.
URL:https://www.vihma.fi/tapahtuma/heinjoki-pistoolivuoro-2-2/2023-09-04/
LOCATION:Heinjoen ampumaurheilukeskus\, Savitie 118\, Hiltulanlahti\, 70870\, Suomi
CATEGORIES:Ammunta
GEO:62.7948279;27.5626754
X-APPLE-STRUCTURED-LOCATION;VALUE=URI;X-ADDRESS=Heinjoen ampumaurheilukeskus Savitie 118 Hiltulanlahti 70870 Suomi;X-APPLE-RADIUS=500;X-TITLE=Savitie 118:geo:27.5626754,62.7948279
END:VEVENT
BEGIN:VEVENT
DTSTART;TZID=Europe/Helsinki:20230905T170000
DTEND;TZID=Europe/Helsinki:20230905T190000
DTSTAMP:20260421T170710
CREATED:20230315T134924Z
LAST-MODIFIED:20230315T134924Z
UID:10000717-1693933200-1693940400@www.vihma.fi
SUMMARY:Viikkoammunnat Iisalmi\, pistooli
DESCRIPTION:Piirin viikkoammunnat Iisalmessa. Vuoro on kaikille avoin. \nMahdollisuus ampua piirin aseilla tai omalla aseella. \nPortit avataan hieman ennen vuoron alkua\, saavu paikalle ja ilmoittaudu ammunnanjohtajalle. \nAmmunnasta veloitetaan ratamaksu sekä ammutut patruunat. Maksu onnistuu kortilla tai käteisellä.
URL:https://www.vihma.fi/tapahtuma/viikkoammunnat-iisalmi-pistooli-6/2023-09-05/
CATEGORIES:Ammunta
END:VEVENT
BEGIN:VEVENT
DTSTART;TZID=Europe/Helsinki:20230905T180000
DTEND;TZID=Europe/Helsinki:20230905T200000
DTSTAMP:20260421T170710
CREATED:20230609T074502Z
LAST-MODIFIED:20230913T043321Z
UID:10001063-1693936800-1693944000@www.vihma.fi
SUMMARY:Pienoispistooliammuntaa Tarpisen ampumaradalla Nilsiässä
DESCRIPTION:Pienoispistooliammuntaa Tarpisen ampumaradalla Nilsiässä tiistaisin klo 18:00 alkaen. Laina-aseen tarpeet tai muut tiedustelut: Harri Kontro 0400 796 720
URL:https://www.vihma.fi/tapahtuma/pienoispistooliammuntaa-tarpisen-ampumaradalla-nilsiassa-2/2023-09-05/
LOCATION:Nilsiä\, Tarpisen ampumarata
CATEGORIES:Ammunta
END:VEVENT
BEGIN:VEVENT
DTSTART;TZID=Europe/Helsinki:20230907T180000
DTEND;TZID=Europe/Helsinki:20230907T200000
DTSTAMP:20260421T170710
CREATED:20230120T112633Z
LAST-MODIFIED:20251123T212455Z
UID:10000526-1694109600-1694116800@www.vihma.fi
SUMMARY:Ulkoratavuoro Heinjoki
DESCRIPTION:Pohjois-Savon reservipiirien kiväärivuoro Kuopiossa Heinjoen luodikkoradalla torstaisin klo 18-20. \nOletko tulossa ensimmäistä kertaa viikkovuorolle? Tutustu toimintaa helpottaviin ohjeisiin Vihman nettisivuilla. \nAlueelle saavuttaessa on automaattinen portti\, joka tullaan avaamaan noin klo 17.30. \nErikseen mainituille ratavuoroille on mahdollista varata laina-aseita. Vuoron alussa laina-ase ampujat maksavat osallistumismaksun\, joka sisältää mm. aseiden käytön\, ratamaksun\, patruunat\, taulut\, paikkatarvikkeet ja mahdolliset muut laina- varusteet. Patruunoita ei myydä ratavuorojen ulkopuoliseen käyttöön. Reserviläiset voivat varata yhdistyksen laina-aseita on seuraavalla lomakkeella. Tarkista vuorot ja varausehdot lomakkeelta. \nJos olet tulossa ensimmäistä kertaa ulkorata vuoroille\, pidetään pienimuotoinen perehdytys ratatoimintaan. Ilmoittaudu radalle tullessasi ammunnan johtajalle\, että olet ensimmäistä kertaa paikalla. Perehdytyksessä käydään läpi yhteiset pelisäännöt ja toimintatavat. \nJokaisella ampujalla tulee olla voimassa oleva Reserviläisten ampumaturva tai SAL:n kilpailu/harrastajalisenssi. Muista kirjata jokainen ampumakertasi piirien ratapäiväkirjaan.
URL:https://www.vihma.fi/tapahtuma/ulkoratavuoro-heinjoki-4/2023-09-07/
LOCATION:Heinjoen ampumaurheilukeskus\, Savitie 118\, Hiltulanlahti\, 70870\, Suomi
CATEGORIES:Ammunta
GEO:62.7948279;27.5626754
X-APPLE-STRUCTURED-LOCATION;VALUE=URI;X-ADDRESS=Heinjoen ampumaurheilukeskus Savitie 118 Hiltulanlahti 70870 Suomi;X-APPLE-RADIUS=500;X-TITLE=Savitie 118:geo:27.5626754,62.7948279
END:VEVENT
BEGIN:VEVENT
DTSTART;TZID=Europe/Helsinki:20230908T180000
DTEND;TZID=Europe/Helsinki:20230908T200000
DTSTAMP:20260421T170710
CREATED:20230618T165637Z
LAST-MODIFIED:20241231T132915Z
UID:10001323-1694196000-1694203200@www.vihma.fi
SUMMARY:Omatoimi ulkoratavuoro Heinjoki
DESCRIPTION:Pohjois-Savon reservipiirien ja Kuopion ampuma- ja metsästysseuran (KAMS) yhteinen kiväärivuoro Heinjoen luodikkoradalla klo 18-20. \nOletko tulossa ensimmäistä kertaa viikkovuorolle? Tutustu toimintaa helpottaviin ohjeisiin Vihman nettisivuilla. \nHeinjoen perjantain vuorot toimivat toistaiseksi omatoimivuoroina ja lainakalustoa ei ole saatavilla\, jos ei muuta ole mainittu. Ampujilla tulee näillä vuoroilla olla omat avaimet tai muu tapa päästä radalle\, omat paikkatarvikkeet sekä taulut. \nJokaisella ampujalla tulee olla voimassa oleva Reserviläisten ampumaturva tai SAL:n kilpailu/harrastajalisenssi. Muistakaa kirjata ampumasuoritteet radan päiväkirjaan.
URL:https://www.vihma.fi/tapahtuma/ulkoratavuoro-heinjoki-3-2/2023-09-08/
LOCATION:Heinjoen ampumaurheilukeskus\, Savitie 118\, Hiltulanlahti\, 70870\, Suomi
CATEGORIES:Ammunta
GEO:62.7948279;27.5626754
X-APPLE-STRUCTURED-LOCATION;VALUE=URI;X-ADDRESS=Heinjoen ampumaurheilukeskus Savitie 118 Hiltulanlahti 70870 Suomi;X-APPLE-RADIUS=500;X-TITLE=Savitie 118:geo:27.5626754,62.7948279
END:VEVENT
BEGIN:VEVENT
DTSTART;TZID=Europe/Helsinki:20230909T100000
DTEND;TZID=Europe/Helsinki:20230909T170000
DTSTAMP:20260421T170710
CREATED:20230818T050859Z
LAST-MODIFIED:20230818T050859Z
UID:10001356-1694253600-1694278800@www.vihma.fi
SUMMARY:Reserviläisten mestaruuskisat perinnepistoolissa Tarpisella
DESCRIPTION:Juankosken reserviläiset ry järjestää Tarpisen ampumaradalla 9.9. 2023 klo 10.00 (Avoimet) Juankosken reserviläisten mestaruuskisat perinnepistoolissa \n\nOsoite: Varpaisjärventie 785\, 73300 Nilsiä.\n\nLajit: koulu ja kuvio\n\nSarjat N ja M\n\n\n\nPalkinnot: Parhaan yhteistuloksen ampunut 500kpl 22lr patruunoita.\n\n                             Toiseksi paras yhteistulos 300 kpl 22lr patruunoita.\n\n                             Kolmanneksi paras yhteistulos 200 kpl patruunoita\n\n\n\n\nOasallistumismaksu 20€\n\n\n\nilmottautumiset: Harri Kontro 0400 796 720 Whatsapp tai tekstiviesti.
URL:https://www.vihma.fi/tapahtuma/reservilaisten-mestaruuskisat-perinnepistoolissa-tarpisella/
LOCATION:Nilsiä\, Tarpisen ampumarata
CATEGORIES:Ammunta
END:VEVENT
END:VCALENDAR