BEGIN:VCALENDAR
VERSION:2.0
PRODID:-//Vihma.fi - ECPv6.15.20//NONSGML v1.0//EN
CALSCALE:GREGORIAN
METHOD:PUBLISH
X-WR-CALNAME:Vihma.fi
X-ORIGINAL-URL:https://www.vihma.fi
X-WR-CALDESC:Tapahtumat Vihma.fi
REFRESH-INTERVAL;VALUE=DURATION:PT1H
X-Robots-Tag:noindex
X-PUBLISHED-TTL:PT1H
BEGIN:VTIMEZONE
TZID:Europe/Helsinki
BEGIN:DAYLIGHT
TZOFFSETFROM:+0200
TZOFFSETTO:+0300
TZNAME:EEST
DTSTART:20220327T010000
END:DAYLIGHT
BEGIN:STANDARD
TZOFFSETFROM:+0300
TZOFFSETTO:+0200
TZNAME:EET
DTSTART:20221030T010000
END:STANDARD
BEGIN:DAYLIGHT
TZOFFSETFROM:+0200
TZOFFSETTO:+0300
TZNAME:EEST
DTSTART:20230326T010000
END:DAYLIGHT
BEGIN:STANDARD
TZOFFSETFROM:+0300
TZOFFSETTO:+0200
TZNAME:EET
DTSTART:20231029T010000
END:STANDARD
BEGIN:DAYLIGHT
TZOFFSETFROM:+0200
TZOFFSETTO:+0300
TZNAME:EEST
DTSTART:20240331T010000
END:DAYLIGHT
BEGIN:STANDARD
TZOFFSETFROM:+0300
TZOFFSETTO:+0200
TZNAME:EET
DTSTART:20241027T010000
END:STANDARD
END:VTIMEZONE
BEGIN:VEVENT
DTSTART;TZID=Europe/Helsinki:20230814T180000
DTEND;TZID=Europe/Helsinki:20230814T200000
DTSTAMP:20260422T011636
CREATED:20230512T041825Z
LAST-MODIFIED:20231205T060149Z
UID:10000865-1692036000-1692043200@www.vihma.fi
SUMMARY:Heinjoki pistoolivuoro
DESCRIPTION:Pohjois-Savon reservipiirien ja Kuopion ampuma- ja metsästysseuran (KAMS) yhteinen pistoolivuoro Heinjoen pistooliradalla klo 18-20. \nHuom! Radan maksimi kaliberi 9 mm ja ainoastaan vaipattomat lyijyluodit sallittuja! \n22lr lainakalustoa saatavilla ilman erillista varausta.
URL:https://www.vihma.fi/tapahtuma/heinjoki-pistoolivuoro-2-2/2023-08-14/
LOCATION:Heinjoen ampumaurheilukeskus\, Savitie 118\, Hiltulanlahti\, 70870\, Suomi
CATEGORIES:Ammunta
GEO:62.7948279;27.5626754
X-APPLE-STRUCTURED-LOCATION;VALUE=URI;X-ADDRESS=Heinjoen ampumaurheilukeskus Savitie 118 Hiltulanlahti 70870 Suomi;X-APPLE-RADIUS=500;X-TITLE=Savitie 118:geo:27.5626754,62.7948279
END:VEVENT
BEGIN:VEVENT
DTSTART;TZID=Europe/Helsinki:20230815T180000
DTEND;TZID=Europe/Helsinki:20230815T200000
DTSTAMP:20260422T011636
CREATED:20230314T060952Z
LAST-MODIFIED:20230314T060952Z
UID:10000705-1692122400-1692129600@www.vihma.fi
SUMMARY:Viikkoammunnat Iisalmi\, kivääri
DESCRIPTION:Piirin viikkoammunnat Iisalmessa. Vuoro on kaikille avoin. \nMahdollisuus ampua piirin aseilla tai omalla aseella. \nPortit avataan hieman ennen vuoron alkua\, saavu paikalle ja ilmoittaudu ammunnanjohtajalle. \nAmmunnasta veloitetaan ratamaksu sekä ammutut patruunat. Maksu onnistuu kortilla tai käteisellä.
URL:https://www.vihma.fi/tapahtuma/viikkoammunnat-iisalmi-kivaari-5/2023-08-15/
CATEGORIES:Ammunta
END:VEVENT
BEGIN:VEVENT
DTSTART;TZID=Europe/Helsinki:20230815T180000
DTEND;TZID=Europe/Helsinki:20230815T200000
DTSTAMP:20260422T011636
CREATED:20230609T074502Z
LAST-MODIFIED:20230913T043321Z
UID:10001060-1692122400-1692129600@www.vihma.fi
SUMMARY:Pienoispistooliammuntaa Tarpisen ampumaradalla Nilsiässä
DESCRIPTION:Pienoispistooliammuntaa Tarpisen ampumaradalla Nilsiässä tiistaisin klo 18:00 alkaen. Laina-aseen tarpeet tai muut tiedustelut: Harri Kontro 0400 796 720
URL:https://www.vihma.fi/tapahtuma/pienoispistooliammuntaa-tarpisen-ampumaradalla-nilsiassa-2/2023-08-15/
LOCATION:Nilsiä\, Tarpisen ampumarata
CATEGORIES:Ammunta
END:VEVENT
BEGIN:VEVENT
DTSTART;TZID=Europe/Helsinki:20230817T180000
DTEND;TZID=Europe/Helsinki:20230817T200000
DTSTAMP:20260422T011636
CREATED:20230120T112633Z
LAST-MODIFIED:20251123T212455Z
UID:10000523-1692295200-1692302400@www.vihma.fi
SUMMARY:Ulkoratavuoro Heinjoki
DESCRIPTION:Pohjois-Savon reservipiirien kiväärivuoro Kuopiossa Heinjoen luodikkoradalla torstaisin klo 18-20. \nOletko tulossa ensimmäistä kertaa viikkovuorolle? Tutustu toimintaa helpottaviin ohjeisiin Vihman nettisivuilla. \nAlueelle saavuttaessa on automaattinen portti\, joka tullaan avaamaan noin klo 17.30. \nErikseen mainituille ratavuoroille on mahdollista varata laina-aseita. Vuoron alussa laina-ase ampujat maksavat osallistumismaksun\, joka sisältää mm. aseiden käytön\, ratamaksun\, patruunat\, taulut\, paikkatarvikkeet ja mahdolliset muut laina- varusteet. Patruunoita ei myydä ratavuorojen ulkopuoliseen käyttöön. Reserviläiset voivat varata yhdistyksen laina-aseita on seuraavalla lomakkeella. Tarkista vuorot ja varausehdot lomakkeelta. \nJos olet tulossa ensimmäistä kertaa ulkorata vuoroille\, pidetään pienimuotoinen perehdytys ratatoimintaan. Ilmoittaudu radalle tullessasi ammunnan johtajalle\, että olet ensimmäistä kertaa paikalla. Perehdytyksessä käydään läpi yhteiset pelisäännöt ja toimintatavat. \nJokaisella ampujalla tulee olla voimassa oleva Reserviläisten ampumaturva tai SAL:n kilpailu/harrastajalisenssi. Muista kirjata jokainen ampumakertasi piirien ratapäiväkirjaan.
URL:https://www.vihma.fi/tapahtuma/ulkoratavuoro-heinjoki-4/2023-08-17/
LOCATION:Heinjoen ampumaurheilukeskus\, Savitie 118\, Hiltulanlahti\, 70870\, Suomi
CATEGORIES:Ammunta
GEO:62.7948279;27.5626754
X-APPLE-STRUCTURED-LOCATION;VALUE=URI;X-ADDRESS=Heinjoen ampumaurheilukeskus Savitie 118 Hiltulanlahti 70870 Suomi;X-APPLE-RADIUS=500;X-TITLE=Savitie 118:geo:27.5626754,62.7948279
END:VEVENT
BEGIN:VEVENT
DTSTART;TZID=Europe/Helsinki:20230818T080000
DTEND;TZID=Europe/Helsinki:20230820T170000
DTSTAMP:20260422T011636
CREATED:20230623T062404Z
LAST-MODIFIED:20230623T062404Z
UID:10001342-1692345600-1692550800@www.vihma.fi
SUMMARY:RESERVIN AMPUMAMESTARUUSKILPAILUT\, MIKKELI
DESCRIPTION:KILPAILUKUTSU\n\nAika\n18. – 20.8.2023 \nPaikka\nKyrönpellon ampumarata\, Kyrönpellontie 4\, 50150 Mikkeli \nLajit\n25 m pistooli\, Isopistooli\, Pistooli pika-ammunta\nKivääri kenttä 10 + 10 ls\, Itselataava kenttä 10 + 10 ls\nPienoiskivääri 60 ls makuu\, Pienoiskivääri 3 x 20 ls\, Pienoiskivääri 2×30 ls \nSarjat\nH/D\, H/D 50\, H 60\, H 70\, H 75 ja H 80 \nSarja toteutuu\, jos ilmoittautuneita on vähintään kolme. \n  \nJoukkuekilpailu\nSarjat: H\, H50 ja D \nJoukkueeseen ilmoitetaan kolme ampujaa\, joiden kaikkien tulos huomioidaan. Joukkueet nimetään viimeistään ennen ensimmäisen ampujan suoritusta. \nJoukkueen nimeäminen on myös tehtävä ennakkoon samanaikaisesti muun ilmoittamisen kanssa. \n25 m pistoolin H-sarjan joukkueessa ampuvan aseen tulee täyttää SAL:n H-sarjan lajisäännöt. \n  \nIlmoittautuminen\nKilpailujen sääntöjen mukaan piirillä\, jonka muodostavat saman maakunnan RUL ja RES piirit yhdessä\, on mahdollisuus ilmoittaa yhteensä enintään kuusi (6) ampujaa/laji. \nAmpuja voi osallistua vain kolmeen mestaruuskisalajiin. \n  \nIlmoittautumiset 28.7.2023 mennessä: tero.tapio.turpeinen@outlook.com \nTarvittavat tiedot ilmoittautumiseen: nimi\, sotilasarvo\, laji(t)\, sarja
URL:https://www.vihma.fi/tapahtuma/reservin-ampumamestaruuskilpailut-mikkeli/
LOCATION:Kyrönpellon ampumarata\, Mikkeli\, Kyrönpellontie\, Mikkeli\, 50100\, Suomi
CATEGORIES:Ammunta
GEO:61.7209361;27.1948011
X-APPLE-STRUCTURED-LOCATION;VALUE=URI;X-ADDRESS=Kyrönpellon ampumarata Mikkeli Kyrönpellontie Mikkeli 50100 Suomi;X-APPLE-RADIUS=500;X-TITLE=Kyrönpellontie:geo:27.1948011,61.7209361
END:VEVENT
BEGIN:VEVENT
DTSTART;TZID=Europe/Helsinki:20230818T180000
DTEND;TZID=Europe/Helsinki:20230818T200000
DTSTAMP:20260422T011636
CREATED:20230618T165637Z
LAST-MODIFIED:20241231T132915Z
UID:10001320-1692381600-1692388800@www.vihma.fi
SUMMARY:Omatoimi ulkoratavuoro Heinjoki
DESCRIPTION:Pohjois-Savon reservipiirien ja Kuopion ampuma- ja metsästysseuran (KAMS) yhteinen kiväärivuoro Heinjoen luodikkoradalla klo 18-20. \nOletko tulossa ensimmäistä kertaa viikkovuorolle? Tutustu toimintaa helpottaviin ohjeisiin Vihman nettisivuilla. \nHeinjoen perjantain vuorot toimivat toistaiseksi omatoimivuoroina ja lainakalustoa ei ole saatavilla\, jos ei muuta ole mainittu. Ampujilla tulee näillä vuoroilla olla omat avaimet tai muu tapa päästä radalle\, omat paikkatarvikkeet sekä taulut. \nJokaisella ampujalla tulee olla voimassa oleva Reserviläisten ampumaturva tai SAL:n kilpailu/harrastajalisenssi. Muistakaa kirjata ampumasuoritteet radan päiväkirjaan.
URL:https://www.vihma.fi/tapahtuma/ulkoratavuoro-heinjoki-3-2/2023-08-18/
LOCATION:Heinjoen ampumaurheilukeskus\, Savitie 118\, Hiltulanlahti\, 70870\, Suomi
CATEGORIES:Ammunta
GEO:62.7948279;27.5626754
X-APPLE-STRUCTURED-LOCATION;VALUE=URI;X-ADDRESS=Heinjoen ampumaurheilukeskus Savitie 118 Hiltulanlahti 70870 Suomi;X-APPLE-RADIUS=500;X-TITLE=Savitie 118:geo:27.5626754,62.7948279
END:VEVENT
BEGIN:VEVENT
DTSTART;TZID=Europe/Helsinki:20230819T100000
DTEND;TZID=Europe/Helsinki:20230819T170000
DTSTAMP:20260422T011636
CREATED:20230724T101516Z
LAST-MODIFIED:20230724T101516Z
UID:10001355-1692439200-1692464400@www.vihma.fi
SUMMARY:Vahvin reserviläinen 19.8.2023 Ylihärmä
DESCRIPTION:Vahvimman reserviläisen tittelistä kilpaillaan 19.8.2023 Ylihärmässä. \n  \nLisätietolinkki Resulin sivuille \n  \nPakollinen ennakkoilmoittautuminen ma 31.7.2023 klo 24.00 mennessä!\nilmoittautumiset ensisijaisesti sähköpostilla: Jani Syvänen; vahvinressu@gmail.com
URL:https://www.vihma.fi/tapahtuma/vahvin-reservilainen-19-8-2023-yliharma/
CATEGORIES:Liikunta
END:VEVENT
END:VCALENDAR