BEGIN:VCALENDAR
VERSION:2.0
PRODID:-//Vihma.fi - ECPv6.15.20//NONSGML v1.0//EN
CALSCALE:GREGORIAN
METHOD:PUBLISH
X-WR-CALNAME:Vihma.fi
X-ORIGINAL-URL:https://www.vihma.fi
X-WR-CALDESC:Tapahtumat Vihma.fi
REFRESH-INTERVAL;VALUE=DURATION:PT1H
X-Robots-Tag:noindex
X-PUBLISHED-TTL:PT1H
BEGIN:VTIMEZONE
TZID:Europe/Helsinki
BEGIN:DAYLIGHT
TZOFFSETFROM:+0200
TZOFFSETTO:+0300
TZNAME:EEST
DTSTART:20220327T010000
END:DAYLIGHT
BEGIN:STANDARD
TZOFFSETFROM:+0300
TZOFFSETTO:+0200
TZNAME:EET
DTSTART:20221030T010000
END:STANDARD
BEGIN:DAYLIGHT
TZOFFSETFROM:+0200
TZOFFSETTO:+0300
TZNAME:EEST
DTSTART:20230326T010000
END:DAYLIGHT
BEGIN:STANDARD
TZOFFSETFROM:+0300
TZOFFSETTO:+0200
TZNAME:EET
DTSTART:20231029T010000
END:STANDARD
BEGIN:DAYLIGHT
TZOFFSETFROM:+0200
TZOFFSETTO:+0300
TZNAME:EEST
DTSTART:20240331T010000
END:DAYLIGHT
BEGIN:STANDARD
TZOFFSETFROM:+0300
TZOFFSETTO:+0200
TZNAME:EET
DTSTART:20241027T010000
END:STANDARD
END:VTIMEZONE
BEGIN:VEVENT
DTSTART;TZID=Europe/Helsinki:20230515T180000
DTEND;TZID=Europe/Helsinki:20230515T200000
DTSTAMP:20260422T141005
CREATED:20230512T041825Z
LAST-MODIFIED:20231205T060149Z
UID:10000411-1684173600-1684180800@www.vihma.fi
SUMMARY:Heinjoki pistoolivuoro
DESCRIPTION:Pohjois-Savon reservipiirien ja Kuopion ampuma- ja metsästysseuran (KAMS) yhteinen pistoolivuoro Heinjoen pistooliradalla klo 18-20. \nHuom! Radan maksimi kaliberi 9 mm ja ainoastaan vaipattomat lyijyluodit sallittuja! \n22lr lainakalustoa saatavilla ilman erillista varausta.
URL:https://www.vihma.fi/tapahtuma/heinjoki-pistoolivuoro-2-2/2023-05-15/
LOCATION:Heinjoen ampumaurheilukeskus\, Savitie 118\, Hiltulanlahti\, 70870\, Suomi
CATEGORIES:Ammunta
GEO:62.7948279;27.5626754
X-APPLE-STRUCTURED-LOCATION;VALUE=URI;X-ADDRESS=Heinjoen ampumaurheilukeskus Savitie 118 Hiltulanlahti 70870 Suomi;X-APPLE-RADIUS=500;X-TITLE=Savitie 118:geo:27.5626754,62.7948279
END:VEVENT
BEGIN:VEVENT
DTSTART;TZID=Europe/Helsinki:20230516T180000
DTEND;TZID=Europe/Helsinki:20230516T200000
DTSTAMP:20260422T141005
CREATED:20230315T134413Z
LAST-MODIFIED:20230315T134541Z
UID:10000711-1684260000-1684267200@www.vihma.fi
SUMMARY:Viikkoammunnat Iisalmi\, pistooli
DESCRIPTION:Piirin viikkoammunnat Iisalmessa. Vuoro on kaikille avoin. \nMahdollisuus ampua piirin aseilla tai omalla aseella. \nPortit avataan hieman ennen vuoron alkua\, saavu paikalle ja ilmoittaudu ammunnanjohtajalle. \nAmmunnasta veloitetaan ratamaksu sekä ammutut patruunat. Maksu onnistuu kortilla tai käteisellä.
URL:https://www.vihma.fi/tapahtuma/viikkoammunnat-iisalmi-pistooli-4/2023-05-16/
CATEGORIES:Ammunta
END:VEVENT
BEGIN:VEVENT
DTSTART;TZID=Europe/Helsinki:20230518T000000
DTEND;TZID=Europe/Helsinki:20230521T235900
DTSTAMP:20260422T141005
CREATED:20230405T074604Z
LAST-MODIFIED:20230405T074710Z
UID:10000724-1684368000-1684713540@www.vihma.fi
SUMMARY:Resul four day march 18.-21.5.2023
DESCRIPTION:Jo perinteeksi muodostunut Reserviläisurheiluliiton neljän päivän etämarssi järjestetään tänä vuonna 18.-21.5.2023 \n#R4DM järjestetään nyt neljättä kertaa! Sinä valitset missä ja milloin marssit. Tallennat vain kulkemasi reitin digitaalisesti ja syötät tulokset. Hyväksyttyyn suoritukseen tarvitaan vain 10 km matka neljän päivän aikana. Osallistumalla olet myös mukana tuotepalkintojen arvonnassa. Tapahtuman kautta tuhannet ihmiset ovat löytäneet iloa liikunnasta ja ulkoilusta. Tule mukaan! Marssikaupasta (linkki) voit tilata marssituotteita ja suoritusmerkkejä. \nTänäkin vuonna Reserviläispiirit ja valtakunnan  reserviupseeri- ja reserviläisyhdistykset kilpailevat etämarssilla kilometrikisassa. Tulokset lasketaan yhdistysten jäsenten kävelemien kilometrien määrä suhteutettuna yhdistysten jäsenmäärään. ka. km/jäsen \nLinkki tapahtumasivulle \n\nLaajat etämarssiohjeet tapahtumasivuilta poimittuna\n\n\nRESUL Four Day March on neljän päivän vapaamuotoinen liikuntamahdollisuus jokaiselle ihmiselle ikään ja sukupuoleen tai asemaan katsomatta. Toivomme\, että tapahtuman kautta voisimme innostaa ihmisiä liikkumaan sekä saamaan siitä terveyttä ja hyvää mieltä arkeen. \n\nLiikkumisen motivaatio-osuudessa kerromme enemmän\, mitä hyötyjä yksinkertaisesta arki- ja kuntoliikunnasta on jokaiselle. Erään tutkimuksen mukaan tietyillä ikäryhmillä päivittäisen kävelymäärän nostaminen 2 700 askeleesta 4 400 askeleeseen vähensi kuolemanriskiä seuraavan neljän vuoden tarkastelujaksolla 41 %. Suorittamalla etämarssimme neljän päivän vähimmäisvaatimuksen kymmenen kilometriä olet jo ottanut askeleita oikeaan suuntaan. \n\nOsallistuaksesi tapahtumaamme sinun ei siis tarvitse olla hyväkuntoinen eikä suorittaa kuntoasi suurempia ponnistuksia. Jos taas jo olet keskivertoa aktiivisempi liikkuja\, saat haastetta marssimalla pidemmän matkan ja kantamalla vapaaehtoista tuloksissa huomioitavaa lisäpainoa. \nTapahtuma on käynnissä torstaista sunnuntaihin 18.-23.5.2023. Voit itse valita\, osallistutko etämarssiin yhtenä päivänä\, jokaisena neljänä päivänä vai jotain siltä väliltä. Tapahtuman suorittamiseksi riittää\, että olet kävellyt yhteensä kymmenen kilometriä. Pidemmistä suorituksista saat mainetta ja kunniaa tulos- ja palkitsemisjärjestelmämme kautta. Mitalijärjestelmästä löydät lisätietoa erillisestä ohjeesta. \nOlemme luoneet tavoitteellisuutta seuraavilla neljällä tapahtuman kokonaismatkaa kuvaavalla kategorialla eli suoritusluokalla\, joista voit halutessasi valita tähtäimeesi sopivan. \n\n\n10\,00-39\,99 km ”Kävelijä” \n40\,00-99\,99 km ”Marssija” \n100\,00-159\,99 km ”Mestarimarssija” \n160- km ”Kaukopartiolainen” \n\n\nRESUL Four Day March -tapahtumassa valitset itse \n\nkuinka monta kilometriä liikut\nminä neljästä päivästä liikut\nmitä reittiä liikut\nmitä vauhtia liikut\nmissä varusteissa liikut\nkenen kanssa liikut. \n\n\n 
URL:https://www.vihma.fi/tapahtuma/resul-four-day-march-18-21-5-2023/
CATEGORIES:Liikunta
END:VEVENT
BEGIN:VEVENT
DTSTART;TZID=Europe/Helsinki:20230518T180000
DTEND;TZID=Europe/Helsinki:20230518T200000
DTSTAMP:20260422T141005
CREATED:20230120T112633Z
LAST-MODIFIED:20251123T212455Z
UID:10000510-1684432800-1684440000@www.vihma.fi
SUMMARY:Ulkoratavuoro Heinjoki
DESCRIPTION:Pohjois-Savon reservipiirien kiväärivuoro Kuopiossa Heinjoen luodikkoradalla torstaisin klo 18-20. \nOletko tulossa ensimmäistä kertaa viikkovuorolle? Tutustu toimintaa helpottaviin ohjeisiin Vihman nettisivuilla. \nAlueelle saavuttaessa on automaattinen portti\, joka tullaan avaamaan noin klo 17.30. \nErikseen mainituille ratavuoroille on mahdollista varata laina-aseita. Vuoron alussa laina-ase ampujat maksavat osallistumismaksun\, joka sisältää mm. aseiden käytön\, ratamaksun\, patruunat\, taulut\, paikkatarvikkeet ja mahdolliset muut laina- varusteet. Patruunoita ei myydä ratavuorojen ulkopuoliseen käyttöön. Reserviläiset voivat varata yhdistyksen laina-aseita on seuraavalla lomakkeella. Tarkista vuorot ja varausehdot lomakkeelta. \nJos olet tulossa ensimmäistä kertaa ulkorata vuoroille\, pidetään pienimuotoinen perehdytys ratatoimintaan. Ilmoittaudu radalle tullessasi ammunnan johtajalle\, että olet ensimmäistä kertaa paikalla. Perehdytyksessä käydään läpi yhteiset pelisäännöt ja toimintatavat. \nJokaisella ampujalla tulee olla voimassa oleva Reserviläisten ampumaturva tai SAL:n kilpailu/harrastajalisenssi. Muista kirjata jokainen ampumakertasi piirien ratapäiväkirjaan.
URL:https://www.vihma.fi/tapahtuma/ulkoratavuoro-heinjoki-4/2023-05-18/
LOCATION:Heinjoen ampumaurheilukeskus\, Savitie 118\, Hiltulanlahti\, 70870\, Suomi
CATEGORIES:Ammunta
GEO:62.7948279;27.5626754
X-APPLE-STRUCTURED-LOCATION;VALUE=URI;X-ADDRESS=Heinjoen ampumaurheilukeskus Savitie 118 Hiltulanlahti 70870 Suomi;X-APPLE-RADIUS=500;X-TITLE=Savitie 118:geo:27.5626754,62.7948279
END:VEVENT
BEGIN:VEVENT
DTSTART;TZID=Europe/Helsinki:20230519T170000
DTEND;TZID=Europe/Helsinki:20230519T190000
DTSTAMP:20260422T141005
CREATED:20230120T111639Z
LAST-MODIFIED:20230120T112013Z
UID:10000459-1684515600-1684522800@www.vihma.fi
SUMMARY:Kiväärivuoro Heinjoki
DESCRIPTION:Pohjois-Savon reservipiirien ja Kuopion ampuma- ja metsästysseuran (KAMS) yhteinen kiväärivuoro Heinjoen luodikkoradalla klo 17-19. \nYhdistysten lainakalustoa ei ole toistaiseksi saatavilla näille vuoroille.
URL:https://www.vihma.fi/tapahtuma/ulkoratavuoro-heinjoki-3/2023-05-19/
LOCATION:Heinjoen ampumaurheilukeskus\, Savitie 118\, Hiltulanlahti\, 70870\, Suomi
CATEGORIES:Ammunta
GEO:62.7948279;27.5626754
X-APPLE-STRUCTURED-LOCATION;VALUE=URI;X-ADDRESS=Heinjoen ampumaurheilukeskus Savitie 118 Hiltulanlahti 70870 Suomi;X-APPLE-RADIUS=500;X-TITLE=Savitie 118:geo:27.5626754,62.7948279
END:VEVENT
BEGIN:VEVENT
DTSTART;TZID=Europe/Helsinki:20230520T080000
DTEND;TZID=Europe/Helsinki:20230521T170000
DTSTAMP:20260422T141005
CREATED:20230314T145519Z
LAST-MODIFIED:20230314T145645Z
UID:10000709-1684569600-1684688400@www.vihma.fi
SUMMARY:Perinnease SM-kilpailut (ResUL)
DESCRIPTION:Tyrrin ampumaradalla Utissa kilpaillaan 20.-21.5.2023 perinneaseiden suomenmestaruuksista. \nPohjois-Savon reservipiirien ilmoittautumiset Janne Hyväriselle 21.4.2023 klo 12 mennessä (jannejames (at) gmail.com). \n\nnimi\nsotilasarvo\nsarja\n\nhttps://resul.fi/kilpailukutsu/reservilaisurheiluliiton-perinnease-sm-kilpailut/
URL:https://www.vihma.fi/tapahtuma/perinnease-sm-kilpailut-resul/
LOCATION:Tyrrin ampumakeskus\, Tyrrin ampumakeskus\, Utti\, Kymenlaakso\, 45410\, Suomi
CATEGORIES:Ammunta
GEO:60.8851713;26.9059971
X-APPLE-STRUCTURED-LOCATION;VALUE=URI;X-ADDRESS=Tyrrin ampumakeskus Tyrrin ampumakeskus Utti Kymenlaakso 45410 Suomi;X-APPLE-RADIUS=500;X-TITLE=Tyrrin ampumakeskus:geo:26.9059971,60.8851713
END:VEVENT
BEGIN:VEVENT
DTSTART;TZID=Europe/Helsinki:20230520T080000
DTEND;TZID=Europe/Helsinki:20230521T170000
DTSTAMP:20260422T141005
CREATED:20230318T171010Z
LAST-MODIFIED:20230318T171010Z
UID:10000721-1684569600-1684688400@www.vihma.fi
SUMMARY:KKC 2/2023 Vesanto
DESCRIPTION:Kilpailu toimii osakilpailuna Pohjois-Savon reserviupseeri- ja reserviläispiirien SM 2024 -edustajien valinnassa. \nKilpailuun hyväksytään ensimmäisen 7 vuorokauden ajan vain vain Pohjois-Savon reserviläispiirien jäseniä. \n\nhttps://shootnscoreit.com/event/22/16741/
URL:https://www.vihma.fi/tapahtuma/kkc-2-2023-vesanto/
CATEGORIES:SRA
ORGANIZER;CN="Pohjois-Savon reservipiirit":MAILTO:toiminnanjohtaja@vihma.fi
END:VEVENT
END:VCALENDAR