BEGIN:VCALENDAR
VERSION:2.0
PRODID:-//Vihma.fi - ECPv6.15.20//NONSGML v1.0//EN
CALSCALE:GREGORIAN
METHOD:PUBLISH
X-WR-CALNAME:Vihma.fi
X-ORIGINAL-URL:https://www.vihma.fi
X-WR-CALDESC:Tapahtumat Vihma.fi
REFRESH-INTERVAL;VALUE=DURATION:PT1H
X-Robots-Tag:noindex
X-PUBLISHED-TTL:PT1H
BEGIN:VTIMEZONE
TZID:Europe/Helsinki
BEGIN:DAYLIGHT
TZOFFSETFROM:+0200
TZOFFSETTO:+0300
TZNAME:EEST
DTSTART:20220327T010000
END:DAYLIGHT
BEGIN:STANDARD
TZOFFSETFROM:+0300
TZOFFSETTO:+0200
TZNAME:EET
DTSTART:20221030T010000
END:STANDARD
BEGIN:DAYLIGHT
TZOFFSETFROM:+0200
TZOFFSETTO:+0300
TZNAME:EEST
DTSTART:20230326T010000
END:DAYLIGHT
BEGIN:STANDARD
TZOFFSETFROM:+0300
TZOFFSETTO:+0200
TZNAME:EET
DTSTART:20231029T010000
END:STANDARD
BEGIN:DAYLIGHT
TZOFFSETFROM:+0200
TZOFFSETTO:+0300
TZNAME:EEST
DTSTART:20240331T010000
END:DAYLIGHT
BEGIN:STANDARD
TZOFFSETFROM:+0300
TZOFFSETTO:+0200
TZNAME:EET
DTSTART:20241027T010000
END:STANDARD
END:VTIMEZONE
BEGIN:VEVENT
DTSTART;TZID=Europe/Helsinki:20230501T170000
DTEND;TZID=Europe/Helsinki:20230501T190000
DTSTAMP:20260422T125640
CREATED:20230120T111351Z
LAST-MODIFIED:20230120T111351Z
UID:10000409-1682960400-1682967600@www.vihma.fi
SUMMARY:Heinjoki pistoolivuoro
DESCRIPTION:Pohjois-Savon reservipiirien ja Kuopion ampuma- ja metsästysseuran (KAMS) yhteinen pistoolivuoro Heinjoen pistooliradalla klo 17-19. \nHuom! Radan maksimi kaliberi 9 mm ja ainoastaan vaipattomat lyijyluodit sallittuja! \nYhdistysten lainakalustoa ei ole toistaiseksi saatavilla näille vuoroille.
URL:https://www.vihma.fi/tapahtuma/heinjoki-pistoolivuoro-2/2023-05-01/
LOCATION:Heinjoen ampumaurheilukeskus\, Savitie 118\, Hiltulanlahti\, 70870\, Suomi
CATEGORIES:Ammunta
GEO:62.7948279;27.5626754
X-APPLE-STRUCTURED-LOCATION;VALUE=URI;X-ADDRESS=Heinjoen ampumaurheilukeskus Savitie 118 Hiltulanlahti 70870 Suomi;X-APPLE-RADIUS=500;X-TITLE=Savitie 118:geo:27.5626754,62.7948279
END:VEVENT
BEGIN:VEVENT
DTSTART;TZID=Europe/Helsinki:20230502T180000
DTEND;TZID=Europe/Helsinki:20230502T200000
DTSTAMP:20260422T125640
CREATED:20230315T134413Z
LAST-MODIFIED:20230315T134541Z
UID:10000710-1683050400-1683057600@www.vihma.fi
SUMMARY:Viikkoammunnat Iisalmi\, pistooli
DESCRIPTION:Piirin viikkoammunnat Iisalmessa. Vuoro on kaikille avoin. \nMahdollisuus ampua piirin aseilla tai omalla aseella. \nPortit avataan hieman ennen vuoron alkua\, saavu paikalle ja ilmoittaudu ammunnanjohtajalle. \nAmmunnasta veloitetaan ratamaksu sekä ammutut patruunat. Maksu onnistuu kortilla tai käteisellä.
URL:https://www.vihma.fi/tapahtuma/viikkoammunnat-iisalmi-pistooli-4/2023-05-02/
CATEGORIES:Ammunta
END:VEVENT
BEGIN:VEVENT
DTSTART;TZID=Europe/Helsinki:20230504T180000
DTEND;TZID=Europe/Helsinki:20230504T200000
DTSTAMP:20260422T125640
CREATED:20230120T112633Z
LAST-MODIFIED:20251123T212455Z
UID:10000508-1683223200-1683230400@www.vihma.fi
SUMMARY:Ulkoratavuoro Heinjoki
DESCRIPTION:Pohjois-Savon reservipiirien kiväärivuoro Kuopiossa Heinjoen luodikkoradalla torstaisin klo 18-20. \nOletko tulossa ensimmäistä kertaa viikkovuorolle? Tutustu toimintaa helpottaviin ohjeisiin Vihman nettisivuilla. \nAlueelle saavuttaessa on automaattinen portti\, joka tullaan avaamaan noin klo 17.30. \nErikseen mainituille ratavuoroille on mahdollista varata laina-aseita. Vuoron alussa laina-ase ampujat maksavat osallistumismaksun\, joka sisältää mm. aseiden käytön\, ratamaksun\, patruunat\, taulut\, paikkatarvikkeet ja mahdolliset muut laina- varusteet. Patruunoita ei myydä ratavuorojen ulkopuoliseen käyttöön. Reserviläiset voivat varata yhdistyksen laina-aseita on seuraavalla lomakkeella. Tarkista vuorot ja varausehdot lomakkeelta. \nJos olet tulossa ensimmäistä kertaa ulkorata vuoroille\, pidetään pienimuotoinen perehdytys ratatoimintaan. Ilmoittaudu radalle tullessasi ammunnan johtajalle\, että olet ensimmäistä kertaa paikalla. Perehdytyksessä käydään läpi yhteiset pelisäännöt ja toimintatavat. \nJokaisella ampujalla tulee olla voimassa oleva Reserviläisten ampumaturva tai SAL:n kilpailu/harrastajalisenssi. Muista kirjata jokainen ampumakertasi piirien ratapäiväkirjaan.
URL:https://www.vihma.fi/tapahtuma/ulkoratavuoro-heinjoki-4/2023-05-04/
LOCATION:Heinjoen ampumaurheilukeskus\, Savitie 118\, Hiltulanlahti\, 70870\, Suomi
CATEGORIES:Ammunta
GEO:62.7948279;27.5626754
X-APPLE-STRUCTURED-LOCATION;VALUE=URI;X-ADDRESS=Heinjoen ampumaurheilukeskus Savitie 118 Hiltulanlahti 70870 Suomi;X-APPLE-RADIUS=500;X-TITLE=Savitie 118:geo:27.5626754,62.7948279
END:VEVENT
BEGIN:VEVENT
DTSTART;VALUE=DATE:20230505
DTEND;VALUE=DATE:20230508
DTSTAMP:20260422T125640
CREATED:20230216T125841Z
LAST-MODIFIED:20230216T130112Z
UID:10000687-1683244800-1683503999@www.vihma.fi
SUMMARY:Sotilasmoniottelu
DESCRIPTION:Sotilasmoniottelu järjestetään 5.-7.5. Santahaminassa. Kilpailun perusteella valikoidaan myös liiton joukkueiden jäsenet NATO:n reserviupseerien järjestön CIOR:n 2023 sotilasmoniottelukilpailuun 24.-30.6. Tämäkin kilpailu järjestetään Santahaminassa. Tänä vuonna yritetään saada kasaan neljä kolmihenkistä joukkuetta eli kolme miesten joukkuetta ja yksi naisten joukkue sekä näille varajäsenet. \nKarsintakilpailu suoriteaan yksilösuorituksina ja lajeina on pistooli- ja kivääriammunta\, esterata 500m\, esteuinti 50m\, kranaatinheitto\, suunnistus \nKilpailuun voivat osallistua kaikki RUL ja RES jäsenet\, kilpailuun osallistuminen on maksutonta ja sen tarjoaa RUL. \nMukaan tarvitset omat urheiluvälineet ja reipasta mieltä. Aseet ja patruunat tulevat järjestäjän toimesta. \n  \nReserviläisurheiluliiton infosivu \n  \n  \nLisäksi Kuopion reserviupseerikerholla on \nTreeni- & sparrausryhmä  \nTalven ja kevään 2023 aikana kootaan Kuopiossa treeni- ja sparrausryhmä\, jonka tavoitteena on tutustuttaa osallistujat sotilasmoniotteluun ja valmentaa halukkaita osallistumaan Santahaminassa 5. – 7.5.2023 järjestettävään sotilasmoniottelukilpailuun. Järjestäjänä toimii Kuopion Reserviupseerikerho\, mutta mukaan kutsutaan myös Pohjois-Savon alueen muiden kerhojen ja yhdistyksen aiheesta kiinnostuneet jäsenet. Lisätietoja ”Treeni- & sparrauryhmä” linkistä \nYhteydenotot ja lisätiedot: \nSatu Linnaranta / satulinnaranta(at)hotmail.com / p. 050 374 2850 \nTreeniryhmällä on myös Watsapp ryhmä johon pääset mukaan ilmottautumalla Sadulle.
URL:https://www.vihma.fi/tapahtuma/sotilasmoniottelu/
CATEGORIES:Ammunta,Liikunta
END:VEVENT
BEGIN:VEVENT
DTSTART;TZID=Europe/Helsinki:20230505T170000
DTEND;TZID=Europe/Helsinki:20230505T190000
DTSTAMP:20260422T125640
CREATED:20230120T111639Z
LAST-MODIFIED:20230120T112013Z
UID:10000457-1683306000-1683313200@www.vihma.fi
SUMMARY:Kiväärivuoro Heinjoki
DESCRIPTION:Pohjois-Savon reservipiirien ja Kuopion ampuma- ja metsästysseuran (KAMS) yhteinen kiväärivuoro Heinjoen luodikkoradalla klo 17-19. \nYhdistysten lainakalustoa ei ole toistaiseksi saatavilla näille vuoroille.
URL:https://www.vihma.fi/tapahtuma/ulkoratavuoro-heinjoki-3/2023-05-05/
LOCATION:Heinjoen ampumaurheilukeskus\, Savitie 118\, Hiltulanlahti\, 70870\, Suomi
CATEGORIES:Ammunta
GEO:62.7948279;27.5626754
X-APPLE-STRUCTURED-LOCATION;VALUE=URI;X-ADDRESS=Heinjoen ampumaurheilukeskus Savitie 118 Hiltulanlahti 70870 Suomi;X-APPLE-RADIUS=500;X-TITLE=Savitie 118:geo:27.5626754,62.7948279
END:VEVENT
BEGIN:VEVENT
DTSTART;TZID=Europe/Helsinki:20230506T080000
DTEND;TZID=Europe/Helsinki:20230507T170000
DTSTAMP:20260422T125640
CREATED:20230215T104854Z
LAST-MODIFIED:20230215T104854Z
UID:10000683-1683360000-1683478800@www.vihma.fi
SUMMARY:KUKKAROJOTOS 2023 MTB 
DESCRIPTION:Reserviläisurheiluliiton maastopyöräjotos (MTB) 6.-7.5.2023 Pieksämäellä \nLisätietoa linkistä. \nReserviläisurheiluliiton infosivu/ilmottautumislinkki \n  \nKokoa partio ja ilmottaudu mukaan.
URL:https://www.vihma.fi/tapahtuma/kukkarojotos-2023-mtb/
CATEGORIES:JOTOS,Liikunta
END:VEVENT
BEGIN:VEVENT
DTSTART;VALUE=DATE:20230507
DTEND;VALUE=DATE:20230508
DTSTAMP:20260422T125640
CREATED:20230215T120714Z
LAST-MODIFIED:20230215T120714Z
UID:10000684-1683417600-1683503999@www.vihma.fi
SUMMARY:Pistooliampumajuoksun mestaruuskisat
DESCRIPTION:Reserviläisurheiluliiton pistooliampumajuoksun mestaruuskisat \njärjestetään Salossa 7.5.2023 \n  \nReserviläisurheiluliiton infosivu \n  \n  \nIlmoittautuminen piireittän. \nPohjois-Savon ilmoittautumiset 17.4.2023 mennessä (jotta ehditään tehdä ilmoittautumiset ajallaan) \nMika Lustig \nmika.lustig@gmail.com
URL:https://www.vihma.fi/tapahtuma/pistooliampumajuoksun-mestaruuskisat/
CATEGORIES:Ammunta,Liikunta
END:VEVENT
END:VCALENDAR