BEGIN:VCALENDAR
VERSION:2.0
PRODID:-//Vihma.fi - ECPv6.15.20//NONSGML v1.0//EN
CALSCALE:GREGORIAN
METHOD:PUBLISH
X-WR-CALNAME:Vihma.fi
X-ORIGINAL-URL:https://www.vihma.fi
X-WR-CALDESC:Tapahtumat Vihma.fi
REFRESH-INTERVAL;VALUE=DURATION:PT1H
X-Robots-Tag:noindex
X-PUBLISHED-TTL:PT1H
BEGIN:VTIMEZONE
TZID:Europe/Helsinki
BEGIN:DAYLIGHT
TZOFFSETFROM:+0200
TZOFFSETTO:+0300
TZNAME:EEST
DTSTART:20220327T010000
END:DAYLIGHT
BEGIN:STANDARD
TZOFFSETFROM:+0300
TZOFFSETTO:+0200
TZNAME:EET
DTSTART:20221030T010000
END:STANDARD
BEGIN:DAYLIGHT
TZOFFSETFROM:+0200
TZOFFSETTO:+0300
TZNAME:EEST
DTSTART:20230326T010000
END:DAYLIGHT
BEGIN:STANDARD
TZOFFSETFROM:+0300
TZOFFSETTO:+0200
TZNAME:EET
DTSTART:20231029T010000
END:STANDARD
BEGIN:DAYLIGHT
TZOFFSETFROM:+0200
TZOFFSETTO:+0300
TZNAME:EEST
DTSTART:20240331T010000
END:DAYLIGHT
BEGIN:STANDARD
TZOFFSETFROM:+0300
TZOFFSETTO:+0200
TZNAME:EET
DTSTART:20241027T010000
END:STANDARD
END:VTIMEZONE
BEGIN:VEVENT
DTSTART;TZID=Europe/Helsinki:20230424T170000
DTEND;TZID=Europe/Helsinki:20230424T190000
DTSTAMP:20260422T142352
CREATED:20230120T111351Z
LAST-MODIFIED:20230120T111351Z
UID:10000408-1682355600-1682362800@www.vihma.fi
SUMMARY:Heinjoki pistoolivuoro
DESCRIPTION:Pohjois-Savon reservipiirien ja Kuopion ampuma- ja metsästysseuran (KAMS) yhteinen pistoolivuoro Heinjoen pistooliradalla klo 17-19. \nHuom! Radan maksimi kaliberi 9 mm ja ainoastaan vaipattomat lyijyluodit sallittuja! \nYhdistysten lainakalustoa ei ole toistaiseksi saatavilla näille vuoroille.
URL:https://www.vihma.fi/tapahtuma/heinjoki-pistoolivuoro-2/2023-04-24/
LOCATION:Heinjoen ampumaurheilukeskus\, Savitie 118\, Hiltulanlahti\, 70870\, Suomi
CATEGORIES:Ammunta
GEO:62.7948279;27.5626754
X-APPLE-STRUCTURED-LOCATION;VALUE=URI;X-ADDRESS=Heinjoen ampumaurheilukeskus Savitie 118 Hiltulanlahti 70870 Suomi;X-APPLE-RADIUS=500;X-TITLE=Savitie 118:geo:27.5626754,62.7948279
END:VEVENT
BEGIN:VEVENT
DTSTART;TZID=Europe/Helsinki:20230427T180000
DTEND;TZID=Europe/Helsinki:20230427T200000
DTSTAMP:20260422T142352
CREATED:20230120T112633Z
LAST-MODIFIED:20251123T212455Z
UID:10000507-1682618400-1682625600@www.vihma.fi
SUMMARY:Ulkoratavuoro Heinjoki
DESCRIPTION:Pohjois-Savon reservipiirien kiväärivuoro Kuopiossa Heinjoen luodikkoradalla torstaisin klo 18-20. \nOletko tulossa ensimmäistä kertaa viikkovuorolle? Tutustu toimintaa helpottaviin ohjeisiin Vihman nettisivuilla. \nAlueelle saavuttaessa on automaattinen portti\, joka tullaan avaamaan noin klo 17.30. \nErikseen mainituille ratavuoroille on mahdollista varata laina-aseita. Vuoron alussa laina-ase ampujat maksavat osallistumismaksun\, joka sisältää mm. aseiden käytön\, ratamaksun\, patruunat\, taulut\, paikkatarvikkeet ja mahdolliset muut laina- varusteet. Patruunoita ei myydä ratavuorojen ulkopuoliseen käyttöön. Reserviläiset voivat varata yhdistyksen laina-aseita on seuraavalla lomakkeella. Tarkista vuorot ja varausehdot lomakkeelta. \nJos olet tulossa ensimmäistä kertaa ulkorata vuoroille\, pidetään pienimuotoinen perehdytys ratatoimintaan. Ilmoittaudu radalle tullessasi ammunnan johtajalle\, että olet ensimmäistä kertaa paikalla. Perehdytyksessä käydään läpi yhteiset pelisäännöt ja toimintatavat. \nJokaisella ampujalla tulee olla voimassa oleva Reserviläisten ampumaturva tai SAL:n kilpailu/harrastajalisenssi. Muista kirjata jokainen ampumakertasi piirien ratapäiväkirjaan.
URL:https://www.vihma.fi/tapahtuma/ulkoratavuoro-heinjoki-4/2023-04-27/
LOCATION:Heinjoen ampumaurheilukeskus\, Savitie 118\, Hiltulanlahti\, 70870\, Suomi
CATEGORIES:Ammunta
GEO:62.7948279;27.5626754
X-APPLE-STRUCTURED-LOCATION;VALUE=URI;X-ADDRESS=Heinjoen ampumaurheilukeskus Savitie 118 Hiltulanlahti 70870 Suomi;X-APPLE-RADIUS=500;X-TITLE=Savitie 118:geo:27.5626754,62.7948279
END:VEVENT
BEGIN:VEVENT
DTSTART;TZID=Europe/Helsinki:20230428T000000
DTEND;TZID=Europe/Helsinki:20230429T235900
DTSTAMP:20260422T142352
CREATED:20230405T073516Z
LAST-MODIFIED:20230405T073516Z
UID:10000723-1682640000-1682812740@www.vihma.fi
SUMMARY:Varustelekan etäsotilasmarssi 28.-29.4.2023
DESCRIPTION:Varustelekan sivuilta poimittua. \n”Tervehdys\, etäsotilaat! Kevät on tuloillaan\, ja jälleen on aika laittaa reppu selkään ja pitää hauskaa omien jalkojen rankaisemisen muodossa 28.-29.4.2023. \nVarustelekan etäsotilasmarssi pistettiin alkujaan pystyyn korvaamaan peruuntunutta Etelä-Karjalan Sotilasmarssia. Kysyntä etämarssille on kuitenkin ollut niin kovaa\, että siitä on nyt muodostunut ihan jokavuotinen luonnossa liikkumisen riemujuhla.  Tässä vaiheessa homman pitäisi olla jo kaikille tuttua: jokainen suorittaa marssin itsenäisesti (tai ryhmissä) ja jakaa hauskuuden sosiaalisesssa mediassa. Näin pidetään yllä marssikuntoa ja toimintavalmiutta. Tällaisesta saattaa joku nauttiakin\, mutta se ei ole pakollista. \nHaasteen suorittaneilla on mahdollisuus lunastaa himoittu Varustelekan Etäsotilasmarssi -merkki\, ja marssiin osallistuneiden kesken arvotaan 1 kpl 100 € lahjakortteja ja 2 kpl 50 € lahjakortteja. Merkki on kaikille samanlainen riippumatta sarjasta ja marssimatkasta.” \nHUOM! \nTämä on myös loistava harjoitus totuttamaan jalkoja toukokuun Resul Four Day March marssille. #R4DM
URL:https://www.vihma.fi/tapahtuma/varustelekan-etasotilasmarssi-28-29-4-2023/
CATEGORIES:Liikunta
END:VEVENT
BEGIN:VEVENT
DTSTART;TZID=Europe/Helsinki:20230428T170000
DTEND;TZID=Europe/Helsinki:20230428T190000
DTSTAMP:20260422T142352
CREATED:20230120T111639Z
LAST-MODIFIED:20230120T112013Z
UID:10000456-1682701200-1682708400@www.vihma.fi
SUMMARY:Kiväärivuoro Heinjoki
DESCRIPTION:Pohjois-Savon reservipiirien ja Kuopion ampuma- ja metsästysseuran (KAMS) yhteinen kiväärivuoro Heinjoen luodikkoradalla klo 17-19. \nYhdistysten lainakalustoa ei ole toistaiseksi saatavilla näille vuoroille.
URL:https://www.vihma.fi/tapahtuma/ulkoratavuoro-heinjoki-3/2023-04-28/
LOCATION:Heinjoen ampumaurheilukeskus\, Savitie 118\, Hiltulanlahti\, 70870\, Suomi
CATEGORIES:Ammunta
GEO:62.7948279;27.5626754
X-APPLE-STRUCTURED-LOCATION;VALUE=URI;X-ADDRESS=Heinjoen ampumaurheilukeskus Savitie 118 Hiltulanlahti 70870 Suomi;X-APPLE-RADIUS=500;X-TITLE=Savitie 118:geo:27.5626754,62.7948279
END:VEVENT
BEGIN:VEVENT
DTSTART;TZID=Europe/Helsinki:20230429T100000
DTEND;TZID=Europe/Helsinki:20230429T160000
DTSTAMP:20260422T142352
CREATED:20230310T135840Z
LAST-MODIFIED:20230320T155323Z
UID:10000698-1682762400-1682784000@www.vihma.fi
SUMMARY:NOSTOVÄEN AMPUMAKILPAILU 29.4.2023
DESCRIPTION:Tänä vuonna nostoväen RK-kilpailu järjestetään omana tapahtumanaan eri viikonloppuna. Kilpailu on tarkoitettu tänä vuonna 61 vuotta täyttäville tai sitä vanhemmille Pohjois-Savon Reserviläisyhdistysten jäsenille. \nKilpailuohjelma on hieman helpotettu varsinaisesta RK-kilpailusta\, eli \nAmmutaan 1.vaihe kuten reservin kilpailussa (AMET 150m)\, mutta yhdestä lippaasta (10lks).\nAmmutaan 2.vaihe kuten reservin kilpailussa (AMET 50m)\, mutta yhdestä lippaasta\, vain seisten\, 5 sekunnin kääntöihin kertalaukauksina (6 lks).\nAmmutaan 3.vaihe kuten reservin kilpailussa (AMET 50m)\, mutta yhdestä lippaasta\, vain seisten\, 5 sekunnin kääntöihin tuplalaukauksina (6 lks). \nLisätiedot ja ilmoittautuminen jukka.mutanen@mpk.fi
URL:https://www.vihma.fi/tapahtuma/nostovaen-ampumakilpailu-29-4-2023/
CATEGORIES:Ammunta
ORGANIZER;CN="Pohjois-Savon reservipiirit":MAILTO:toiminnanjohtaja@vihma.fi
END:VEVENT
END:VCALENDAR