BEGIN:VCALENDAR
VERSION:2.0
PRODID:-//Vihma.fi - ECPv6.15.20//NONSGML v1.0//EN
CALSCALE:GREGORIAN
METHOD:PUBLISH
X-WR-CALNAME:Vihma.fi
X-ORIGINAL-URL:https://www.vihma.fi
X-WR-CALDESC:Tapahtumat Vihma.fi
REFRESH-INTERVAL;VALUE=DURATION:PT1H
X-Robots-Tag:noindex
X-PUBLISHED-TTL:PT1H
BEGIN:VTIMEZONE
TZID:Europe/Helsinki
BEGIN:DAYLIGHT
TZOFFSETFROM:+0200
TZOFFSETTO:+0300
TZNAME:EEST
DTSTART:20220327T010000
END:DAYLIGHT
BEGIN:STANDARD
TZOFFSETFROM:+0300
TZOFFSETTO:+0200
TZNAME:EET
DTSTART:20221030T010000
END:STANDARD
BEGIN:DAYLIGHT
TZOFFSETFROM:+0200
TZOFFSETTO:+0300
TZNAME:EEST
DTSTART:20230326T010000
END:DAYLIGHT
BEGIN:STANDARD
TZOFFSETFROM:+0300
TZOFFSETTO:+0200
TZNAME:EET
DTSTART:20231029T010000
END:STANDARD
BEGIN:DAYLIGHT
TZOFFSETFROM:+0200
TZOFFSETTO:+0300
TZNAME:EEST
DTSTART:20240331T010000
END:DAYLIGHT
BEGIN:STANDARD
TZOFFSETFROM:+0300
TZOFFSETTO:+0200
TZNAME:EET
DTSTART:20241027T010000
END:STANDARD
END:VTIMEZONE
BEGIN:VEVENT
DTSTART;TZID=Europe/Helsinki:20230417T170000
DTEND;TZID=Europe/Helsinki:20230417T190000
DTSTAMP:20260422T142401
CREATED:20230120T111351Z
LAST-MODIFIED:20230120T111351Z
UID:10000407-1681750800-1681758000@www.vihma.fi
SUMMARY:Heinjoki pistoolivuoro
DESCRIPTION:Pohjois-Savon reservipiirien ja Kuopion ampuma- ja metsästysseuran (KAMS) yhteinen pistoolivuoro Heinjoen pistooliradalla klo 17-19. \nHuom! Radan maksimi kaliberi 9 mm ja ainoastaan vaipattomat lyijyluodit sallittuja! \nYhdistysten lainakalustoa ei ole toistaiseksi saatavilla näille vuoroille.
URL:https://www.vihma.fi/tapahtuma/heinjoki-pistoolivuoro-2/2023-04-17/
LOCATION:Heinjoen ampumaurheilukeskus\, Savitie 118\, Hiltulanlahti\, 70870\, Suomi
CATEGORIES:Ammunta
GEO:62.7948279;27.5626754
X-APPLE-STRUCTURED-LOCATION;VALUE=URI;X-ADDRESS=Heinjoen ampumaurheilukeskus Savitie 118 Hiltulanlahti 70870 Suomi;X-APPLE-RADIUS=500;X-TITLE=Savitie 118:geo:27.5626754,62.7948279
END:VEVENT
BEGIN:VEVENT
DTSTART;TZID=Europe/Helsinki:20230418T163000
DTEND;TZID=Europe/Helsinki:20230418T200000
DTSTAMP:20260422T142401
CREATED:20230414T082929Z
LAST-MODIFIED:20230414T082929Z
UID:10000727-1681835400-1681848000@www.vihma.fi
SUMMARY:POHJOIS-SAVON RESERVILÄISPIIRI RY - SÄÄNTÖMÄÄRÄINEN KEVÄTKOKOUS
DESCRIPTION:AIKA:		Tiistai 18.4.2023 klo 18.00\nPAIKKA:		Savon Koulutuskuntayhtymä\, Hehkukatu 1\, pääovi; ravintolamaailman aula\, 1. krs \nKäsiteltävät asiat:Sääntöjen kevätkokoukselle määräämät asiat \nKahvitarjoilu klo 16:30 \nPohjois-Savon Reservipiirien yhteinen esitelmätilaisuus klo 17:00 (myös Teams) \nKokous klo 18:00 \nJokaisella Pohjois-Savon Reserviläispiiriin kuuluvan yhdistyksen jäsenellä on vaihtoehtona mahdollisuus osallistua piirin kevätkokoukseen Teams-yhteydellä. Teams-kokoukseen on ilmoittauduttava perjantaihin 14.4.2023 mennessä osoitteeseen toiminnanjohtaja@vihma.fi.
URL:https://www.vihma.fi/tapahtuma/pohjois-savon-reservilaispiiri-ry-saantomaarainen-kevatkokous/
CATEGORIES:Kokoukset
ORGANIZER;CN="Pohjois-Savon Reservil%C3%A4ispiiri":MAILTO:toiminnanjohtaja@vihma.fi
END:VEVENT
BEGIN:VEVENT
DTSTART;TZID=Europe/Helsinki:20230418T163000
DTEND;TZID=Europe/Helsinki:20230418T200000
DTSTAMP:20260422T142401
CREATED:20230414T083113Z
LAST-MODIFIED:20230414T083113Z
UID:10000728-1681835400-1681848000@www.vihma.fi
SUMMARY:POHJOIS-SAVON  RESERVIUPSEERIPIIRI RY - SÄÄNTÖMÄÄRÄINEN KEVÄTKOKOUS
DESCRIPTION:AIKA:		Tiistai 18.4.2023 klo 18.00\nPAIKKA:		Savon Koulutuskuntayhtymä\, Hehkukatu 1\, pääovi; ravintolamaailman aula\, 1. krs \nKäsiteltävät asiat: Sääntöjen kevätkokoukselle määräämät asiat \nKahvitarjoilu klo 16:30 \nPohjois-Savon Reservipiirien yhteinen esitelmätilaisuus klo 17:00 (myös Teams) \nKokous n klo 18:00 \nJokaisella Pohjois-Savon Reserviupseeripiiriin kuuluvan yhdistyksen jäsenellä on vaihtoehtona mahdollisuus osallistua piirin kevätkokoukseen Teams-yhteydellä. Teams-kokoukseen on ilmoittauduttava perjantaihin 14.4.2023 mennessä osoitteeseen toiminnanjohtaja@vihma.fi.
URL:https://www.vihma.fi/tapahtuma/pohjois-savon-reserviupseeripiiri-ry-saantomaarainen-kevatkokous/
CATEGORIES:Kokoukset
ORGANIZER;CN="Pohjois-Savon Reserviupseeripiiri":MAILTO:toiminnanjohtaja@vihma.fi
END:VEVENT
BEGIN:VEVENT
DTSTART;TZID=Europe/Helsinki:20230420T180000
DTEND;TZID=Europe/Helsinki:20230420T200000
DTSTAMP:20260422T142401
CREATED:20230120T112633Z
LAST-MODIFIED:20251123T212455Z
UID:10000506-1682013600-1682020800@www.vihma.fi
SUMMARY:Ulkoratavuoro Heinjoki
DESCRIPTION:Pohjois-Savon reservipiirien kiväärivuoro Kuopiossa Heinjoen luodikkoradalla torstaisin klo 18-20. \nOletko tulossa ensimmäistä kertaa viikkovuorolle? Tutustu toimintaa helpottaviin ohjeisiin Vihman nettisivuilla. \nAlueelle saavuttaessa on automaattinen portti\, joka tullaan avaamaan noin klo 17.30. \nErikseen mainituille ratavuoroille on mahdollista varata laina-aseita. Vuoron alussa laina-ase ampujat maksavat osallistumismaksun\, joka sisältää mm. aseiden käytön\, ratamaksun\, patruunat\, taulut\, paikkatarvikkeet ja mahdolliset muut laina- varusteet. Patruunoita ei myydä ratavuorojen ulkopuoliseen käyttöön. Reserviläiset voivat varata yhdistyksen laina-aseita on seuraavalla lomakkeella. Tarkista vuorot ja varausehdot lomakkeelta. \nJos olet tulossa ensimmäistä kertaa ulkorata vuoroille\, pidetään pienimuotoinen perehdytys ratatoimintaan. Ilmoittaudu radalle tullessasi ammunnan johtajalle\, että olet ensimmäistä kertaa paikalla. Perehdytyksessä käydään läpi yhteiset pelisäännöt ja toimintatavat. \nJokaisella ampujalla tulee olla voimassa oleva Reserviläisten ampumaturva tai SAL:n kilpailu/harrastajalisenssi. Muista kirjata jokainen ampumakertasi piirien ratapäiväkirjaan.
URL:https://www.vihma.fi/tapahtuma/ulkoratavuoro-heinjoki-4/2023-04-20/
LOCATION:Heinjoen ampumaurheilukeskus\, Savitie 118\, Hiltulanlahti\, 70870\, Suomi
CATEGORIES:Ammunta
GEO:62.7948279;27.5626754
X-APPLE-STRUCTURED-LOCATION;VALUE=URI;X-ADDRESS=Heinjoen ampumaurheilukeskus Savitie 118 Hiltulanlahti 70870 Suomi;X-APPLE-RADIUS=500;X-TITLE=Savitie 118:geo:27.5626754,62.7948279
END:VEVENT
BEGIN:VEVENT
DTSTART;TZID=Europe/Helsinki:20230421T170000
DTEND;TZID=Europe/Helsinki:20230421T190000
DTSTAMP:20260422T142401
CREATED:20230120T111639Z
LAST-MODIFIED:20230120T112013Z
UID:10000455-1682096400-1682103600@www.vihma.fi
SUMMARY:Kiväärivuoro Heinjoki
DESCRIPTION:Pohjois-Savon reservipiirien ja Kuopion ampuma- ja metsästysseuran (KAMS) yhteinen kiväärivuoro Heinjoen luodikkoradalla klo 17-19. \nYhdistysten lainakalustoa ei ole toistaiseksi saatavilla näille vuoroille.
URL:https://www.vihma.fi/tapahtuma/ulkoratavuoro-heinjoki-3/2023-04-21/
LOCATION:Heinjoen ampumaurheilukeskus\, Savitie 118\, Hiltulanlahti\, 70870\, Suomi
CATEGORIES:Ammunta
GEO:62.7948279;27.5626754
X-APPLE-STRUCTURED-LOCATION;VALUE=URI;X-ADDRESS=Heinjoen ampumaurheilukeskus Savitie 118 Hiltulanlahti 70870 Suomi;X-APPLE-RADIUS=500;X-TITLE=Savitie 118:geo:27.5626754,62.7948279
END:VEVENT
BEGIN:VEVENT
DTSTART;TZID=Europe/Helsinki:20230422T080000
DTEND;TZID=Europe/Helsinki:20230423T180000
DTSTAMP:20260422T142401
CREATED:20230310T135335Z
LAST-MODIFIED:20230310T135335Z
UID:10000697-1682150400-1682272800@www.vihma.fi
SUMMARY:Pohjois-Savon reserviläisten rynnäkkökivääriampumamestaruuskilpailu
DESCRIPTION:Pohjois-Savon aluetoimisto johtaa Pohjois-Savon reserviläisten rynnäkkökivääriampumamestaruuskilpailut Karjalan lennoston ampumaradalla Rissalassa 22.4. – 23.4.2023. Kilpailun läpivienti on muuttunut aikaisemmista vuosista toiminnallisempaan suuntaan\, joten kilpailuun osallistuvien ampujien tulee käydä muuttuneet säännöt (ammutaan RK1 ja 2x RK5) etukäteen läpi ja mahdollisesti myös harjoitella ammunnan eri vaiheet ennen kilpailua. Laukausmäärä ja pistelasku ovat säilyneet edelleen ennallaan (22 laukausta/max 220 pistettä).   Kilpailuun osallistumisoikeus on varusmiespalveluksen tai naisten vapaaehtoisen asepalveluksen suorittaneilla asevelvollisilla. Kilpailussa ammutaan joukkue- ja henkilökohtainen kilpailu. Joukkueen muodostavat 5 ampujaa\, joiden ei tarvitse olla samasta reserviläisyhdistyksestä. Ota yhteyttä yhdistyksesi yhteyshenkilöön/puheenjohtajaan\, jos haluat ilmoittautua kilpailuun. Yhdistykset keräävät osallistujat ja ilmoittavat heidät kootusti eteenpäin.Huom! Ilmoittautuminen on hoidettava oman reserviupseeri- tai reserviläisyhdistyksen kautta! ja tehtävä ENNEN 31.3.2023 PISTOOLIAMMUNTA RK-kilpailun jälkeen on mahdollista käydä tutustumassa pistooliammuntaan pistooliradalla. Radalla ammutaan piirien pistooleilla Pohjois-Savon reserviläisten Glock-mestaruuskilpailu. \n\nKilpailussa ammutaan kaksi kymmenen laukauksen sarjaa\, joista paras huomioidaan.\nAmmunta maksaa osallistujalta viisi (5) euroa. Se maksetaan tasarahalla paikan päällä ilmoittautumisen yhteydessä.\n\nNOSTOVÄEN AMPUMAKILPAILU 29.4.2023 Tänä vuonna nostoväen RK-kilpailu järjestetään omana tapahtumanaan eri viikonloppuna. Kilpailu on tarkoitettu tänä vuonna 61 vuotta täyttäville tai sitä vanhemmille Pohjois-Savon Reserviläisyhdistysten jäsenille. Lisätiedot ja ilmoittautuminen jukka.mutanen@mpk.fi
URL:https://www.vihma.fi/tapahtuma/pohjois-savon-reservilaisten-rynnakkokivaariampumamestaruuskilpailu/
END:VEVENT
END:VCALENDAR