BEGIN:VCALENDAR
VERSION:2.0
PRODID:-//Vihma.fi - ECPv6.15.20//NONSGML v1.0//EN
CALSCALE:GREGORIAN
METHOD:PUBLISH
X-WR-CALNAME:Vihma.fi
X-ORIGINAL-URL:https://www.vihma.fi
X-WR-CALDESC:Tapahtumat Vihma.fi
REFRESH-INTERVAL;VALUE=DURATION:PT1H
X-Robots-Tag:noindex
X-PUBLISHED-TTL:PT1H
BEGIN:VTIMEZONE
TZID:Europe/Helsinki
BEGIN:DAYLIGHT
TZOFFSETFROM:+0200
TZOFFSETTO:+0300
TZNAME:EEST
DTSTART:20220327T010000
END:DAYLIGHT
BEGIN:STANDARD
TZOFFSETFROM:+0300
TZOFFSETTO:+0200
TZNAME:EET
DTSTART:20221030T010000
END:STANDARD
BEGIN:DAYLIGHT
TZOFFSETFROM:+0200
TZOFFSETTO:+0300
TZNAME:EEST
DTSTART:20230326T010000
END:DAYLIGHT
BEGIN:STANDARD
TZOFFSETFROM:+0300
TZOFFSETTO:+0200
TZNAME:EET
DTSTART:20231029T010000
END:STANDARD
BEGIN:DAYLIGHT
TZOFFSETFROM:+0200
TZOFFSETTO:+0300
TZNAME:EEST
DTSTART:20240331T010000
END:DAYLIGHT
BEGIN:STANDARD
TZOFFSETFROM:+0300
TZOFFSETTO:+0200
TZNAME:EET
DTSTART:20241027T010000
END:STANDARD
END:VTIMEZONE
BEGIN:VEVENT
DTSTART;TZID=Europe/Helsinki:20230220T170000
DTEND;TZID=Europe/Helsinki:20230220T190000
DTSTAMP:20260423T013510
CREATED:20230120T111351Z
LAST-MODIFIED:20230120T111351Z
UID:10000399-1676912400-1676919600@www.vihma.fi
SUMMARY:Heinjoki pistoolivuoro
DESCRIPTION:Pohjois-Savon reservipiirien ja Kuopion ampuma- ja metsästysseuran (KAMS) yhteinen pistoolivuoro Heinjoen pistooliradalla klo 17-19. \nHuom! Radan maksimi kaliberi 9 mm ja ainoastaan vaipattomat lyijyluodit sallittuja! \nYhdistysten lainakalustoa ei ole toistaiseksi saatavilla näille vuoroille.
URL:https://www.vihma.fi/tapahtuma/heinjoki-pistoolivuoro-2/2023-02-20/
LOCATION:Heinjoen ampumaurheilukeskus\, Savitie 118\, Hiltulanlahti\, 70870\, Suomi
CATEGORIES:Ammunta
GEO:62.7948279;27.5626754
X-APPLE-STRUCTURED-LOCATION;VALUE=URI;X-ADDRESS=Heinjoen ampumaurheilukeskus Savitie 118 Hiltulanlahti 70870 Suomi;X-APPLE-RADIUS=500;X-TITLE=Savitie 118:geo:27.5626754,62.7948279
END:VEVENT
BEGIN:VEVENT
DTSTART;TZID=Europe/Helsinki:20230222T180000
DTEND;TZID=Europe/Helsinki:20230222T193000
DTSTAMP:20260423T013510
CREATED:20230123T183106Z
LAST-MODIFIED:20230126T163403Z
UID:10000548-1677088800-1677094200@www.vihma.fi
SUMMARY:Ilmapistoolivuoro Iisalmessa
DESCRIPTION:Ilmapistoolivuoro Iisalmen kaupungin väestönsuojassa. \nVuoro alkaa klo 18:00 keskiviikkoisin. Yhdistyksen välineet käytössä (aseet\, panokset\, taulut) eli et tarvitse omaa asetta. Omilla pistooleilla voi myös ampua. \nOsallistujille suositellaan kuulosuojainten ja suojalasien käyttöä. \nTaulumaksu 5€ käteisellä paikanpäällä.\nLisätietoja iisres58@gmail.com
URL:https://www.vihma.fi/tapahtuma/ilmapistoolivuoro-iisalmessa/2023-02-22/
LOCATION:Iisalmi\, Iisalmi
CATEGORIES:Ammunta
GEO:63.5694237;27.1826451
END:VEVENT
BEGIN:VEVENT
DTSTART;TZID=Europe/Helsinki:20230223T180000
DTEND;TZID=Europe/Helsinki:20230223T200000
DTSTAMP:20260423T013510
CREATED:20230120T112633Z
LAST-MODIFIED:20251123T212455Z
UID:10000498-1677175200-1677182400@www.vihma.fi
SUMMARY:Ulkoratavuoro Heinjoki
DESCRIPTION:Pohjois-Savon reservipiirien kiväärivuoro Kuopiossa Heinjoen luodikkoradalla torstaisin klo 18-20. \nOletko tulossa ensimmäistä kertaa viikkovuorolle? Tutustu toimintaa helpottaviin ohjeisiin Vihman nettisivuilla. \nAlueelle saavuttaessa on automaattinen portti\, joka tullaan avaamaan noin klo 17.30. \nErikseen mainituille ratavuoroille on mahdollista varata laina-aseita. Vuoron alussa laina-ase ampujat maksavat osallistumismaksun\, joka sisältää mm. aseiden käytön\, ratamaksun\, patruunat\, taulut\, paikkatarvikkeet ja mahdolliset muut laina- varusteet. Patruunoita ei myydä ratavuorojen ulkopuoliseen käyttöön. Reserviläiset voivat varata yhdistyksen laina-aseita on seuraavalla lomakkeella. Tarkista vuorot ja varausehdot lomakkeelta. \nJos olet tulossa ensimmäistä kertaa ulkorata vuoroille\, pidetään pienimuotoinen perehdytys ratatoimintaan. Ilmoittaudu radalle tullessasi ammunnan johtajalle\, että olet ensimmäistä kertaa paikalla. Perehdytyksessä käydään läpi yhteiset pelisäännöt ja toimintatavat. \nJokaisella ampujalla tulee olla voimassa oleva Reserviläisten ampumaturva tai SAL:n kilpailu/harrastajalisenssi. Muista kirjata jokainen ampumakertasi piirien ratapäiväkirjaan.
URL:https://www.vihma.fi/tapahtuma/ulkoratavuoro-heinjoki-4/2023-02-23/
LOCATION:Heinjoen ampumaurheilukeskus\, Savitie 118\, Hiltulanlahti\, 70870\, Suomi
CATEGORIES:Ammunta
GEO:62.7948279;27.5626754
X-APPLE-STRUCTURED-LOCATION;VALUE=URI;X-ADDRESS=Heinjoen ampumaurheilukeskus Savitie 118 Hiltulanlahti 70870 Suomi;X-APPLE-RADIUS=500;X-TITLE=Savitie 118:geo:27.5626754,62.7948279
END:VEVENT
BEGIN:VEVENT
DTSTART;TZID=Europe/Helsinki:20230224T170000
DTEND;TZID=Europe/Helsinki:20230224T190000
DTSTAMP:20260423T013510
CREATED:20230120T111639Z
LAST-MODIFIED:20230120T112013Z
UID:10000447-1677258000-1677265200@www.vihma.fi
SUMMARY:Kiväärivuoro Heinjoki
DESCRIPTION:Pohjois-Savon reservipiirien ja Kuopion ampuma- ja metsästysseuran (KAMS) yhteinen kiväärivuoro Heinjoen luodikkoradalla klo 17-19. \nYhdistysten lainakalustoa ei ole toistaiseksi saatavilla näille vuoroille.
URL:https://www.vihma.fi/tapahtuma/ulkoratavuoro-heinjoki-3/2023-02-24/
LOCATION:Heinjoen ampumaurheilukeskus\, Savitie 118\, Hiltulanlahti\, 70870\, Suomi
CATEGORIES:Ammunta
GEO:62.7948279;27.5626754
X-APPLE-STRUCTURED-LOCATION;VALUE=URI;X-ADDRESS=Heinjoen ampumaurheilukeskus Savitie 118 Hiltulanlahti 70870 Suomi;X-APPLE-RADIUS=500;X-TITLE=Savitie 118:geo:27.5626754,62.7948279
END:VEVENT
END:VCALENDAR