BEGIN:VCALENDAR
VERSION:2.0
PRODID:-//Vihma.fi - ECPv6.15.20//NONSGML v1.0//EN
CALSCALE:GREGORIAN
METHOD:PUBLISH
X-ORIGINAL-URL:https://www.vihma.fi
X-WR-CALDESC:Tapahtumat Vihma.fi
REFRESH-INTERVAL;VALUE=DURATION:PT1H
X-Robots-Tag:noindex
X-PUBLISHED-TTL:PT1H
BEGIN:VTIMEZONE
TZID:Europe/Helsinki
BEGIN:DAYLIGHT
TZOFFSETFROM:+0200
TZOFFSETTO:+0300
TZNAME:EEST
DTSTART:20220327T010000
END:DAYLIGHT
BEGIN:STANDARD
TZOFFSETFROM:+0300
TZOFFSETTO:+0200
TZNAME:EET
DTSTART:20221030T010000
END:STANDARD
BEGIN:DAYLIGHT
TZOFFSETFROM:+0200
TZOFFSETTO:+0300
TZNAME:EEST
DTSTART:20230326T010000
END:DAYLIGHT
BEGIN:STANDARD
TZOFFSETFROM:+0300
TZOFFSETTO:+0200
TZNAME:EET
DTSTART:20231029T010000
END:STANDARD
BEGIN:DAYLIGHT
TZOFFSETFROM:+0200
TZOFFSETTO:+0300
TZNAME:EEST
DTSTART:20240331T010000
END:DAYLIGHT
BEGIN:STANDARD
TZOFFSETFROM:+0300
TZOFFSETTO:+0200
TZNAME:EET
DTSTART:20241027T010000
END:STANDARD
END:VTIMEZONE
BEGIN:VEVENT
DTSTART;TZID=Europe/Helsinki:20230123T170000
DTEND;TZID=Europe/Helsinki:20230123T190000
DTSTAMP:20260423T025123
CREATED:20230120T111351Z
LAST-MODIFIED:20230120T111351Z
UID:10000395-1674493200-1674500400@www.vihma.fi
SUMMARY:Heinjoki pistoolivuoro
DESCRIPTION:Pohjois-Savon reservipiirien ja Kuopion ampuma- ja metsästysseuran (KAMS) yhteinen pistoolivuoro Heinjoen pistooliradalla klo 17-19. \nHuom! Radan maksimi kaliberi 9 mm ja ainoastaan vaipattomat lyijyluodit sallittuja! \nYhdistysten lainakalustoa ei ole toistaiseksi saatavilla näille vuoroille.
URL:https://www.vihma.fi/tapahtuma/heinjoki-pistoolivuoro-2/2023-01-23/
LOCATION:Heinjoen ampumaurheilukeskus\, Savitie 118\, Hiltulanlahti\, 70870\, Suomi
CATEGORIES:Ammunta
GEO:62.7948279;27.5626754
X-APPLE-STRUCTURED-LOCATION;VALUE=URI;X-ADDRESS=Heinjoen ampumaurheilukeskus Savitie 118 Hiltulanlahti 70870 Suomi;X-APPLE-RADIUS=500;X-TITLE=Savitie 118:geo:27.5626754,62.7948279
END:VEVENT
BEGIN:VEVENT
DTSTART;TZID=Europe/Helsinki:20230125T180000
DTEND;TZID=Europe/Helsinki:20230125T193000
DTSTAMP:20260423T025123
CREATED:20230123T183106Z
LAST-MODIFIED:20230126T163403Z
UID:10000544-1674669600-1674675000@www.vihma.fi
SUMMARY:Ilmapistoolivuoro Iisalmessa
DESCRIPTION:Ilmapistoolivuoro Iisalmen kaupungin väestönsuojassa. \nVuoro alkaa klo 18:00 keskiviikkoisin. Yhdistyksen välineet käytössä (aseet\, panokset\, taulut) eli et tarvitse omaa asetta. Omilla pistooleilla voi myös ampua. \nOsallistujille suositellaan kuulosuojainten ja suojalasien käyttöä. \nTaulumaksu 5€ käteisellä paikanpäällä.\nLisätietoja iisres58@gmail.com
URL:https://www.vihma.fi/tapahtuma/ilmapistoolivuoro-iisalmessa/2023-01-25/
LOCATION:Iisalmi\, Iisalmi
CATEGORIES:Ammunta
GEO:63.5694237;27.1826451
END:VEVENT
BEGIN:VEVENT
DTSTART;TZID=Europe/Helsinki:20230127T180000
DTEND;TZID=Europe/Helsinki:20230127T200000
DTSTAMP:20260423T025123
CREATED:20230109T095918Z
LAST-MODIFIED:20230109T095918Z
UID:10000287-1674842400-1674849600@www.vihma.fi
SUMMARY:Ulkoratavuoro Heinjoki
DESCRIPTION:Pohjois-Savon reservipiirien kiväärivuoro Kuopiossa Heinjoen luodikkoradalla perjantaisin klo 18-20. \nOhjeet uusille ampujille \nAlueelle saavuttaessa on automaattinen portti\, joka tullaan avaamaan klo 17.45. Tämän jälkeen portista pääsee vain\, jos joku tulee alueelta ulos. \nYhdistyksen laina-aseita on varattavissa lomakkeella. Aseet tulee varata keskiviikkoon mennessä. Yhdistysten aseissa saa käyttää ainoastaan omakustannehintaan käyttöä vastaan lunastettavia patruunoita. \nJos olet tulossa ensimmäistä kertaa ulkorata vuoroille\, niin pidetään pienimuotoinen perehdytys ratatoimintaan. Ilmoittaudu radalle tullessasi ammunnan johtajalle\, että olet ensimmäistä kertaa paikalla. Perehdytyksessä käydään läpi yhteiset pelisäännöt ja toimintatavat. \nJokaisella ampujalla tulee olla voimassa oleva Reserviläisten ampumaturva tai SAL:n kilpailu/harrastajalisenssi. Muista kirjata jokainen ampumakertasi piirien ratapäiväkirjaan.
URL:https://www.vihma.fi/tapahtuma/ulkoratavuoro-heinjoki-2/2023-01-27/
LOCATION:Heinjoen ampumaurheilukeskus\, Savitie 118\, Hiltulanlahti\, 70870\, Suomi
CATEGORIES:Ammunta
GEO:62.7948279;27.5626754
X-APPLE-STRUCTURED-LOCATION;VALUE=URI;X-ADDRESS=Heinjoen ampumaurheilukeskus Savitie 118 Hiltulanlahti 70870 Suomi;X-APPLE-RADIUS=500;X-TITLE=Savitie 118:geo:27.5626754,62.7948279
END:VEVENT
END:VCALENDAR