BEGIN:VCALENDAR
VERSION:2.0
PRODID:-//Vihma.fi - ECPv6.15.20//NONSGML v1.0//EN
CALSCALE:GREGORIAN
METHOD:PUBLISH
X-WR-CALNAME:Vihma.fi
X-ORIGINAL-URL:https://www.vihma.fi
X-WR-CALDESC:Tapahtumat Vihma.fi
REFRESH-INTERVAL;VALUE=DURATION:PT1H
X-Robots-Tag:noindex
X-PUBLISHED-TTL:PT1H
BEGIN:VTIMEZONE
TZID:Europe/Helsinki
BEGIN:DAYLIGHT
TZOFFSETFROM:+0200
TZOFFSETTO:+0300
TZNAME:EEST
DTSTART:20220327T010000
END:DAYLIGHT
BEGIN:STANDARD
TZOFFSETFROM:+0300
TZOFFSETTO:+0200
TZNAME:EET
DTSTART:20221030T010000
END:STANDARD
BEGIN:DAYLIGHT
TZOFFSETFROM:+0200
TZOFFSETTO:+0300
TZNAME:EEST
DTSTART:20230326T010000
END:DAYLIGHT
BEGIN:STANDARD
TZOFFSETFROM:+0300
TZOFFSETTO:+0200
TZNAME:EET
DTSTART:20231029T010000
END:STANDARD
BEGIN:DAYLIGHT
TZOFFSETFROM:+0200
TZOFFSETTO:+0300
TZNAME:EEST
DTSTART:20240331T010000
END:DAYLIGHT
BEGIN:STANDARD
TZOFFSETFROM:+0300
TZOFFSETTO:+0200
TZNAME:EET
DTSTART:20241027T010000
END:STANDARD
END:VTIMEZONE
BEGIN:VEVENT
DTSTART;TZID=Europe/Helsinki:20231102T180000
DTEND;TZID=Europe/Helsinki:20231102T200000
DTSTAMP:20260421T072216
CREATED:20230120T112633Z
LAST-MODIFIED:20251123T212455Z
UID:10000534-1698948000-1698955200@www.vihma.fi
SUMMARY:Ulkoratavuoro Heinjoki
DESCRIPTION:Pohjois-Savon reservipiirien kiväärivuoro Kuopiossa Heinjoen luodikkoradalla torstaisin klo 18-20. \nOletko tulossa ensimmäistä kertaa viikkovuorolle? Tutustu toimintaa helpottaviin ohjeisiin Vihman nettisivuilla. \nAlueelle saavuttaessa on automaattinen portti\, joka tullaan avaamaan noin klo 17.30. \nErikseen mainituille ratavuoroille on mahdollista varata laina-aseita. Vuoron alussa laina-ase ampujat maksavat osallistumismaksun\, joka sisältää mm. aseiden käytön\, ratamaksun\, patruunat\, taulut\, paikkatarvikkeet ja mahdolliset muut laina- varusteet. Patruunoita ei myydä ratavuorojen ulkopuoliseen käyttöön. Reserviläiset voivat varata yhdistyksen laina-aseita on seuraavalla lomakkeella. Tarkista vuorot ja varausehdot lomakkeelta. \nJos olet tulossa ensimmäistä kertaa ulkorata vuoroille\, pidetään pienimuotoinen perehdytys ratatoimintaan. Ilmoittaudu radalle tullessasi ammunnan johtajalle\, että olet ensimmäistä kertaa paikalla. Perehdytyksessä käydään läpi yhteiset pelisäännöt ja toimintatavat. \nJokaisella ampujalla tulee olla voimassa oleva Reserviläisten ampumaturva tai SAL:n kilpailu/harrastajalisenssi. Muista kirjata jokainen ampumakertasi piirien ratapäiväkirjaan.
URL:https://www.vihma.fi/tapahtuma/ulkoratavuoro-heinjoki-4/2023-11-02/
LOCATION:Heinjoen ampumaurheilukeskus\, Savitie 118\, Hiltulanlahti\, 70870\, Suomi
CATEGORIES:Ammunta
GEO:62.7948279;27.5626754
X-APPLE-STRUCTURED-LOCATION;VALUE=URI;X-ADDRESS=Heinjoen ampumaurheilukeskus Savitie 118 Hiltulanlahti 70870 Suomi;X-APPLE-RADIUS=500;X-TITLE=Savitie 118:geo:27.5626754,62.7948279
END:VEVENT
BEGIN:VEVENT
DTSTART;TZID=Europe/Helsinki:20231103T180000
DTEND;TZID=Europe/Helsinki:20231103T200000
DTSTAMP:20260421T072216
CREATED:20230618T165637Z
LAST-MODIFIED:20241231T132915Z
UID:10001331-1699034400-1699041600@www.vihma.fi
SUMMARY:Omatoimi ulkoratavuoro Heinjoki
DESCRIPTION:Pohjois-Savon reservipiirien ja Kuopion ampuma- ja metsästysseuran (KAMS) yhteinen kiväärivuoro Heinjoen luodikkoradalla klo 18-20. \nOletko tulossa ensimmäistä kertaa viikkovuorolle? Tutustu toimintaa helpottaviin ohjeisiin Vihman nettisivuilla. \nHeinjoen perjantain vuorot toimivat toistaiseksi omatoimivuoroina ja lainakalustoa ei ole saatavilla\, jos ei muuta ole mainittu. Ampujilla tulee näillä vuoroilla olla omat avaimet tai muu tapa päästä radalle\, omat paikkatarvikkeet sekä taulut. \nJokaisella ampujalla tulee olla voimassa oleva Reserviläisten ampumaturva tai SAL:n kilpailu/harrastajalisenssi. Muistakaa kirjata ampumasuoritteet radan päiväkirjaan.
URL:https://www.vihma.fi/tapahtuma/ulkoratavuoro-heinjoki-3-2/2023-11-03/
LOCATION:Heinjoen ampumaurheilukeskus\, Savitie 118\, Hiltulanlahti\, 70870\, Suomi
CATEGORIES:Ammunta
GEO:62.7948279;27.5626754
X-APPLE-STRUCTURED-LOCATION;VALUE=URI;X-ADDRESS=Heinjoen ampumaurheilukeskus Savitie 118 Hiltulanlahti 70870 Suomi;X-APPLE-RADIUS=500;X-TITLE=Savitie 118:geo:27.5626754,62.7948279
END:VEVENT
BEGIN:VEVENT
DTSTART;TZID=Europe/Helsinki:20231106T180000
DTEND;TZID=Europe/Helsinki:20231106T200000
DTSTAMP:20260421T072216
CREATED:20230512T041825Z
LAST-MODIFIED:20231205T060149Z
UID:10000877-1699293600-1699300800@www.vihma.fi
SUMMARY:Heinjoki pistoolivuoro
DESCRIPTION:Pohjois-Savon reservipiirien ja Kuopion ampuma- ja metsästysseuran (KAMS) yhteinen pistoolivuoro Heinjoen pistooliradalla klo 18-20. \nHuom! Radan maksimi kaliberi 9 mm ja ainoastaan vaipattomat lyijyluodit sallittuja! \n22lr lainakalustoa saatavilla ilman erillista varausta.
URL:https://www.vihma.fi/tapahtuma/heinjoki-pistoolivuoro-2-2/2023-11-06/
LOCATION:Heinjoen ampumaurheilukeskus\, Savitie 118\, Hiltulanlahti\, 70870\, Suomi
CATEGORIES:Ammunta
GEO:62.7948279;27.5626754
X-APPLE-STRUCTURED-LOCATION;VALUE=URI;X-ADDRESS=Heinjoen ampumaurheilukeskus Savitie 118 Hiltulanlahti 70870 Suomi;X-APPLE-RADIUS=500;X-TITLE=Savitie 118:geo:27.5626754,62.7948279
END:VEVENT
BEGIN:VEVENT
DTSTART;TZID=Europe/Helsinki:20231109T180000
DTEND;TZID=Europe/Helsinki:20231109T200000
DTSTAMP:20260421T072216
CREATED:20230120T112633Z
LAST-MODIFIED:20251123T212455Z
UID:10000535-1699552800-1699560000@www.vihma.fi
SUMMARY:Ulkoratavuoro Heinjoki
DESCRIPTION:Pohjois-Savon reservipiirien kiväärivuoro Kuopiossa Heinjoen luodikkoradalla torstaisin klo 18-20. \nOletko tulossa ensimmäistä kertaa viikkovuorolle? Tutustu toimintaa helpottaviin ohjeisiin Vihman nettisivuilla. \nAlueelle saavuttaessa on automaattinen portti\, joka tullaan avaamaan noin klo 17.30. \nErikseen mainituille ratavuoroille on mahdollista varata laina-aseita. Vuoron alussa laina-ase ampujat maksavat osallistumismaksun\, joka sisältää mm. aseiden käytön\, ratamaksun\, patruunat\, taulut\, paikkatarvikkeet ja mahdolliset muut laina- varusteet. Patruunoita ei myydä ratavuorojen ulkopuoliseen käyttöön. Reserviläiset voivat varata yhdistyksen laina-aseita on seuraavalla lomakkeella. Tarkista vuorot ja varausehdot lomakkeelta. \nJos olet tulossa ensimmäistä kertaa ulkorata vuoroille\, pidetään pienimuotoinen perehdytys ratatoimintaan. Ilmoittaudu radalle tullessasi ammunnan johtajalle\, että olet ensimmäistä kertaa paikalla. Perehdytyksessä käydään läpi yhteiset pelisäännöt ja toimintatavat. \nJokaisella ampujalla tulee olla voimassa oleva Reserviläisten ampumaturva tai SAL:n kilpailu/harrastajalisenssi. Muista kirjata jokainen ampumakertasi piirien ratapäiväkirjaan.
URL:https://www.vihma.fi/tapahtuma/ulkoratavuoro-heinjoki-4/2023-11-09/
LOCATION:Heinjoen ampumaurheilukeskus\, Savitie 118\, Hiltulanlahti\, 70870\, Suomi
CATEGORIES:Ammunta
GEO:62.7948279;27.5626754
X-APPLE-STRUCTURED-LOCATION;VALUE=URI;X-ADDRESS=Heinjoen ampumaurheilukeskus Savitie 118 Hiltulanlahti 70870 Suomi;X-APPLE-RADIUS=500;X-TITLE=Savitie 118:geo:27.5626754,62.7948279
END:VEVENT
BEGIN:VEVENT
DTSTART;TZID=Europe/Helsinki:20231110T180000
DTEND;TZID=Europe/Helsinki:20231110T200000
DTSTAMP:20260421T072216
CREATED:20230618T165637Z
LAST-MODIFIED:20241231T132915Z
UID:10001332-1699639200-1699646400@www.vihma.fi
SUMMARY:Omatoimi ulkoratavuoro Heinjoki
DESCRIPTION:Pohjois-Savon reservipiirien ja Kuopion ampuma- ja metsästysseuran (KAMS) yhteinen kiväärivuoro Heinjoen luodikkoradalla klo 18-20. \nOletko tulossa ensimmäistä kertaa viikkovuorolle? Tutustu toimintaa helpottaviin ohjeisiin Vihman nettisivuilla. \nHeinjoen perjantain vuorot toimivat toistaiseksi omatoimivuoroina ja lainakalustoa ei ole saatavilla\, jos ei muuta ole mainittu. Ampujilla tulee näillä vuoroilla olla omat avaimet tai muu tapa päästä radalle\, omat paikkatarvikkeet sekä taulut. \nJokaisella ampujalla tulee olla voimassa oleva Reserviläisten ampumaturva tai SAL:n kilpailu/harrastajalisenssi. Muistakaa kirjata ampumasuoritteet radan päiväkirjaan.
URL:https://www.vihma.fi/tapahtuma/ulkoratavuoro-heinjoki-3-2/2023-11-10/
LOCATION:Heinjoen ampumaurheilukeskus\, Savitie 118\, Hiltulanlahti\, 70870\, Suomi
CATEGORIES:Ammunta
GEO:62.7948279;27.5626754
X-APPLE-STRUCTURED-LOCATION;VALUE=URI;X-ADDRESS=Heinjoen ampumaurheilukeskus Savitie 118 Hiltulanlahti 70870 Suomi;X-APPLE-RADIUS=500;X-TITLE=Savitie 118:geo:27.5626754,62.7948279
END:VEVENT
BEGIN:VEVENT
DTSTART;TZID=Europe/Helsinki:20231111T123000
DTEND;TZID=Europe/Helsinki:20231111T173000
DTSTAMP:20260421T072216
CREATED:20231017T043456Z
LAST-MODIFIED:20231017T043456Z
UID:10001412-1699705800-1699723800@www.vihma.fi
SUMMARY:MPK 30-vuotis juhlaseminaari ja -konsertti 11.11.2023 Iso-Valkeinen
DESCRIPTION:MPK_30_vuotta_OHJELMAESITYS_VALMIS_3 \nLinkissä ohjelma. Ilmoittaudu MPK koulutuskalenterin kautta. \nhttps://koulutuskalenteri.mpk.fi/Koulutuskalenteri/Tutustu-tarkemmin/id/180084#c272ae81 
URL:https://www.vihma.fi/tapahtuma/mpk-30-vuotis-juhlaseminaari-ja-konsertti-11-11-2023-iso-valkeinen/
END:VEVENT
BEGIN:VEVENT
DTSTART;TZID=Europe/Helsinki:20231113T180000
DTEND;TZID=Europe/Helsinki:20231113T200000
DTSTAMP:20260421T072216
CREATED:20230512T041825Z
LAST-MODIFIED:20231205T060149Z
UID:10000878-1699898400-1699905600@www.vihma.fi
SUMMARY:Heinjoki pistoolivuoro
DESCRIPTION:Pohjois-Savon reservipiirien ja Kuopion ampuma- ja metsästysseuran (KAMS) yhteinen pistoolivuoro Heinjoen pistooliradalla klo 18-20. \nHuom! Radan maksimi kaliberi 9 mm ja ainoastaan vaipattomat lyijyluodit sallittuja! \n22lr lainakalustoa saatavilla ilman erillista varausta.
URL:https://www.vihma.fi/tapahtuma/heinjoki-pistoolivuoro-2-2/2023-11-13/
LOCATION:Heinjoen ampumaurheilukeskus\, Savitie 118\, Hiltulanlahti\, 70870\, Suomi
CATEGORIES:Ammunta
GEO:62.7948279;27.5626754
X-APPLE-STRUCTURED-LOCATION;VALUE=URI;X-ADDRESS=Heinjoen ampumaurheilukeskus Savitie 118 Hiltulanlahti 70870 Suomi;X-APPLE-RADIUS=500;X-TITLE=Savitie 118:geo:27.5626754,62.7948279
END:VEVENT
BEGIN:VEVENT
DTSTART;TZID=Europe/Helsinki:20231116T180000
DTEND;TZID=Europe/Helsinki:20231116T200000
DTSTAMP:20260421T072216
CREATED:20230120T112633Z
LAST-MODIFIED:20251123T212455Z
UID:10000536-1700157600-1700164800@www.vihma.fi
SUMMARY:Ulkoratavuoro Heinjoki
DESCRIPTION:Pohjois-Savon reservipiirien kiväärivuoro Kuopiossa Heinjoen luodikkoradalla torstaisin klo 18-20. \nOletko tulossa ensimmäistä kertaa viikkovuorolle? Tutustu toimintaa helpottaviin ohjeisiin Vihman nettisivuilla. \nAlueelle saavuttaessa on automaattinen portti\, joka tullaan avaamaan noin klo 17.30. \nErikseen mainituille ratavuoroille on mahdollista varata laina-aseita. Vuoron alussa laina-ase ampujat maksavat osallistumismaksun\, joka sisältää mm. aseiden käytön\, ratamaksun\, patruunat\, taulut\, paikkatarvikkeet ja mahdolliset muut laina- varusteet. Patruunoita ei myydä ratavuorojen ulkopuoliseen käyttöön. Reserviläiset voivat varata yhdistyksen laina-aseita on seuraavalla lomakkeella. Tarkista vuorot ja varausehdot lomakkeelta. \nJos olet tulossa ensimmäistä kertaa ulkorata vuoroille\, pidetään pienimuotoinen perehdytys ratatoimintaan. Ilmoittaudu radalle tullessasi ammunnan johtajalle\, että olet ensimmäistä kertaa paikalla. Perehdytyksessä käydään läpi yhteiset pelisäännöt ja toimintatavat. \nJokaisella ampujalla tulee olla voimassa oleva Reserviläisten ampumaturva tai SAL:n kilpailu/harrastajalisenssi. Muista kirjata jokainen ampumakertasi piirien ratapäiväkirjaan.
URL:https://www.vihma.fi/tapahtuma/ulkoratavuoro-heinjoki-4/2023-11-16/
LOCATION:Heinjoen ampumaurheilukeskus\, Savitie 118\, Hiltulanlahti\, 70870\, Suomi
CATEGORIES:Ammunta
GEO:62.7948279;27.5626754
X-APPLE-STRUCTURED-LOCATION;VALUE=URI;X-ADDRESS=Heinjoen ampumaurheilukeskus Savitie 118 Hiltulanlahti 70870 Suomi;X-APPLE-RADIUS=500;X-TITLE=Savitie 118:geo:27.5626754,62.7948279
END:VEVENT
BEGIN:VEVENT
DTSTART;TZID=Europe/Helsinki:20231117T180000
DTEND;TZID=Europe/Helsinki:20231117T200000
DTSTAMP:20260421T072216
CREATED:20230618T165637Z
LAST-MODIFIED:20241231T132915Z
UID:10001333-1700244000-1700251200@www.vihma.fi
SUMMARY:Omatoimi ulkoratavuoro Heinjoki
DESCRIPTION:Pohjois-Savon reservipiirien ja Kuopion ampuma- ja metsästysseuran (KAMS) yhteinen kiväärivuoro Heinjoen luodikkoradalla klo 18-20. \nOletko tulossa ensimmäistä kertaa viikkovuorolle? Tutustu toimintaa helpottaviin ohjeisiin Vihman nettisivuilla. \nHeinjoen perjantain vuorot toimivat toistaiseksi omatoimivuoroina ja lainakalustoa ei ole saatavilla\, jos ei muuta ole mainittu. Ampujilla tulee näillä vuoroilla olla omat avaimet tai muu tapa päästä radalle\, omat paikkatarvikkeet sekä taulut. \nJokaisella ampujalla tulee olla voimassa oleva Reserviläisten ampumaturva tai SAL:n kilpailu/harrastajalisenssi. Muistakaa kirjata ampumasuoritteet radan päiväkirjaan.
URL:https://www.vihma.fi/tapahtuma/ulkoratavuoro-heinjoki-3-2/2023-11-17/
LOCATION:Heinjoen ampumaurheilukeskus\, Savitie 118\, Hiltulanlahti\, 70870\, Suomi
CATEGORIES:Ammunta
GEO:62.7948279;27.5626754
X-APPLE-STRUCTURED-LOCATION;VALUE=URI;X-ADDRESS=Heinjoen ampumaurheilukeskus Savitie 118 Hiltulanlahti 70870 Suomi;X-APPLE-RADIUS=500;X-TITLE=Savitie 118:geo:27.5626754,62.7948279
END:VEVENT
BEGIN:VEVENT
DTSTART;TZID=Europe/Helsinki:20231118T093000
DTEND;TZID=Europe/Helsinki:20231118T150000
DTSTAMP:20260421T072216
CREATED:20231004T133714Z
LAST-MODIFIED:20231004T133832Z
UID:10001401-1700299800-1700319600@www.vihma.fi
SUMMARY:Kinkkukisat Tarpisen ampumaradalla 18.11.2023 klo 9:30 alkaen.
DESCRIPTION:Juankosken Reserviläiset ry järjestää perinteiset Kinkkukisat Tarpisen ampumaradalla Nilsiässä 18.11.2023 9:30 alkaen.
URL:https://www.vihma.fi/tapahtuma/8411/
END:VEVENT
BEGIN:VEVENT
DTSTART;TZID=Europe/Helsinki:20231120T180000
DTEND;TZID=Europe/Helsinki:20231120T200000
DTSTAMP:20260421T072216
CREATED:20230512T041825Z
LAST-MODIFIED:20231205T060149Z
UID:10000879-1700503200-1700510400@www.vihma.fi
SUMMARY:Heinjoki pistoolivuoro
DESCRIPTION:Pohjois-Savon reservipiirien ja Kuopion ampuma- ja metsästysseuran (KAMS) yhteinen pistoolivuoro Heinjoen pistooliradalla klo 18-20. \nHuom! Radan maksimi kaliberi 9 mm ja ainoastaan vaipattomat lyijyluodit sallittuja! \n22lr lainakalustoa saatavilla ilman erillista varausta.
URL:https://www.vihma.fi/tapahtuma/heinjoki-pistoolivuoro-2-2/2023-11-20/
LOCATION:Heinjoen ampumaurheilukeskus\, Savitie 118\, Hiltulanlahti\, 70870\, Suomi
CATEGORIES:Ammunta
GEO:62.7948279;27.5626754
X-APPLE-STRUCTURED-LOCATION;VALUE=URI;X-ADDRESS=Heinjoen ampumaurheilukeskus Savitie 118 Hiltulanlahti 70870 Suomi;X-APPLE-RADIUS=500;X-TITLE=Savitie 118:geo:27.5626754,62.7948279
END:VEVENT
BEGIN:VEVENT
DTSTART;TZID=Europe/Helsinki:20231123T180000
DTEND;TZID=Europe/Helsinki:20231123T200000
DTSTAMP:20260421T072216
CREATED:20230120T112633Z
LAST-MODIFIED:20251123T212455Z
UID:10000537-1700762400-1700769600@www.vihma.fi
SUMMARY:Ulkoratavuoro Heinjoki
DESCRIPTION:Pohjois-Savon reservipiirien kiväärivuoro Kuopiossa Heinjoen luodikkoradalla torstaisin klo 18-20. \nOletko tulossa ensimmäistä kertaa viikkovuorolle? Tutustu toimintaa helpottaviin ohjeisiin Vihman nettisivuilla. \nAlueelle saavuttaessa on automaattinen portti\, joka tullaan avaamaan noin klo 17.30. \nErikseen mainituille ratavuoroille on mahdollista varata laina-aseita. Vuoron alussa laina-ase ampujat maksavat osallistumismaksun\, joka sisältää mm. aseiden käytön\, ratamaksun\, patruunat\, taulut\, paikkatarvikkeet ja mahdolliset muut laina- varusteet. Patruunoita ei myydä ratavuorojen ulkopuoliseen käyttöön. Reserviläiset voivat varata yhdistyksen laina-aseita on seuraavalla lomakkeella. Tarkista vuorot ja varausehdot lomakkeelta. \nJos olet tulossa ensimmäistä kertaa ulkorata vuoroille\, pidetään pienimuotoinen perehdytys ratatoimintaan. Ilmoittaudu radalle tullessasi ammunnan johtajalle\, että olet ensimmäistä kertaa paikalla. Perehdytyksessä käydään läpi yhteiset pelisäännöt ja toimintatavat. \nJokaisella ampujalla tulee olla voimassa oleva Reserviläisten ampumaturva tai SAL:n kilpailu/harrastajalisenssi. Muista kirjata jokainen ampumakertasi piirien ratapäiväkirjaan.
URL:https://www.vihma.fi/tapahtuma/ulkoratavuoro-heinjoki-4/2023-11-23/
LOCATION:Heinjoen ampumaurheilukeskus\, Savitie 118\, Hiltulanlahti\, 70870\, Suomi
CATEGORIES:Ammunta
GEO:62.7948279;27.5626754
X-APPLE-STRUCTURED-LOCATION;VALUE=URI;X-ADDRESS=Heinjoen ampumaurheilukeskus Savitie 118 Hiltulanlahti 70870 Suomi;X-APPLE-RADIUS=500;X-TITLE=Savitie 118:geo:27.5626754,62.7948279
END:VEVENT
BEGIN:VEVENT
DTSTART;TZID=Europe/Helsinki:20231124T180000
DTEND;TZID=Europe/Helsinki:20231124T200000
DTSTAMP:20260421T072216
CREATED:20230618T165637Z
LAST-MODIFIED:20241231T132915Z
UID:10001334-1700848800-1700856000@www.vihma.fi
SUMMARY:Omatoimi ulkoratavuoro Heinjoki
DESCRIPTION:Pohjois-Savon reservipiirien ja Kuopion ampuma- ja metsästysseuran (KAMS) yhteinen kiväärivuoro Heinjoen luodikkoradalla klo 18-20. \nOletko tulossa ensimmäistä kertaa viikkovuorolle? Tutustu toimintaa helpottaviin ohjeisiin Vihman nettisivuilla. \nHeinjoen perjantain vuorot toimivat toistaiseksi omatoimivuoroina ja lainakalustoa ei ole saatavilla\, jos ei muuta ole mainittu. Ampujilla tulee näillä vuoroilla olla omat avaimet tai muu tapa päästä radalle\, omat paikkatarvikkeet sekä taulut. \nJokaisella ampujalla tulee olla voimassa oleva Reserviläisten ampumaturva tai SAL:n kilpailu/harrastajalisenssi. Muistakaa kirjata ampumasuoritteet radan päiväkirjaan.
URL:https://www.vihma.fi/tapahtuma/ulkoratavuoro-heinjoki-3-2/2023-11-24/
LOCATION:Heinjoen ampumaurheilukeskus\, Savitie 118\, Hiltulanlahti\, 70870\, Suomi
CATEGORIES:Ammunta
GEO:62.7948279;27.5626754
X-APPLE-STRUCTURED-LOCATION;VALUE=URI;X-ADDRESS=Heinjoen ampumaurheilukeskus Savitie 118 Hiltulanlahti 70870 Suomi;X-APPLE-RADIUS=500;X-TITLE=Savitie 118:geo:27.5626754,62.7948279
END:VEVENT
BEGIN:VEVENT
DTSTART;TZID=Europe/Helsinki:20231127T180000
DTEND;TZID=Europe/Helsinki:20231127T200000
DTSTAMP:20260421T072216
CREATED:20230512T041825Z
LAST-MODIFIED:20231205T060149Z
UID:10000880-1701108000-1701115200@www.vihma.fi
SUMMARY:Heinjoki pistoolivuoro
DESCRIPTION:Pohjois-Savon reservipiirien ja Kuopion ampuma- ja metsästysseuran (KAMS) yhteinen pistoolivuoro Heinjoen pistooliradalla klo 18-20. \nHuom! Radan maksimi kaliberi 9 mm ja ainoastaan vaipattomat lyijyluodit sallittuja! \n22lr lainakalustoa saatavilla ilman erillista varausta.
URL:https://www.vihma.fi/tapahtuma/heinjoki-pistoolivuoro-2-2/2023-11-27/
LOCATION:Heinjoen ampumaurheilukeskus\, Savitie 118\, Hiltulanlahti\, 70870\, Suomi
CATEGORIES:Ammunta
GEO:62.7948279;27.5626754
X-APPLE-STRUCTURED-LOCATION;VALUE=URI;X-ADDRESS=Heinjoen ampumaurheilukeskus Savitie 118 Hiltulanlahti 70870 Suomi;X-APPLE-RADIUS=500;X-TITLE=Savitie 118:geo:27.5626754,62.7948279
END:VEVENT
BEGIN:VEVENT
DTSTART;TZID=Europe/Helsinki:20231130T180000
DTEND;TZID=Europe/Helsinki:20231130T200000
DTSTAMP:20260421T072216
CREATED:20230120T112633Z
LAST-MODIFIED:20251123T212455Z
UID:10000538-1701367200-1701374400@www.vihma.fi
SUMMARY:Ulkoratavuoro Heinjoki
DESCRIPTION:Pohjois-Savon reservipiirien kiväärivuoro Kuopiossa Heinjoen luodikkoradalla torstaisin klo 18-20. \nOletko tulossa ensimmäistä kertaa viikkovuorolle? Tutustu toimintaa helpottaviin ohjeisiin Vihman nettisivuilla. \nAlueelle saavuttaessa on automaattinen portti\, joka tullaan avaamaan noin klo 17.30. \nErikseen mainituille ratavuoroille on mahdollista varata laina-aseita. Vuoron alussa laina-ase ampujat maksavat osallistumismaksun\, joka sisältää mm. aseiden käytön\, ratamaksun\, patruunat\, taulut\, paikkatarvikkeet ja mahdolliset muut laina- varusteet. Patruunoita ei myydä ratavuorojen ulkopuoliseen käyttöön. Reserviläiset voivat varata yhdistyksen laina-aseita on seuraavalla lomakkeella. Tarkista vuorot ja varausehdot lomakkeelta. \nJos olet tulossa ensimmäistä kertaa ulkorata vuoroille\, pidetään pienimuotoinen perehdytys ratatoimintaan. Ilmoittaudu radalle tullessasi ammunnan johtajalle\, että olet ensimmäistä kertaa paikalla. Perehdytyksessä käydään läpi yhteiset pelisäännöt ja toimintatavat. \nJokaisella ampujalla tulee olla voimassa oleva Reserviläisten ampumaturva tai SAL:n kilpailu/harrastajalisenssi. Muista kirjata jokainen ampumakertasi piirien ratapäiväkirjaan.
URL:https://www.vihma.fi/tapahtuma/ulkoratavuoro-heinjoki-4/2023-11-30/
LOCATION:Heinjoen ampumaurheilukeskus\, Savitie 118\, Hiltulanlahti\, 70870\, Suomi
CATEGORIES:Ammunta
GEO:62.7948279;27.5626754
X-APPLE-STRUCTURED-LOCATION;VALUE=URI;X-ADDRESS=Heinjoen ampumaurheilukeskus Savitie 118 Hiltulanlahti 70870 Suomi;X-APPLE-RADIUS=500;X-TITLE=Savitie 118:geo:27.5626754,62.7948279
END:VEVENT
END:VCALENDAR