BEGIN:VCALENDAR
VERSION:2.0
PRODID:-//Vihma.fi - ECPv6.15.20//NONSGML v1.0//EN
CALSCALE:GREGORIAN
METHOD:PUBLISH
X-ORIGINAL-URL:https://www.vihma.fi
X-WR-CALDESC:Tapahtumat Vihma.fi
REFRESH-INTERVAL;VALUE=DURATION:PT1H
X-Robots-Tag:noindex
X-PUBLISHED-TTL:PT1H
BEGIN:VTIMEZONE
TZID:Europe/Helsinki
BEGIN:DAYLIGHT
TZOFFSETFROM:+0200
TZOFFSETTO:+0300
TZNAME:EEST
DTSTART:20230326T010000
END:DAYLIGHT
BEGIN:STANDARD
TZOFFSETFROM:+0300
TZOFFSETTO:+0200
TZNAME:EET
DTSTART:20231029T010000
END:STANDARD
BEGIN:DAYLIGHT
TZOFFSETFROM:+0200
TZOFFSETTO:+0300
TZNAME:EEST
DTSTART:20240331T010000
END:DAYLIGHT
BEGIN:STANDARD
TZOFFSETFROM:+0300
TZOFFSETTO:+0200
TZNAME:EET
DTSTART:20241027T010000
END:STANDARD
BEGIN:DAYLIGHT
TZOFFSETFROM:+0200
TZOFFSETTO:+0300
TZNAME:EEST
DTSTART:20250330T010000
END:DAYLIGHT
BEGIN:STANDARD
TZOFFSETFROM:+0300
TZOFFSETTO:+0200
TZNAME:EET
DTSTART:20251026T010000
END:STANDARD
END:VTIMEZONE
BEGIN:VEVENT
DTSTART;TZID=Europe/Helsinki:20241001T170000
DTEND;TZID=Europe/Helsinki:20241001T190000
DTSTAMP:20260420T061411
CREATED:20240417T164149Z
LAST-MODIFIED:20240417T164149Z
UID:10002275-1727802000-1727809200@www.vihma.fi
SUMMARY:Viikkoammunnat Iisalmi\, pistooli
DESCRIPTION:PS-Reservipiirien viikkoammuntavuoro Iisalmessa Hanhilammen ampumaradalla. \nMahdollisuus ampua järjestäjän aseilla tai omalla aseella. \nPortit avataan hieman ennen vuoron alkua\, saavu paikalle ja ilmoittaudu ammunnanjohtajalle. \nAmmunnasta veloitetaan ratamaksu sekä ammutut patruunat. Maksu onnistuu kortilla. \nVuoro on kaikille avoin. Ampujan vakuutus (Res. toimintaturva\, RUL Plus) vaaditaan. \nTervetuloa!
URL:https://www.vihma.fi/tapahtuma/viikkoammunnat-iisalmi-pistooli-3/2024-10-01/
LOCATION:Hanhilammentie 99 Iisalmi\, Hanhilammentie 99\, Iisalmi
CATEGORIES:Ammunta
GEO:63.6116096;27.0718359
X-APPLE-STRUCTURED-LOCATION;VALUE=URI;X-ADDRESS=Hanhilammentie 99 Iisalmi Hanhilammentie 99 Iisalmi;X-APPLE-RADIUS=500;X-TITLE=Hanhilammentie 99:geo:27.0718359,63.6116096
END:VEVENT
END:VCALENDAR