BEGIN:VCALENDAR
VERSION:2.0
PRODID:-//Vihma.fi - ECPv6.15.20//NONSGML v1.0//EN
CALSCALE:GREGORIAN
METHOD:PUBLISH
X-ORIGINAL-URL:https://www.vihma.fi
X-WR-CALDESC:Tapahtumat Vihma.fi
REFRESH-INTERVAL;VALUE=DURATION:PT1H
X-Robots-Tag:noindex
X-PUBLISHED-TTL:PT1H
BEGIN:VTIMEZONE
TZID:Europe/Helsinki
BEGIN:DAYLIGHT
TZOFFSETFROM:+0200
TZOFFSETTO:+0300
TZNAME:EEST
DTSTART:20230326T010000
END:DAYLIGHT
BEGIN:STANDARD
TZOFFSETFROM:+0300
TZOFFSETTO:+0200
TZNAME:EET
DTSTART:20231029T010000
END:STANDARD
BEGIN:DAYLIGHT
TZOFFSETFROM:+0200
TZOFFSETTO:+0300
TZNAME:EEST
DTSTART:20240331T010000
END:DAYLIGHT
BEGIN:STANDARD
TZOFFSETFROM:+0300
TZOFFSETTO:+0200
TZNAME:EET
DTSTART:20241027T010000
END:STANDARD
BEGIN:DAYLIGHT
TZOFFSETFROM:+0200
TZOFFSETTO:+0300
TZNAME:EEST
DTSTART:20250330T010000
END:DAYLIGHT
BEGIN:STANDARD
TZOFFSETFROM:+0300
TZOFFSETTO:+0200
TZNAME:EET
DTSTART:20251026T010000
END:STANDARD
END:VTIMEZONE
BEGIN:VEVENT
DTSTART;TZID=Europe/Helsinki:20240501T080000
DTEND;TZID=Europe/Helsinki:20240930T170000
DTSTAMP:20260420T093553
CREATED:20240329T103546Z
LAST-MODIFIED:20240329T103645Z
UID:10002204-1714550400-1727715600@www.vihma.fi
SUMMARY:Pyöräilyn kilometrikisa 1.5.-30.9.2024
DESCRIPTION:HUOMIO!\nOn aika jälleen kaivaa polkupyörät varastoista keväthuoltoa varten.\nVuoden 2024 pyöräilyn kilometrikisa lähestyy. 1.5.-30.9.2024 välisenä aikana pidetään ketjua kireällä Pohjois-Savon reserviläispiirien yhteisellä joukkueella.\n”Vihman Reservi”\nLiittyäksesi joukkueeseen\, mene kilometrikisa sivuille ja kirjaudu tai rekisteröidy itsesi sisään ja liity joukkueeseen Vihman reservi. Liittymiskoodi on ”Vihma84462”\n”Vihman Reservi” joukkueella kilometritavoite olisi edellisen vuoden tapaan jokseenkin vapaa. Kilometrejä kuitenkin keräillään pitkin kisaa ja olisi mukavaa jos kilometripäivityksiä tulisi suhteellisen säännöllisesti. Kaikki kilometrit lasketaan.\nMikäli mieleesi tulee kysymyksiä tai tarvitset ohjeita\, lue ensin tämä:\nLisätietoa kilometrikisan sivuilla.\nHuomio! Polarin tuotteiden käyttäjät. Kirjaaminen helpottuu huomattavasti ottamalla polar flown käyttöön\nkilometrikisa polar-flow
URL:https://www.vihma.fi/tapahtuma/pyorailyn-kilometrikisa-1-5-30-9-2024/
CATEGORIES:Liikunta
END:VEVENT
BEGIN:VEVENT
DTSTART;VALUE=DATE:20240921
DTEND;VALUE=DATE:20240922
DTSTAMP:20260420T093553
CREATED:20240918T085859Z
LAST-MODIFIED:20240918T085859Z
UID:10002756-1726876800-1726963199@www.vihma.fi
SUMMARY:Pohjois-Savon vuoden 2024 reserviläispistooliampuja kilpailu
DESCRIPTION:Alla olevasta linkistä löydät tarkemmat tiedot kilpailusta: \nKilpailukutsu
URL:https://www.vihma.fi/tapahtuma/pohjois-savon-vuoden-2024-reservilaispistooliampuja-kilpailu/
END:VEVENT
BEGIN:VEVENT
DTSTART;VALUE=DATE:20240921
DTEND;VALUE=DATE:20240923
DTSTAMP:20260420T093553
CREATED:20240918T090614Z
LAST-MODIFIED:20241113T085838Z
UID:10002758-1726876800-1727049599@www.vihma.fi
SUMMARY:Rissalan ampumaradan viikonloppukäyttö
DESCRIPTION:Rissalan ampumaradalla on mahdollista käydä ampumassa myös viikonloppuisin viikkovuorojen ulkopuolella. Tämä vaatii kulkuluvan\, jonka hakemiseen löydät ohjeen Vihman ammunta -sivustolta. Jokainen radankäyttäjä on velvollinen noudattamaan Rissalan ampumaradan johtosääntöä. Johtosääntöä on noudatettava kaikissa olosuhteissa ja ampumapaikat on siistittävä ammuntojen jälkeen. Muistetaan myös samalla huomioida muut radan käyttäjät. \nTiedossa olevat varaukset jolloin ampumarata tai sen osia ei ole käytettävissä: \nMarraskuu \n16.-17.11. kivääri- ja liikemaalirata varattu \n22.-28.11. kaikki radat varattu \n30.11 -1.12. kaikki radat varattu \nJoulukuu \n1.12. kaikki radat varattu \n4.12 Kiväärirata ei käytössä
URL:https://www.vihma.fi/tapahtuma/rissalan-ampumaradan-viikonloppu/2024-09-21/
CATEGORIES:Ammunta
END:VEVENT
END:VCALENDAR