BEGIN:VCALENDAR
VERSION:2.0
PRODID:-//Vihma.fi - ECPv6.15.20//NONSGML v1.0//EN
CALSCALE:GREGORIAN
METHOD:PUBLISH
X-ORIGINAL-URL:https://www.vihma.fi
X-WR-CALDESC:Tapahtumat Vihma.fi
REFRESH-INTERVAL;VALUE=DURATION:PT1H
X-Robots-Tag:noindex
X-PUBLISHED-TTL:PT1H
BEGIN:VTIMEZONE
TZID:Europe/Helsinki
BEGIN:DAYLIGHT
TZOFFSETFROM:+0200
TZOFFSETTO:+0300
TZNAME:EEST
DTSTART:20230326T010000
END:DAYLIGHT
BEGIN:STANDARD
TZOFFSETFROM:+0300
TZOFFSETTO:+0200
TZNAME:EET
DTSTART:20231029T010000
END:STANDARD
BEGIN:DAYLIGHT
TZOFFSETFROM:+0200
TZOFFSETTO:+0300
TZNAME:EEST
DTSTART:20240331T010000
END:DAYLIGHT
BEGIN:STANDARD
TZOFFSETFROM:+0300
TZOFFSETTO:+0200
TZNAME:EET
DTSTART:20241027T010000
END:STANDARD
BEGIN:DAYLIGHT
TZOFFSETFROM:+0200
TZOFFSETTO:+0300
TZNAME:EEST
DTSTART:20250330T010000
END:DAYLIGHT
BEGIN:STANDARD
TZOFFSETFROM:+0300
TZOFFSETTO:+0200
TZNAME:EET
DTSTART:20251026T010000
END:STANDARD
END:VTIMEZONE
BEGIN:VEVENT
DTSTART;TZID=Europe/Helsinki:20240501T080000
DTEND;TZID=Europe/Helsinki:20240930T170000
DTSTAMP:20260420T170451
CREATED:20240329T103546Z
LAST-MODIFIED:20240329T103645Z
UID:10002204-1714550400-1727715600@www.vihma.fi
SUMMARY:Pyöräilyn kilometrikisa 1.5.-30.9.2024
DESCRIPTION:HUOMIO!\nOn aika jälleen kaivaa polkupyörät varastoista keväthuoltoa varten.\nVuoden 2024 pyöräilyn kilometrikisa lähestyy. 1.5.-30.9.2024 välisenä aikana pidetään ketjua kireällä Pohjois-Savon reserviläispiirien yhteisellä joukkueella.\n”Vihman Reservi”\nLiittyäksesi joukkueeseen\, mene kilometrikisa sivuille ja kirjaudu tai rekisteröidy itsesi sisään ja liity joukkueeseen Vihman reservi. Liittymiskoodi on ”Vihma84462”\n”Vihman Reservi” joukkueella kilometritavoite olisi edellisen vuoden tapaan jokseenkin vapaa. Kilometrejä kuitenkin keräillään pitkin kisaa ja olisi mukavaa jos kilometripäivityksiä tulisi suhteellisen säännöllisesti. Kaikki kilometrit lasketaan.\nMikäli mieleesi tulee kysymyksiä tai tarvitset ohjeita\, lue ensin tämä:\nLisätietoa kilometrikisan sivuilla.\nHuomio! Polarin tuotteiden käyttäjät. Kirjaaminen helpottuu huomattavasti ottamalla polar flown käyttöön\nkilometrikisa polar-flow
URL:https://www.vihma.fi/tapahtuma/pyorailyn-kilometrikisa-1-5-30-9-2024/
CATEGORIES:Liikunta
END:VEVENT
BEGIN:VEVENT
DTSTART;TZID=Europe/Helsinki:20240723T170000
DTEND;TZID=Europe/Helsinki:20240723T200000
DTSTAMP:20260420T170451
CREATED:20240610T204313Z
LAST-MODIFIED:20240610T204313Z
UID:10002612-1721754000-1721764800@www.vihma.fi
SUMMARY:Marskin malja 2024
DESCRIPTION:Marskin Malja on kolmiottelu\, jossa lajeina ovat maastojuoksu 3000 m\, uinti 200 m ja pistooliammunta 6×5 laukausta. \nMarskin maljan maastojuoksu ja uinti osakilpailut järjestetään heinäkuussa tiistaisin klo 17.00 alkaen Siilinjärven reserviupseerikerhon Veteraanimajalla (Varpaskummuntie 35\, 71800 Siilinjärvi) sekä ammunta osakilpailu Rissalassa keskiviikkoisin klo 17.30 alkaen. \nTutustu vuoden 2024 kolmiottelun esitteeseen! \nMarskin malja kilpailupäivät 2024 \nke 3.7. Ammunta\nti 9.7. Juoksu Uinti\nke 17.7. Ammunta\nti 23.7. Juoksu Uinti\nti 30.7. Juoksu Uinti\nke 31.7. Ammunta \nKilpailun pääpalkinto ”Marskin Malja” kiertopalkinto on siilinjärveläisen Mannerheim-ristin ritarin Erkki Oinosen Siilinjärven reserviupseereille ja reservinaliupseereille luovuttama ikuisesti kiertävä kunniapalkinto. Palkinnon on lahjoittanut talousneuvos Pauli Talvio vuonna 1987. \nKilpailun säännöt \nHuom! Kilpailun ammuntaan osallistuminen edellyttää kulkulupaa Karjalan lennoston ampumaradalle Rissalaan sekä amputurvavakuutuksen\, jonka saat joko liitostasi (RUL/RES). Myös Suomen Ampumaurheiluliiton (SAL) lisenssi käy. Huolehdi hyvissä ajoin kulkulupasi ja vakuutuksesi kuntoon! Ohjeet kulkuluvan hakemiseen löydät Vihman sivuilta osoitteesta: https://www.vihma.fi/ammunta/ \n 
URL:https://www.vihma.fi/tapahtuma/marskin_malja_2024/2024-07-23/
CATEGORIES:Ammunta,Liikunta
ORGANIZER;CN="Siilinj%C3%A4rven Reserviupseerikerho ry":MAILTO:siilinjarvenreserviupseerit@gmail.com
END:VEVENT
END:VCALENDAR