BEGIN:VCALENDAR
VERSION:2.0
PRODID:-//Vihma.fi - ECPv6.15.20//NONSGML v1.0//EN
CALSCALE:GREGORIAN
METHOD:PUBLISH
X-ORIGINAL-URL:https://www.vihma.fi
X-WR-CALDESC:Tapahtumat Vihma.fi
REFRESH-INTERVAL;VALUE=DURATION:PT1H
X-Robots-Tag:noindex
X-PUBLISHED-TTL:PT1H
BEGIN:VTIMEZONE
TZID:Europe/Helsinki
BEGIN:DAYLIGHT
TZOFFSETFROM:+0200
TZOFFSETTO:+0300
TZNAME:EEST
DTSTART:20230326T010000
END:DAYLIGHT
BEGIN:STANDARD
TZOFFSETFROM:+0300
TZOFFSETTO:+0200
TZNAME:EET
DTSTART:20231029T010000
END:STANDARD
BEGIN:DAYLIGHT
TZOFFSETFROM:+0200
TZOFFSETTO:+0300
TZNAME:EEST
DTSTART:20240331T010000
END:DAYLIGHT
BEGIN:STANDARD
TZOFFSETFROM:+0300
TZOFFSETTO:+0200
TZNAME:EET
DTSTART:20241027T010000
END:STANDARD
BEGIN:DAYLIGHT
TZOFFSETFROM:+0200
TZOFFSETTO:+0300
TZNAME:EEST
DTSTART:20250330T010000
END:DAYLIGHT
BEGIN:STANDARD
TZOFFSETFROM:+0300
TZOFFSETTO:+0200
TZNAME:EET
DTSTART:20251026T010000
END:STANDARD
END:VTIMEZONE
BEGIN:VEVENT
DTSTART;TZID=Europe/Helsinki:20240324T090000
DTEND;TZID=Europe/Helsinki:20240324T160000
DTSTAMP:20260421T014151
CREATED:20240228T181459Z
LAST-MODIFIED:20240228T181459Z
UID:10001638-1711270800-1711296000@www.vihma.fi
SUMMARY:SRA KKC 1/24
DESCRIPTION:SRA KalakukkoCupin osakilpailu 1/24 Nilsiässä. \nhttps://shootnscoreit.com/event/22/19766/
URL:https://www.vihma.fi/tapahtuma/sra-kkc-1-24/
LOCATION:Nilsiä\, Tarpinen\, Varpaisjärventie 785\, Nilsiä\, 73300\, Suomi
CATEGORIES:SRA
GEO:63.2473137;28.0120482
X-APPLE-STRUCTURED-LOCATION;VALUE=URI;X-ADDRESS=Nilsiä Tarpinen Varpaisjärventie 785 Nilsiä 73300 Suomi;X-APPLE-RADIUS=500;X-TITLE=Varpaisjärventie 785:geo:28.0120482,63.2473137
END:VEVENT
END:VCALENDAR