BEGIN:VCALENDAR
VERSION:2.0
PRODID:-//Vihma.fi - ECPv6.15.20//NONSGML v1.0//EN
CALSCALE:GREGORIAN
METHOD:PUBLISH
X-WR-CALNAME:Vihma.fi
X-ORIGINAL-URL:https://www.vihma.fi
X-WR-CALDESC:Tapahtumat Vihma.fi
REFRESH-INTERVAL;VALUE=DURATION:PT1H
X-Robots-Tag:noindex
X-PUBLISHED-TTL:PT1H
BEGIN:VTIMEZONE
TZID:Europe/Helsinki
BEGIN:DAYLIGHT
TZOFFSETFROM:+0200
TZOFFSETTO:+0300
TZNAME:EEST
DTSTART:20230326T010000
END:DAYLIGHT
BEGIN:STANDARD
TZOFFSETFROM:+0300
TZOFFSETTO:+0200
TZNAME:EET
DTSTART:20231029T010000
END:STANDARD
BEGIN:DAYLIGHT
TZOFFSETFROM:+0200
TZOFFSETTO:+0300
TZNAME:EEST
DTSTART:20240331T010000
END:DAYLIGHT
BEGIN:STANDARD
TZOFFSETFROM:+0300
TZOFFSETTO:+0200
TZNAME:EET
DTSTART:20241027T010000
END:STANDARD
BEGIN:DAYLIGHT
TZOFFSETFROM:+0200
TZOFFSETTO:+0300
TZNAME:EEST
DTSTART:20250330T010000
END:DAYLIGHT
BEGIN:STANDARD
TZOFFSETFROM:+0300
TZOFFSETTO:+0200
TZNAME:EET
DTSTART:20251026T010000
END:STANDARD
END:VTIMEZONE
BEGIN:VEVENT
DTSTART;TZID=Europe/Helsinki:20240308T150000
DTEND;TZID=Europe/Helsinki:20240310T170000
DTSTAMP:20260421T013958
CREATED:20231205T174355Z
LAST-MODIFIED:20231205T174355Z
UID:10001581-1709910000-1710090000@www.vihma.fi
SUMMARY:Resul talvijotos 8.-10.3.2023 Imatra
DESCRIPTION:Reserviläisurheiluliiton valtakunnallinen sotilastaitokilpailu Jukajärven talvijotos järjestetään Imatralla viikonloppuna 8.-10.3.2024.\nJukajärven talvijotos on reserviläispartioiden välinen vaativa ja fyysinen sotilastaitokilpailu. Tapahtuman järjestämisestä vastaa Imatran Reserviupseerikerho yhteistyökumppaneineen. \nLinkki järjestäjän sivuille. \nLinkki ilmoittautumissivuille
URL:https://www.vihma.fi/tapahtuma/resul-talvijotos-8-10-3-2023-imatra/
CATEGORIES:JOTOS
END:VEVENT
END:VCALENDAR