BEGIN:VCALENDAR
VERSION:2.0
PRODID:-//Vihma.fi - ECPv6.15.20//NONSGML v1.0//EN
CALSCALE:GREGORIAN
METHOD:PUBLISH
X-WR-CALNAME:Vihma.fi
X-ORIGINAL-URL:https://www.vihma.fi
X-WR-CALDESC:Tapahtumat Vihma.fi
REFRESH-INTERVAL;VALUE=DURATION:PT1H
X-Robots-Tag:noindex
X-PUBLISHED-TTL:PT1H
BEGIN:VTIMEZONE
TZID:Europe/Helsinki
BEGIN:DAYLIGHT
TZOFFSETFROM:+0200
TZOFFSETTO:+0300
TZNAME:EEST
DTSTART:20230326T010000
END:DAYLIGHT
BEGIN:STANDARD
TZOFFSETFROM:+0300
TZOFFSETTO:+0200
TZNAME:EET
DTSTART:20231029T010000
END:STANDARD
BEGIN:DAYLIGHT
TZOFFSETFROM:+0200
TZOFFSETTO:+0300
TZNAME:EEST
DTSTART:20240331T010000
END:DAYLIGHT
BEGIN:STANDARD
TZOFFSETFROM:+0300
TZOFFSETTO:+0200
TZNAME:EET
DTSTART:20241027T010000
END:STANDARD
BEGIN:DAYLIGHT
TZOFFSETFROM:+0200
TZOFFSETTO:+0300
TZNAME:EEST
DTSTART:20250330T010000
END:DAYLIGHT
BEGIN:STANDARD
TZOFFSETFROM:+0300
TZOFFSETTO:+0200
TZNAME:EET
DTSTART:20251026T010000
END:STANDARD
END:VTIMEZONE
BEGIN:VEVENT
DTSTART;TZID=Europe/Helsinki:20240302T080000
DTEND;TZID=Europe/Helsinki:20240303T170000
DTSTAMP:20260420T235558
CREATED:20240105T105642Z
LAST-MODIFIED:20240105T105642Z
UID:10001594-1709366400-1709485200@www.vihma.fi
SUMMARY:RESUL:N ampuma- sekä pistooliampumahiihtoa 2.-3.3.2024 Kontiolahti
DESCRIPTION:Reserviläisurheiluliiton ampuma- sekä pistooliampumahiihtokilpailut viesteineen \njärjestetään 2.-3.3.2024 Kontiolahdella \nIlmoittautumiset piireittäin. \nIlmoittautumiset Mikalle (mika.lustig@gmail.com) 20.2.2024 mennessä. \nIlmoittautuessa mainittava nimi\, sarja\, syntymävuosi\, sotilasarvo\, yhdistys\, piiri ja sähköpostiosoite. \nLisätiedot: \nLinkki Reserviläisurheiluliiton tapahtumansivuille \nJärjestäjän kilpailusivut (Kontiolahden Reserviläiset)
URL:https://www.vihma.fi/tapahtuma/resuln-ampuma-seka-pistooliampumahiihtoa-2-3-3-2024-kontiolahti/
CATEGORIES:Ammunta,Liikunta
END:VEVENT
END:VCALENDAR