BEGIN:VCALENDAR
VERSION:2.0
PRODID:-//Vihma.fi - ECPv6.15.20//NONSGML v1.0//EN
CALSCALE:GREGORIAN
METHOD:PUBLISH
X-WR-CALNAME:Vihma.fi
X-ORIGINAL-URL:https://www.vihma.fi
X-WR-CALDESC:Tapahtumat Vihma.fi
REFRESH-INTERVAL;VALUE=DURATION:PT1H
X-Robots-Tag:noindex
X-PUBLISHED-TTL:PT1H
BEGIN:VTIMEZONE
TZID:Europe/Helsinki
BEGIN:DAYLIGHT
TZOFFSETFROM:+0200
TZOFFSETTO:+0300
TZNAME:EEST
DTSTART:20220327T010000
END:DAYLIGHT
BEGIN:STANDARD
TZOFFSETFROM:+0300
TZOFFSETTO:+0200
TZNAME:EET
DTSTART:20221030T010000
END:STANDARD
BEGIN:DAYLIGHT
TZOFFSETFROM:+0200
TZOFFSETTO:+0300
TZNAME:EEST
DTSTART:20230326T010000
END:DAYLIGHT
BEGIN:STANDARD
TZOFFSETFROM:+0300
TZOFFSETTO:+0200
TZNAME:EET
DTSTART:20231029T010000
END:STANDARD
BEGIN:DAYLIGHT
TZOFFSETFROM:+0200
TZOFFSETTO:+0300
TZNAME:EEST
DTSTART:20240331T010000
END:DAYLIGHT
BEGIN:STANDARD
TZOFFSETFROM:+0300
TZOFFSETTO:+0200
TZNAME:EET
DTSTART:20241027T010000
END:STANDARD
END:VTIMEZONE
BEGIN:VEVENT
DTSTART;TZID=Europe/Helsinki:20231008T090000
DTEND;TZID=Europe/Helsinki:20231008T170000
DTSTAMP:20260421T135533
CREATED:20230909T180026Z
LAST-MODIFIED:20230909T180026Z
UID:10001366-1696755600-1696784400@www.vihma.fi
SUMMARY:SRA KKC 4/23
DESCRIPTION:KalakukkoCupin neljäs osakilpailu Nilsiän Tarpisella. \nIlmoittautuminen SSI
URL:https://www.vihma.fi/tapahtuma/sra-kkc-4-23/
LOCATION:Tarpinen\, Varpaisjärventie 785\, Nilsiä\, 73300
CATEGORIES:SRA
ORGANIZER;CN="Pohjois-Savon reservipiirit":MAILTO:toiminnanjohtaja@vihma.fi
GEO:63.2473137;28.0120482
X-APPLE-STRUCTURED-LOCATION;VALUE=URI;X-ADDRESS=Tarpinen Varpaisjärventie 785 Nilsiä 73300;X-APPLE-RADIUS=500;X-TITLE=Varpaisjärventie 785:geo:28.0120482,63.2473137
END:VEVENT
END:VCALENDAR