BEGIN:VCALENDAR
VERSION:2.0
PRODID:-//Vihma.fi - ECPv6.15.20//NONSGML v1.0//EN
CALSCALE:GREGORIAN
METHOD:PUBLISH
X-ORIGINAL-URL:https://www.vihma.fi
X-WR-CALDESC:Tapahtumat Vihma.fi
REFRESH-INTERVAL;VALUE=DURATION:PT1H
X-Robots-Tag:noindex
X-PUBLISHED-TTL:PT1H
BEGIN:VTIMEZONE
TZID:Europe/Helsinki
BEGIN:DAYLIGHT
TZOFFSETFROM:+0200
TZOFFSETTO:+0300
TZNAME:EEST
DTSTART:20220327T010000
END:DAYLIGHT
BEGIN:STANDARD
TZOFFSETFROM:+0300
TZOFFSETTO:+0200
TZNAME:EET
DTSTART:20221030T010000
END:STANDARD
BEGIN:DAYLIGHT
TZOFFSETFROM:+0200
TZOFFSETTO:+0300
TZNAME:EEST
DTSTART:20230326T010000
END:DAYLIGHT
BEGIN:STANDARD
TZOFFSETFROM:+0300
TZOFFSETTO:+0200
TZNAME:EET
DTSTART:20231029T010000
END:STANDARD
BEGIN:DAYLIGHT
TZOFFSETFROM:+0200
TZOFFSETTO:+0300
TZNAME:EEST
DTSTART:20240331T010000
END:DAYLIGHT
BEGIN:STANDARD
TZOFFSETFROM:+0300
TZOFFSETTO:+0200
TZNAME:EET
DTSTART:20241027T010000
END:STANDARD
END:VTIMEZONE
BEGIN:VEVENT
DTSTART;TZID=Europe/Helsinki:20230818T080000
DTEND;TZID=Europe/Helsinki:20230820T170000
DTSTAMP:20260421T232436
CREATED:20230623T062404Z
LAST-MODIFIED:20230623T062404Z
UID:10001342-1692345600-1692550800@www.vihma.fi
SUMMARY:RESERVIN AMPUMAMESTARUUSKILPAILUT\, MIKKELI
DESCRIPTION:KILPAILUKUTSU\n\nAika\n18. – 20.8.2023 \nPaikka\nKyrönpellon ampumarata\, Kyrönpellontie 4\, 50150 Mikkeli \nLajit\n25 m pistooli\, Isopistooli\, Pistooli pika-ammunta\nKivääri kenttä 10 + 10 ls\, Itselataava kenttä 10 + 10 ls\nPienoiskivääri 60 ls makuu\, Pienoiskivääri 3 x 20 ls\, Pienoiskivääri 2×30 ls \nSarjat\nH/D\, H/D 50\, H 60\, H 70\, H 75 ja H 80 \nSarja toteutuu\, jos ilmoittautuneita on vähintään kolme. \n  \nJoukkuekilpailu\nSarjat: H\, H50 ja D \nJoukkueeseen ilmoitetaan kolme ampujaa\, joiden kaikkien tulos huomioidaan. Joukkueet nimetään viimeistään ennen ensimmäisen ampujan suoritusta. \nJoukkueen nimeäminen on myös tehtävä ennakkoon samanaikaisesti muun ilmoittamisen kanssa. \n25 m pistoolin H-sarjan joukkueessa ampuvan aseen tulee täyttää SAL:n H-sarjan lajisäännöt. \n  \nIlmoittautuminen\nKilpailujen sääntöjen mukaan piirillä\, jonka muodostavat saman maakunnan RUL ja RES piirit yhdessä\, on mahdollisuus ilmoittaa yhteensä enintään kuusi (6) ampujaa/laji. \nAmpuja voi osallistua vain kolmeen mestaruuskisalajiin. \n  \nIlmoittautumiset 28.7.2023 mennessä: tero.tapio.turpeinen@outlook.com \nTarvittavat tiedot ilmoittautumiseen: nimi\, sotilasarvo\, laji(t)\, sarja
URL:https://www.vihma.fi/tapahtuma/reservin-ampumamestaruuskilpailut-mikkeli/
LOCATION:Kyrönpellon ampumarata\, Mikkeli\, Kyrönpellontie\, Mikkeli\, 50100\, Suomi
CATEGORIES:Ammunta
GEO:61.7209361;27.1948011
X-APPLE-STRUCTURED-LOCATION;VALUE=URI;X-ADDRESS=Kyrönpellon ampumarata Mikkeli Kyrönpellontie Mikkeli 50100 Suomi;X-APPLE-RADIUS=500;X-TITLE=Kyrönpellontie:geo:27.1948011,61.7209361
END:VEVENT
END:VCALENDAR