BEGIN:VCALENDAR
VERSION:2.0
PRODID:-//Vihma.fi - ECPv6.15.20//NONSGML v1.0//EN
CALSCALE:GREGORIAN
METHOD:PUBLISH
X-ORIGINAL-URL:https://www.vihma.fi
X-WR-CALDESC:Tapahtumat Vihma.fi
REFRESH-INTERVAL;VALUE=DURATION:PT1H
X-Robots-Tag:noindex
X-PUBLISHED-TTL:PT1H
BEGIN:VTIMEZONE
TZID:Europe/Helsinki
BEGIN:DAYLIGHT
TZOFFSETFROM:+0200
TZOFFSETTO:+0300
TZNAME:EEST
DTSTART:20220327T010000
END:DAYLIGHT
BEGIN:STANDARD
TZOFFSETFROM:+0300
TZOFFSETTO:+0200
TZNAME:EET
DTSTART:20221030T010000
END:STANDARD
BEGIN:DAYLIGHT
TZOFFSETFROM:+0200
TZOFFSETTO:+0300
TZNAME:EEST
DTSTART:20230326T010000
END:DAYLIGHT
BEGIN:STANDARD
TZOFFSETFROM:+0300
TZOFFSETTO:+0200
TZNAME:EET
DTSTART:20231029T010000
END:STANDARD
BEGIN:DAYLIGHT
TZOFFSETFROM:+0200
TZOFFSETTO:+0300
TZNAME:EEST
DTSTART:20240331T010000
END:DAYLIGHT
BEGIN:STANDARD
TZOFFSETFROM:+0300
TZOFFSETTO:+0200
TZNAME:EET
DTSTART:20241027T010000
END:STANDARD
END:VTIMEZONE
BEGIN:VEVENT
DTSTART;TZID=Europe/Helsinki:20230812T083000
DTEND;TZID=Europe/Helsinki:20230812T170000
DTSTAMP:20260421T222821
CREATED:20230630T151840Z
LAST-MODIFIED:20230630T151840Z
UID:10001343-1691829000-1691859600@www.vihma.fi
SUMMARY:RESERVILÄISFRISBEEGOLF KILPAILU 12.8.2023
DESCRIPTION:Reserviläisurheiluliiton reserviläisfrisbeegolf kilpailut järjestetään 12.8.2023 \nSaarijärvellä \nSärkilammen majalla \nKokkolantie 667\, 43250 Kolkanlahti \n  \nLisätietoja Resulin sivuilla
URL:https://www.vihma.fi/tapahtuma/reservilaisfrisbeegolf-kilpailu-12-8-2023/
CATEGORIES:Liikunta
END:VEVENT
END:VCALENDAR