BEGIN:VCALENDAR
VERSION:2.0
PRODID:-//Vihma.fi - ECPv6.15.20//NONSGML v1.0//EN
CALSCALE:GREGORIAN
METHOD:PUBLISH
X-WR-CALNAME:Vihma.fi
X-ORIGINAL-URL:https://www.vihma.fi
X-WR-CALDESC:Tapahtumat Vihma.fi
REFRESH-INTERVAL;VALUE=DURATION:PT1H
X-Robots-Tag:noindex
X-PUBLISHED-TTL:PT1H
BEGIN:VTIMEZONE
TZID:Europe/Helsinki
BEGIN:DAYLIGHT
TZOFFSETFROM:+0200
TZOFFSETTO:+0300
TZNAME:EEST
DTSTART:20220327T010000
END:DAYLIGHT
BEGIN:STANDARD
TZOFFSETFROM:+0300
TZOFFSETTO:+0200
TZNAME:EET
DTSTART:20221030T010000
END:STANDARD
BEGIN:DAYLIGHT
TZOFFSETFROM:+0200
TZOFFSETTO:+0300
TZNAME:EEST
DTSTART:20230326T010000
END:DAYLIGHT
BEGIN:STANDARD
TZOFFSETFROM:+0300
TZOFFSETTO:+0200
TZNAME:EET
DTSTART:20231029T010000
END:STANDARD
BEGIN:DAYLIGHT
TZOFFSETFROM:+0200
TZOFFSETTO:+0300
TZNAME:EEST
DTSTART:20240331T010000
END:DAYLIGHT
BEGIN:STANDARD
TZOFFSETFROM:+0300
TZOFFSETTO:+0200
TZNAME:EET
DTSTART:20241027T010000
END:STANDARD
END:VTIMEZONE
BEGIN:VEVENT
DTSTART;TZID=Europe/Helsinki:20230808T180000
DTEND;TZID=Europe/Helsinki:20230808T200000
DTSTAMP:20260422T030833
CREATED:20230315T134732Z
LAST-MODIFIED:20230315T134732Z
UID:10000715-1691517600-1691524800@www.vihma.fi
SUMMARY:Viikkoammunnat Iisalmi\, pistooli
DESCRIPTION:Piirin viikkoammunnat Iisalmessa. Vuoro on kaikille avoin. \nMahdollisuus ampua piirin aseilla tai omalla aseella. \nPortit avataan hieman ennen vuoron alkua\, saavu paikalle ja ilmoittaudu ammunnanjohtajalle. \nAmmunnasta veloitetaan ratamaksu sekä ammutut patruunat. Maksu onnistuu kortilla tai käteisellä.
URL:https://www.vihma.fi/tapahtuma/viikkoammunnat-iisalmi-pistooli-5/2023-08-08/
CATEGORIES:Ammunta
END:VEVENT
BEGIN:VEVENT
DTSTART;TZID=Europe/Helsinki:20230808T180000
DTEND;TZID=Europe/Helsinki:20230808T200000
DTSTAMP:20260422T030833
CREATED:20230609T074502Z
LAST-MODIFIED:20230913T043321Z
UID:10001059-1691517600-1691524800@www.vihma.fi
SUMMARY:Pienoispistooliammuntaa Tarpisen ampumaradalla Nilsiässä
DESCRIPTION:Pienoispistooliammuntaa Tarpisen ampumaradalla Nilsiässä tiistaisin klo 18:00 alkaen. Laina-aseen tarpeet tai muut tiedustelut: Harri Kontro 0400 796 720
URL:https://www.vihma.fi/tapahtuma/pienoispistooliammuntaa-tarpisen-ampumaradalla-nilsiassa-2/2023-08-08/
LOCATION:Nilsiä\, Tarpisen ampumarata
CATEGORIES:Ammunta
END:VEVENT
END:VCALENDAR