BEGIN:VCALENDAR
VERSION:2.0
PRODID:-//Vihma.fi - ECPv6.15.20//NONSGML v1.0//EN
CALSCALE:GREGORIAN
METHOD:PUBLISH
X-WR-CALNAME:Vihma.fi
X-ORIGINAL-URL:https://www.vihma.fi
X-WR-CALDESC:Tapahtumat Vihma.fi
REFRESH-INTERVAL;VALUE=DURATION:PT1H
X-Robots-Tag:noindex
X-PUBLISHED-TTL:PT1H
BEGIN:VTIMEZONE
TZID:Europe/Helsinki
BEGIN:DAYLIGHT
TZOFFSETFROM:+0200
TZOFFSETTO:+0300
TZNAME:EEST
DTSTART:20220327T010000
END:DAYLIGHT
BEGIN:STANDARD
TZOFFSETFROM:+0300
TZOFFSETTO:+0200
TZNAME:EET
DTSTART:20221030T010000
END:STANDARD
BEGIN:DAYLIGHT
TZOFFSETFROM:+0200
TZOFFSETTO:+0300
TZNAME:EEST
DTSTART:20230326T010000
END:DAYLIGHT
BEGIN:STANDARD
TZOFFSETFROM:+0300
TZOFFSETTO:+0200
TZNAME:EET
DTSTART:20231029T010000
END:STANDARD
BEGIN:DAYLIGHT
TZOFFSETFROM:+0200
TZOFFSETTO:+0300
TZNAME:EEST
DTSTART:20240331T010000
END:DAYLIGHT
BEGIN:STANDARD
TZOFFSETFROM:+0300
TZOFFSETTO:+0200
TZNAME:EET
DTSTART:20241027T010000
END:STANDARD
END:VTIMEZONE
BEGIN:VEVENT
DTSTART;TZID=Europe/Helsinki:20230729T100000
DTEND;TZID=Europe/Helsinki:20230729T170000
DTSTAMP:20260422T040908
CREATED:20230620T105512Z
LAST-MODIFIED:20230620T105635Z
UID:10001340-1690624800-1690650000@www.vihma.fi
SUMMARY:Ampumasuunnistus- mestaruuskilpailu 29.7.2023 Kotka
DESCRIPTION:KILPAILUKUTSU\nKymin Suunnistajat ja Kymin Koskenpojat järjestävät yhdessä Kymenlaakson Reserviupseeripiirin kanssa Reserviläisurheiluliiton \nParisprintti- ja henkilökohtaisen ampumasuunnistuskilpailun \nlauantaina\, 29.7.2023 Honkalan Hiihtostadionilla Kotkassa. Kilpailukeskuksen osoite on Honkalantie 12\, Laajakoski. \nSarjat:\nParisprintti: H\, D\, H80\, H100\, H120\, H/D 16\, H/D18\nHenkilökohtainen: H\, D\, H/D35-80\, H/D 16-18-20\, Harrastaja \nHenkilökohtaisia sarjoja voidaan yhdistää\, ellei sarjaan tule vähintään kolmea ilmoittautunutta. \nParisprintin ensimmäinen lähtö on kello 10.00 ja henkilökohtaisen kilpailun kello 14.00. \nIlmoittautuminen:\nIlmoittautuminen tehdään tiistaihin 25.7. klo 23.59 mennessä\, sähköpostilla\nosoitteeseen mikko.kiiski@iki.fi. Ilmoittautumisessa on oltava kilpailijan sotilasarvo\,\nnimi\, sarja\, Emit-numero (jos on) ja piiri. \nParisprintin osallistumismaksu on 40€ (per joukkue) ja henkilökohtaisen kilpailun 30€ (per henkilö). Maksu maksetaan\nilmoittauduttaessa Kymin Suunnistajien tilille FI77 5172 0220 0249 22. \nLähtöluettelot julkaistaan Kymin Suunnistajien sivuilla osoitteessa\nhttps://www.kyminsuunnistajat.fi/ keskiviikkona\, 26.7.. \nKilpailijoilla on oltava voimassa oleva ampumaturvavakuutus. Vakuutus tarkistetaan\nilmoittauduttaessa. \nTiedustelut:\nKilpailua koskeviin kysymyksiin vastaa Mikko Kiiski mikko.kiiski@iki.fi tai puhelimella\n0500 655 071. \nKilpailusta löytyy lisätietoja Kymin Suunnistajien kotisivuilta\nhttps://www.kyminsuunnistajat.fi/. \nKilpailukeskuksen palvelut kuvataan tarkemmin kilpailuohjeessa.
URL:https://www.vihma.fi/tapahtuma/ampumasuunnistusmestaruuskilpailu-29-7-2023-kotka/
END:VEVENT
END:VCALENDAR