BEGIN:VCALENDAR
VERSION:2.0
PRODID:-//Vihma.fi - ECPv6.15.20//NONSGML v1.0//EN
CALSCALE:GREGORIAN
METHOD:PUBLISH
X-WR-CALNAME:Vihma.fi
X-ORIGINAL-URL:https://www.vihma.fi
X-WR-CALDESC:Tapahtumat Vihma.fi
REFRESH-INTERVAL;VALUE=DURATION:PT1H
X-Robots-Tag:noindex
X-PUBLISHED-TTL:PT1H
BEGIN:VTIMEZONE
TZID:Europe/Helsinki
BEGIN:DAYLIGHT
TZOFFSETFROM:+0200
TZOFFSETTO:+0300
TZNAME:EEST
DTSTART:20220327T010000
END:DAYLIGHT
BEGIN:STANDARD
TZOFFSETFROM:+0300
TZOFFSETTO:+0200
TZNAME:EET
DTSTART:20221030T010000
END:STANDARD
BEGIN:DAYLIGHT
TZOFFSETFROM:+0200
TZOFFSETTO:+0300
TZNAME:EEST
DTSTART:20230326T010000
END:DAYLIGHT
BEGIN:STANDARD
TZOFFSETFROM:+0300
TZOFFSETTO:+0200
TZNAME:EET
DTSTART:20231029T010000
END:STANDARD
BEGIN:DAYLIGHT
TZOFFSETFROM:+0200
TZOFFSETTO:+0300
TZNAME:EEST
DTSTART:20240331T010000
END:DAYLIGHT
BEGIN:STANDARD
TZOFFSETFROM:+0300
TZOFFSETTO:+0200
TZNAME:EET
DTSTART:20241027T010000
END:STANDARD
END:VTIMEZONE
BEGIN:VEVENT
DTSTART;TZID=Europe/Helsinki:20230707T160000
DTEND;TZID=Europe/Helsinki:20230708T170000
DTSTAMP:20260422T022609
CREATED:20230630T152236Z
LAST-MODIFIED:20230630T152236Z
UID:10001344-1688745600-1688835600@www.vihma.fi
SUMMARY:RESERVILÄISGOLFkilpailu 7.-8.7.2023
DESCRIPTION:Reserviläisurheiluliiton (RESUL) Golfin SM-kilpailu järjestetään Holiday Club Golf Saimaan -kentällä Lappeenrannan Rauhassa. \nLisätietoja Resulin sivuilla
URL:https://www.vihma.fi/tapahtuma/reservilaisgolfkilpailu-7-8-7-2023/
CATEGORIES:Liikunta
END:VEVENT
BEGIN:VEVENT
DTSTART;TZID=Europe/Helsinki:20230708T100000
DTEND;TZID=Europe/Helsinki:20230708T170000
DTSTAMP:20260422T022609
CREATED:20230615T025637Z
LAST-MODIFIED:20230704T172115Z
UID:10001312-1688810400-1688835600@www.vihma.fi
SUMMARY:Kenttämmunnan PM-kilpailut
DESCRIPTION:KILPAILUKUTSU \nKenttämmunnan PM-kilpailut la 8.7.2023 Iisalmen Hanhilammen ampumakeskuksessa alkaen kello 10.00. \nLajeina itselataava ja pulttilukko\, kolmiasento kisa. \nSarjat D\, H\, H50\, H60\, H70 \nIlmoittautumiset 3.7.2023 mennessä: \nSeppo Karvonen 0400-681885 \nkarvosen.seppo@gmail.com \nHinta: 10€/laji. Maksu paikan päällä\, maksutapa kortti tai käteinen. \n  \nILMOITTAUTUA VOI MYÖS PAIKAN PÄÄLLÄ. \n 
URL:https://www.vihma.fi/tapahtuma/kenttammunnan-pm-kilpailut-2/
CATEGORIES:Ammunta
END:VEVENT
END:VCALENDAR