BEGIN:VCALENDAR
VERSION:2.0
PRODID:-//Vihma.fi - ECPv6.15.20//NONSGML v1.0//EN
CALSCALE:GREGORIAN
METHOD:PUBLISH
X-ORIGINAL-URL:https://www.vihma.fi
X-WR-CALDESC:Tapahtumat Vihma.fi
REFRESH-INTERVAL;VALUE=DURATION:PT1H
X-Robots-Tag:noindex
X-PUBLISHED-TTL:PT1H
BEGIN:VTIMEZONE
TZID:Europe/Helsinki
BEGIN:DAYLIGHT
TZOFFSETFROM:+0200
TZOFFSETTO:+0300
TZNAME:EEST
DTSTART:20220327T010000
END:DAYLIGHT
BEGIN:STANDARD
TZOFFSETFROM:+0300
TZOFFSETTO:+0200
TZNAME:EET
DTSTART:20221030T010000
END:STANDARD
BEGIN:DAYLIGHT
TZOFFSETFROM:+0200
TZOFFSETTO:+0300
TZNAME:EEST
DTSTART:20230326T010000
END:DAYLIGHT
BEGIN:STANDARD
TZOFFSETFROM:+0300
TZOFFSETTO:+0200
TZNAME:EET
DTSTART:20231029T010000
END:STANDARD
BEGIN:DAYLIGHT
TZOFFSETFROM:+0200
TZOFFSETTO:+0300
TZNAME:EEST
DTSTART:20240331T010000
END:DAYLIGHT
BEGIN:STANDARD
TZOFFSETFROM:+0300
TZOFFSETTO:+0200
TZNAME:EET
DTSTART:20241027T010000
END:STANDARD
END:VTIMEZONE
BEGIN:VEVENT
DTSTART;TZID=Europe/Helsinki:20230701T060000
DTEND;TZID=Europe/Helsinki:20230701T170000
DTSTAMP:20260422T034735
CREATED:20230510T041218Z
LAST-MODIFIED:20230510T041451Z
UID:10000850-1688191200-1688230800@www.vihma.fi
SUMMARY:RESERVILÄISAMMUNNAN SM-KILPAILUT
DESCRIPTION:RESUL:n Reserviläisammunnan SM-kilpailut ammutaan Hollolassa Hälvälän ampumakeskuksessa 01.07.2023 klo. 09.00 alkaen. \nKILPAILUKUTSU \nIlmoittautuminen 30.5 mennessä tero.tapio.turpeinen@outlook.com tai 0440138076
URL:https://www.vihma.fi/tapahtuma/reservilaisammunnan-sm-kilpailut/
CATEGORIES:Ammunta
END:VEVENT
END:VCALENDAR