BEGIN:VCALENDAR
VERSION:2.0
PRODID:-//Vihma.fi - ECPv6.15.20//NONSGML v1.0//EN
CALSCALE:GREGORIAN
METHOD:PUBLISH
X-WR-CALNAME:Vihma.fi
X-ORIGINAL-URL:https://www.vihma.fi
X-WR-CALDESC:Tapahtumat Vihma.fi
REFRESH-INTERVAL;VALUE=DURATION:PT1H
X-Robots-Tag:noindex
X-PUBLISHED-TTL:PT1H
BEGIN:VTIMEZONE
TZID:Europe/Helsinki
BEGIN:DAYLIGHT
TZOFFSETFROM:+0200
TZOFFSETTO:+0300
TZNAME:EEST
DTSTART:20220327T010000
END:DAYLIGHT
BEGIN:STANDARD
TZOFFSETFROM:+0300
TZOFFSETTO:+0200
TZNAME:EET
DTSTART:20221030T010000
END:STANDARD
BEGIN:DAYLIGHT
TZOFFSETFROM:+0200
TZOFFSETTO:+0300
TZNAME:EEST
DTSTART:20230326T010000
END:DAYLIGHT
BEGIN:STANDARD
TZOFFSETFROM:+0300
TZOFFSETTO:+0200
TZNAME:EET
DTSTART:20231029T010000
END:STANDARD
BEGIN:DAYLIGHT
TZOFFSETFROM:+0200
TZOFFSETTO:+0300
TZNAME:EEST
DTSTART:20240331T010000
END:DAYLIGHT
BEGIN:STANDARD
TZOFFSETFROM:+0300
TZOFFSETTO:+0200
TZNAME:EET
DTSTART:20241027T010000
END:STANDARD
END:VTIMEZONE
BEGIN:VEVENT
DTSTART;VALUE=DATE:20230617
DTEND;VALUE=DATE:20230618
DTSTAMP:20260422T075429
CREATED:20230525T162921Z
LAST-MODIFIED:20230525T163325Z
UID:10000888-1686960000-1687046399@www.vihma.fi
SUMMARY:ResUL Falling Plates 2023
DESCRIPTION:Falling Platesin ResUL-mestaruuskisat järjestetään Mikkelissä lauantaina 17.6.2023. Pohjois-Savon osallistujat ilmoittautuvat 31.5.2023 klo 12 mennessä osoitteeseen:\njannejames (at) gmail.com \nIlmoitettavat tiedot\n\n- nimi\n- syntymäaika\n- yhdistys\n- lajit (joukkue kivääri\, yksilö kivääri\, yksilö pistooli)\n- luokka (vakio / avo)\n- mahdollinen joukkuenimi ja -kokoonpano
URL:https://www.vihma.fi/tapahtuma/resul-falling-plates-2023/
LOCATION:Kyrönpellon ampumarata\, Mikkeli\, Kyrönpellontie\, Mikkeli\, 50100\, Suomi
CATEGORIES:Ammunta
GEO:61.7209361;27.1948011
X-APPLE-STRUCTURED-LOCATION;VALUE=URI;X-ADDRESS=Kyrönpellon ampumarata Mikkeli Kyrönpellontie Mikkeli 50100 Suomi;X-APPLE-RADIUS=500;X-TITLE=Kyrönpellontie:geo:27.1948011,61.7209361
END:VEVENT
BEGIN:VEVENT
DTSTART;TZID=Europe/Helsinki:20230617T140000
DTEND;TZID=Europe/Helsinki:20230618T150000
DTSTAMP:20260422T075429
CREATED:20230405T075459Z
LAST-MODIFIED:20230405T113749Z
UID:10000726-1687010400-1687100400@www.vihma.fi
SUMMARY:Jukolan viesti. Porvoo 17.-18.6.2023
DESCRIPTION:Koe Jukola Porvoon mitalla pohjois-Savon reserviläispiirien joukkueissa Vihman veljesten ja siskosten mukana 17-18.6.2023 (https://jukola.com/2023/)\nVuoden 2023 Jukolan viestiin olemme kasaamassa jälleen joukkueita.\nJukolan viestissä veljesten osalta tarve on seitsemälle henkilölle ja tavoitteena on joukkueena saada hyväksytty suoritus aikaiseksi.\nJa Venloissa tarve olisi neljälle naiselle. Mukaan voi lähteä ilman aiempaa suunnistuskokemusta – tarvittavat perusopit saat helposti kokoon vaikka kevään suunnistuskoulusta! Pyritään löytämään kaikki rastit ja käydään kokemassa ikimuistoinen suunnistustapahtuma.\nJos Jukolan viesti kiinnostaa niin ota yhteyttä:\n\n\nTavoite 1.\nVeljeksissä Mika Lustig: mika.lustig@gmail.com / p. 044 552 5249\nVenloissa Satu Linnaranta: satulinnaranta@hotmail.com / 050 374 2850\nOsuuksia löytyy jokaiselle jotakin.\nAlustavat osuuspituudet / Jukola Aika-arvio Noususumma\n1. 12\,8 km pimeä 73 min 270 m\n2. 12\,8 km pimeä 76 min 285 m\n3. 14\,4 km pimeä/hämärä 84 min 365 m\n4. 8\,2 km hämärä/valoisa 48 min 215 m\n5. 9\,5 km valoisa 55 min 270 m\n6. 9\,3 km valoisa 54 min 275 m\n7. 15\,2 km valoisa 88 min 405 m\nYhteensä 82\,2 km 7h 58 min 2085 m\nAlustavat osuuspituudet / Venlat Aika-arvio Noususumma\n1. 6\,7 km 45 min 160 m\n2. 5\,5 km 36 min 130 m\n3. 6\,6 km 44 min 160 m\n4. 7\,7 km 51 min 210 m\nYhteensä 26\,5 km 2h 56min 660 m
URL:https://www.vihma.fi/tapahtuma/jukolan-viesti-porvoo-17-18-6-2023/
CATEGORIES:Liikunta
END:VEVENT
END:VCALENDAR