BEGIN:VCALENDAR
VERSION:2.0
PRODID:-//Vihma.fi - ECPv6.15.20//NONSGML v1.0//EN
CALSCALE:GREGORIAN
METHOD:PUBLISH
X-WR-CALNAME:Vihma.fi
X-ORIGINAL-URL:https://www.vihma.fi
X-WR-CALDESC:Tapahtumat Vihma.fi
REFRESH-INTERVAL;VALUE=DURATION:PT1H
X-Robots-Tag:noindex
X-PUBLISHED-TTL:PT1H
BEGIN:VTIMEZONE
TZID:Europe/Helsinki
BEGIN:DAYLIGHT
TZOFFSETFROM:+0200
TZOFFSETTO:+0300
TZNAME:EEST
DTSTART:20220327T010000
END:DAYLIGHT
BEGIN:STANDARD
TZOFFSETFROM:+0300
TZOFFSETTO:+0200
TZNAME:EET
DTSTART:20221030T010000
END:STANDARD
BEGIN:DAYLIGHT
TZOFFSETFROM:+0200
TZOFFSETTO:+0300
TZNAME:EEST
DTSTART:20230326T010000
END:DAYLIGHT
BEGIN:STANDARD
TZOFFSETFROM:+0300
TZOFFSETTO:+0200
TZNAME:EET
DTSTART:20231029T010000
END:STANDARD
BEGIN:DAYLIGHT
TZOFFSETFROM:+0200
TZOFFSETTO:+0300
TZNAME:EEST
DTSTART:20240331T010000
END:DAYLIGHT
BEGIN:STANDARD
TZOFFSETFROM:+0300
TZOFFSETTO:+0200
TZNAME:EET
DTSTART:20241027T010000
END:STANDARD
END:VTIMEZONE
BEGIN:VEVENT
DTSTART;TZID=Europe/Helsinki:20230607T170000
DTEND;TZID=Europe/Helsinki:20230607T200000
DTSTAMP:20260422T075433
CREATED:20230512T075200Z
LAST-MODIFIED:20230512T075200Z
UID:10000885-1686157200-1686168000@www.vihma.fi
SUMMARY:Vihman suunnistusviikko: Siilinjärvi
DESCRIPTION:Vihman suunnistusviikko härmistyy keskiviikkona 7.6.2023 Siilinjärvelle paikallisen suunnistusseuran Siilin Rasti kuntorasteille. \n\nPohjois-Savon reserviläispiirit kustantavat osallistumismaksun sekä mahdollisen Emit-vuokran.\nSaapuessasi paikalle ja ilmoittautuessa kerro osallistuvasi Vihman suunnistusviikolle ja kertomaan nimesi sekä mihin yhdistykseen kuulut\, niin homma on suoritusta vaille valmis.\nVaraudu mahdollisesti esittämään jäsenkorttisi.\n\n\nKuntorastit kyseisenä päivänä järestetään Kasurilan rinteitten ympäristössä.  Linkin mukaan ilmottautumispaikka on rinteitten alapuolella\, joten nousumetrejä on jonkin verran tiedossa.\nSiilin Rastin kuntorastin linkki \nPaikalla on myös toimintatapoihin perehtynyt Vihman edustaja\, jolta voi tarvittaessa kysellä vinkkejä kuntorasteilla toimimiseen. \nLisätietoja: \nmika.lustig@gmail.com
URL:https://www.vihma.fi/tapahtuma/vihman-suunnistusviikko-siilinjarvi-2/
CATEGORIES:Liikunta
END:VEVENT
END:VCALENDAR