BEGIN:VCALENDAR
VERSION:2.0
PRODID:-//Vihma.fi - ECPv6.15.20//NONSGML v1.0//EN
CALSCALE:GREGORIAN
METHOD:PUBLISH
X-WR-CALNAME:Vihma.fi
X-ORIGINAL-URL:https://www.vihma.fi
X-WR-CALDESC:Tapahtumat Vihma.fi
REFRESH-INTERVAL;VALUE=DURATION:PT1H
X-Robots-Tag:noindex
X-PUBLISHED-TTL:PT1H
BEGIN:VTIMEZONE
TZID:Europe/Helsinki
BEGIN:DAYLIGHT
TZOFFSETFROM:+0200
TZOFFSETTO:+0300
TZNAME:EEST
DTSTART:20220327T010000
END:DAYLIGHT
BEGIN:STANDARD
TZOFFSETFROM:+0300
TZOFFSETTO:+0200
TZNAME:EET
DTSTART:20221030T010000
END:STANDARD
BEGIN:DAYLIGHT
TZOFFSETFROM:+0200
TZOFFSETTO:+0300
TZNAME:EEST
DTSTART:20230326T010000
END:DAYLIGHT
BEGIN:STANDARD
TZOFFSETFROM:+0300
TZOFFSETTO:+0200
TZNAME:EET
DTSTART:20231029T010000
END:STANDARD
BEGIN:DAYLIGHT
TZOFFSETFROM:+0200
TZOFFSETTO:+0300
TZNAME:EEST
DTSTART:20240331T010000
END:DAYLIGHT
BEGIN:STANDARD
TZOFFSETFROM:+0300
TZOFFSETTO:+0200
TZNAME:EET
DTSTART:20241027T010000
END:STANDARD
END:VTIMEZONE
BEGIN:VEVENT
DTSTART;VALUE=DATE:20230531
DTEND;VALUE=DATE:20230601
DTSTAMP:20260422T075530
CREATED:20230525T163624Z
LAST-MODIFIED:20230525T163824Z
UID:10000889-1685491200-1685577599@www.vihma.fi
SUMMARY:ResUL Falling Plates ilmoittautuminen
DESCRIPTION:Falling Platesin ResUL-mestaruuskisat järjestetään Mikkelissä lauantaina 17.6.2023. Pohjois-Savon osallistujat ilmoittautuvat 31.5.2023 klo 12 mennessä.\nhttps://www.vihma.fi/tapahtuma/resul-falling-plates-2023/
URL:https://www.vihma.fi/tapahtuma/resul-falling-plates-ilmoittautuminen/
LOCATION:Kyrönpellon ampumarata\, Mikkeli\, Kyrönpellontie\, Mikkeli\, 50100\, Suomi
CATEGORIES:Ammunta
GEO:61.7209361;27.1948011
X-APPLE-STRUCTURED-LOCATION;VALUE=URI;X-ADDRESS=Kyrönpellon ampumarata Mikkeli Kyrönpellontie Mikkeli 50100 Suomi;X-APPLE-RADIUS=500;X-TITLE=Kyrönpellontie:geo:27.1948011,61.7209361
END:VEVENT
END:VCALENDAR