BEGIN:VCALENDAR
VERSION:2.0
PRODID:-//Vihma.fi - ECPv6.15.20//NONSGML v1.0//EN
CALSCALE:GREGORIAN
METHOD:PUBLISH
X-ORIGINAL-URL:https://www.vihma.fi
X-WR-CALDESC:Tapahtumat Vihma.fi
REFRESH-INTERVAL;VALUE=DURATION:PT1H
X-Robots-Tag:noindex
X-PUBLISHED-TTL:PT1H
BEGIN:VTIMEZONE
TZID:Europe/Helsinki
BEGIN:DAYLIGHT
TZOFFSETFROM:+0200
TZOFFSETTO:+0300
TZNAME:EEST
DTSTART:20220327T010000
END:DAYLIGHT
BEGIN:STANDARD
TZOFFSETFROM:+0300
TZOFFSETTO:+0200
TZNAME:EET
DTSTART:20221030T010000
END:STANDARD
BEGIN:DAYLIGHT
TZOFFSETFROM:+0200
TZOFFSETTO:+0300
TZNAME:EEST
DTSTART:20230326T010000
END:DAYLIGHT
BEGIN:STANDARD
TZOFFSETFROM:+0300
TZOFFSETTO:+0200
TZNAME:EET
DTSTART:20231029T010000
END:STANDARD
BEGIN:DAYLIGHT
TZOFFSETFROM:+0200
TZOFFSETTO:+0300
TZNAME:EEST
DTSTART:20240331T010000
END:DAYLIGHT
BEGIN:STANDARD
TZOFFSETFROM:+0300
TZOFFSETTO:+0200
TZNAME:EET
DTSTART:20241027T010000
END:STANDARD
END:VTIMEZONE
BEGIN:VEVENT
DTSTART;VALUE=DATE:20230505
DTEND;VALUE=DATE:20230508
DTSTAMP:20260422T124036
CREATED:20230216T125841Z
LAST-MODIFIED:20230216T130112Z
UID:10000687-1683244800-1683503999@www.vihma.fi
SUMMARY:Sotilasmoniottelu
DESCRIPTION:Sotilasmoniottelu järjestetään 5.-7.5. Santahaminassa. Kilpailun perusteella valikoidaan myös liiton joukkueiden jäsenet NATO:n reserviupseerien järjestön CIOR:n 2023 sotilasmoniottelukilpailuun 24.-30.6. Tämäkin kilpailu järjestetään Santahaminassa. Tänä vuonna yritetään saada kasaan neljä kolmihenkistä joukkuetta eli kolme miesten joukkuetta ja yksi naisten joukkue sekä näille varajäsenet. \nKarsintakilpailu suoriteaan yksilösuorituksina ja lajeina on pistooli- ja kivääriammunta\, esterata 500m\, esteuinti 50m\, kranaatinheitto\, suunnistus \nKilpailuun voivat osallistua kaikki RUL ja RES jäsenet\, kilpailuun osallistuminen on maksutonta ja sen tarjoaa RUL. \nMukaan tarvitset omat urheiluvälineet ja reipasta mieltä. Aseet ja patruunat tulevat järjestäjän toimesta. \n  \nReserviläisurheiluliiton infosivu \n  \n  \nLisäksi Kuopion reserviupseerikerholla on \nTreeni- & sparrausryhmä  \nTalven ja kevään 2023 aikana kootaan Kuopiossa treeni- ja sparrausryhmä\, jonka tavoitteena on tutustuttaa osallistujat sotilasmoniotteluun ja valmentaa halukkaita osallistumaan Santahaminassa 5. – 7.5.2023 järjestettävään sotilasmoniottelukilpailuun. Järjestäjänä toimii Kuopion Reserviupseerikerho\, mutta mukaan kutsutaan myös Pohjois-Savon alueen muiden kerhojen ja yhdistyksen aiheesta kiinnostuneet jäsenet. Lisätietoja ”Treeni- & sparrauryhmä” linkistä \nYhteydenotot ja lisätiedot: \nSatu Linnaranta / satulinnaranta(at)hotmail.com / p. 050 374 2850 \nTreeniryhmällä on myös Watsapp ryhmä johon pääset mukaan ilmottautumalla Sadulle.
URL:https://www.vihma.fi/tapahtuma/sotilasmoniottelu/
CATEGORIES:Ammunta,Liikunta
END:VEVENT
BEGIN:VEVENT
DTSTART;TZID=Europe/Helsinki:20230505T170000
DTEND;TZID=Europe/Helsinki:20230505T190000
DTSTAMP:20260422T124036
CREATED:20230120T111639Z
LAST-MODIFIED:20230120T112013Z
UID:10000457-1683306000-1683313200@www.vihma.fi
SUMMARY:Kiväärivuoro Heinjoki
DESCRIPTION:Pohjois-Savon reservipiirien ja Kuopion ampuma- ja metsästysseuran (KAMS) yhteinen kiväärivuoro Heinjoen luodikkoradalla klo 17-19. \nYhdistysten lainakalustoa ei ole toistaiseksi saatavilla näille vuoroille.
URL:https://www.vihma.fi/tapahtuma/ulkoratavuoro-heinjoki-3/2023-05-05/
LOCATION:Heinjoen ampumaurheilukeskus\, Savitie 118\, Hiltulanlahti\, 70870\, Suomi
CATEGORIES:Ammunta
GEO:62.7948279;27.5626754
X-APPLE-STRUCTURED-LOCATION;VALUE=URI;X-ADDRESS=Heinjoen ampumaurheilukeskus Savitie 118 Hiltulanlahti 70870 Suomi;X-APPLE-RADIUS=500;X-TITLE=Savitie 118:geo:27.5626754,62.7948279
END:VEVENT
END:VCALENDAR