BEGIN:VCALENDAR
VERSION:2.0
PRODID:-//Vihma.fi - ECPv6.15.20//NONSGML v1.0//EN
CALSCALE:GREGORIAN
METHOD:PUBLISH
X-WR-CALNAME:Vihma.fi
X-ORIGINAL-URL:https://www.vihma.fi
X-WR-CALDESC:Tapahtumat Vihma.fi
REFRESH-INTERVAL;VALUE=DURATION:PT1H
X-Robots-Tag:noindex
X-PUBLISHED-TTL:PT1H
BEGIN:VTIMEZONE
TZID:Europe/Helsinki
BEGIN:DAYLIGHT
TZOFFSETFROM:+0200
TZOFFSETTO:+0300
TZNAME:EEST
DTSTART:20220327T010000
END:DAYLIGHT
BEGIN:STANDARD
TZOFFSETFROM:+0300
TZOFFSETTO:+0200
TZNAME:EET
DTSTART:20221030T010000
END:STANDARD
BEGIN:DAYLIGHT
TZOFFSETFROM:+0200
TZOFFSETTO:+0300
TZNAME:EEST
DTSTART:20230326T010000
END:DAYLIGHT
BEGIN:STANDARD
TZOFFSETFROM:+0300
TZOFFSETTO:+0200
TZNAME:EET
DTSTART:20231029T010000
END:STANDARD
BEGIN:DAYLIGHT
TZOFFSETFROM:+0200
TZOFFSETTO:+0300
TZNAME:EEST
DTSTART:20240331T010000
END:DAYLIGHT
BEGIN:STANDARD
TZOFFSETFROM:+0300
TZOFFSETTO:+0200
TZNAME:EET
DTSTART:20241027T010000
END:STANDARD
END:VTIMEZONE
BEGIN:VEVENT
DTSTART;TZID=Europe/Helsinki:20230416T100000
DTEND;TZID=Europe/Helsinki:20230416T170000
DTSTAMP:20260422T125506
CREATED:20230215T125027Z
LAST-MODIFIED:20230409T061752Z
UID:10000686-1681639200-1681664400@www.vihma.fi
SUMMARY:Isopistooli ja pistoolipika-ammunta PM-kilpailut
DESCRIPTION:Kilpailukutsu \nReserviläisten piirinmestaruuskilpailut pistoolilajeissa Maaningan sisäampumaradalla:\nSunnuntaina 26.3.2023 Vakiopistooli ja pienois / 25m pistooli\nSunnuntaina 16.4.2023 Isopistooli ja pistooli pika \nPaikka: Sisäampumarata\, Maaningantie 49\, Maaninka \nKilpailut alkaa molempina päivinä klo 10.00. Kahvit ja pientä purtavaa tarjotaan lajien väliajalla. \n16 ensiksi ilmoittautunutta mahtuu mukaan. \nMaksut: Osallistumismaksu 10€/hlö/laji \nIlmoittatumiset 12.3.2023 mennessä: matti.fohr@gmail.com \nERÄLUETTELOT: \nEräluettelo Isopistooli \nEräluettelo Pistoolipika
URL:https://www.vihma.fi/tapahtuma/isopistooli-ja-pistoolipika-ammunta-pm-kilpailut/
CATEGORIES:Ammunta
END:VEVENT
END:VCALENDAR