BEGIN:VCALENDAR
VERSION:2.0
PRODID:-//Vihma.fi - ECPv6.15.20//NONSGML v1.0//EN
CALSCALE:GREGORIAN
METHOD:PUBLISH
X-WR-CALNAME:Vihma.fi
X-ORIGINAL-URL:https://www.vihma.fi
X-WR-CALDESC:Tapahtumat Vihma.fi
REFRESH-INTERVAL;VALUE=DURATION:PT1H
X-Robots-Tag:noindex
X-PUBLISHED-TTL:PT1H
BEGIN:VTIMEZONE
TZID:Europe/Helsinki
BEGIN:DAYLIGHT
TZOFFSETFROM:+0200
TZOFFSETTO:+0300
TZNAME:EEST
DTSTART:20220327T010000
END:DAYLIGHT
BEGIN:STANDARD
TZOFFSETFROM:+0300
TZOFFSETTO:+0200
TZNAME:EET
DTSTART:20221030T010000
END:STANDARD
BEGIN:DAYLIGHT
TZOFFSETFROM:+0200
TZOFFSETTO:+0300
TZNAME:EEST
DTSTART:20230326T010000
END:DAYLIGHT
BEGIN:STANDARD
TZOFFSETFROM:+0300
TZOFFSETTO:+0200
TZNAME:EET
DTSTART:20231029T010000
END:STANDARD
BEGIN:DAYLIGHT
TZOFFSETFROM:+0200
TZOFFSETTO:+0300
TZNAME:EEST
DTSTART:20240331T010000
END:DAYLIGHT
BEGIN:STANDARD
TZOFFSETFROM:+0300
TZOFFSETTO:+0200
TZNAME:EET
DTSTART:20241027T010000
END:STANDARD
END:VTIMEZONE
BEGIN:VEVENT
DTSTART;TZID=Europe/Helsinki:20230411T180000
DTEND;TZID=Europe/Helsinki:20230411T200000
DTSTAMP:20260422T125550
CREATED:20230403T170440Z
LAST-MODIFIED:20230403T170440Z
UID:10000722-1681236000-1681243200@www.vihma.fi
SUMMARY:14 divisioonan perinneyhdistyksen kokous
DESCRIPTION:14 divisioonan perinneyhdistyksen Ylä-Savon paikallisosaston kokous tiistaina 11.4.2023 klo 18.00 Iisalmen reserviupseerien kerholla.\n\n\nOsoite Päiviönkatu 9.\n\nKahvitarjoilu.\n\nVoit tutustua yhdistykseen osoitteessa http://14dperinneyhdistys.fi/?cat=1\n\n\n\nTervetuloa!
URL:https://www.vihma.fi/tapahtuma/14-divisioonan-perinneyhdistyksen-kokous/
LOCATION:Iisalmi
CATEGORIES:Kokoukset
END:VEVENT
END:VCALENDAR