BEGIN:VCALENDAR
VERSION:2.0
PRODID:-//Vihma.fi - ECPv6.15.20//NONSGML v1.0//EN
CALSCALE:GREGORIAN
METHOD:PUBLISH
X-WR-CALNAME:Vihma.fi
X-ORIGINAL-URL:https://www.vihma.fi
X-WR-CALDESC:Tapahtumat Vihma.fi
REFRESH-INTERVAL;VALUE=DURATION:PT1H
X-Robots-Tag:noindex
X-PUBLISHED-TTL:PT1H
BEGIN:VTIMEZONE
TZID:Europe/Helsinki
BEGIN:DAYLIGHT
TZOFFSETFROM:+0200
TZOFFSETTO:+0300
TZNAME:EEST
DTSTART:20220327T010000
END:DAYLIGHT
BEGIN:STANDARD
TZOFFSETFROM:+0300
TZOFFSETTO:+0200
TZNAME:EET
DTSTART:20221030T010000
END:STANDARD
BEGIN:DAYLIGHT
TZOFFSETFROM:+0200
TZOFFSETTO:+0300
TZNAME:EEST
DTSTART:20230326T010000
END:DAYLIGHT
BEGIN:STANDARD
TZOFFSETFROM:+0300
TZOFFSETTO:+0200
TZNAME:EET
DTSTART:20231029T010000
END:STANDARD
BEGIN:DAYLIGHT
TZOFFSETFROM:+0200
TZOFFSETTO:+0300
TZNAME:EEST
DTSTART:20240331T010000
END:DAYLIGHT
BEGIN:STANDARD
TZOFFSETFROM:+0300
TZOFFSETTO:+0200
TZNAME:EET
DTSTART:20241027T010000
END:STANDARD
END:VTIMEZONE
BEGIN:VEVENT
DTSTART;TZID=Europe/Helsinki:20230329T180000
DTEND;TZID=Europe/Helsinki:20230329T193000
DTSTAMP:20260422T125431
CREATED:20230123T183106Z
LAST-MODIFIED:20230126T163403Z
UID:10000553-1680112800-1680118200@www.vihma.fi
SUMMARY:Ilmapistoolivuoro Iisalmessa
DESCRIPTION:Ilmapistoolivuoro Iisalmen kaupungin väestönsuojassa. \nVuoro alkaa klo 18:00 keskiviikkoisin. Yhdistyksen välineet käytössä (aseet\, panokset\, taulut) eli et tarvitse omaa asetta. Omilla pistooleilla voi myös ampua. \nOsallistujille suositellaan kuulosuojainten ja suojalasien käyttöä. \nTaulumaksu 5€ käteisellä paikanpäällä.\nLisätietoja iisres58@gmail.com
URL:https://www.vihma.fi/tapahtuma/ilmapistoolivuoro-iisalmessa/2023-03-29/
LOCATION:Iisalmi\, Iisalmi
CATEGORIES:Ammunta
GEO:63.5694237;27.1826451
END:VEVENT
END:VCALENDAR