BEGIN:VCALENDAR
VERSION:2.0
PRODID:-//Vihma.fi - ECPv6.15.20//NONSGML v1.0//EN
CALSCALE:GREGORIAN
METHOD:PUBLISH
X-WR-CALNAME:Vihma.fi
X-ORIGINAL-URL:https://www.vihma.fi
X-WR-CALDESC:Tapahtumat Vihma.fi
REFRESH-INTERVAL;VALUE=DURATION:PT1H
X-Robots-Tag:noindex
X-PUBLISHED-TTL:PT1H
BEGIN:VTIMEZONE
TZID:Europe/Helsinki
BEGIN:DAYLIGHT
TZOFFSETFROM:+0200
TZOFFSETTO:+0300
TZNAME:EEST
DTSTART:20220327T010000
END:DAYLIGHT
BEGIN:STANDARD
TZOFFSETFROM:+0300
TZOFFSETTO:+0200
TZNAME:EET
DTSTART:20221030T010000
END:STANDARD
BEGIN:DAYLIGHT
TZOFFSETFROM:+0200
TZOFFSETTO:+0300
TZNAME:EEST
DTSTART:20230326T010000
END:DAYLIGHT
BEGIN:STANDARD
TZOFFSETFROM:+0300
TZOFFSETTO:+0200
TZNAME:EET
DTSTART:20231029T010000
END:STANDARD
BEGIN:DAYLIGHT
TZOFFSETFROM:+0200
TZOFFSETTO:+0300
TZNAME:EEST
DTSTART:20240331T010000
END:DAYLIGHT
BEGIN:STANDARD
TZOFFSETFROM:+0300
TZOFFSETTO:+0200
TZNAME:EET
DTSTART:20241027T010000
END:STANDARD
END:VTIMEZONE
BEGIN:VEVENT
DTSTART;TZID=Europe/Helsinki:20230325T080000
DTEND;TZID=Europe/Helsinki:20230326T170000
DTSTAMP:20260422T160817
CREATED:20230318T170654Z
LAST-MODIFIED:20230318T170654Z
UID:10000720-1679731200-1679850000@www.vihma.fi
SUMMARY:KKC 1/2023 Nilsiä
DESCRIPTION:Kilpailu toimii osakilpailuna Pohjois-Savon reserviupseeri- ja reserviläispiirien SM 2024 -edustajien valinnassa. \nKilpailuun hyväksytään ensimmäisen 7 vuorokauden ajan vain vain Pohjois-Savon reserviläispiirien jäseniä. Varmista\, että jäsenyhdistyksesi on ilmoittautumisen tiedoissa oikein ja virallisen kirjoitusasun mukainen. \nhttps://shootnscoreit.com/event/22/16739/ \n  \n  \n 
URL:https://www.vihma.fi/tapahtuma/kkc-1-2023-nilsia/
LOCATION:Nilsiä\, Tarpisen ampumarata
CATEGORIES:SRA
ORGANIZER;CN="Pohjois-Savon reservipiirit":MAILTO:toiminnanjohtaja@vihma.fi
END:VEVENT
END:VCALENDAR