BEGIN:VCALENDAR
VERSION:2.0
PRODID:-//Vihma.fi - ECPv6.15.20//NONSGML v1.0//EN
CALSCALE:GREGORIAN
METHOD:PUBLISH
X-ORIGINAL-URL:https://www.vihma.fi
X-WR-CALDESC:Tapahtumat Vihma.fi
REFRESH-INTERVAL;VALUE=DURATION:PT1H
X-Robots-Tag:noindex
X-PUBLISHED-TTL:PT1H
BEGIN:VTIMEZONE
TZID:Europe/Helsinki
BEGIN:DAYLIGHT
TZOFFSETFROM:+0200
TZOFFSETTO:+0300
TZNAME:EEST
DTSTART:20220327T010000
END:DAYLIGHT
BEGIN:STANDARD
TZOFFSETFROM:+0300
TZOFFSETTO:+0200
TZNAME:EET
DTSTART:20221030T010000
END:STANDARD
BEGIN:DAYLIGHT
TZOFFSETFROM:+0200
TZOFFSETTO:+0300
TZNAME:EEST
DTSTART:20230326T010000
END:DAYLIGHT
BEGIN:STANDARD
TZOFFSETFROM:+0300
TZOFFSETTO:+0200
TZNAME:EET
DTSTART:20231029T010000
END:STANDARD
BEGIN:DAYLIGHT
TZOFFSETFROM:+0200
TZOFFSETTO:+0300
TZNAME:EEST
DTSTART:20240331T010000
END:DAYLIGHT
BEGIN:STANDARD
TZOFFSETFROM:+0300
TZOFFSETTO:+0200
TZNAME:EET
DTSTART:20241027T010000
END:STANDARD
END:VTIMEZONE
BEGIN:VEVENT
DTSTART;TZID=Europe/Helsinki:20230320T080000
DTEND;TZID=Europe/Helsinki:20230323T140000
DTSTAMP:20260422T142549
CREATED:20230125T194850Z
LAST-MODIFIED:20230125T194850Z
UID:10000678-1679299200-1679580000@www.vihma.fi
SUMMARY:Puolustusvoimien järjestämä hiihdon sotilas-SM-kilpailu 20. -23.3.2023 Rovaniemi
DESCRIPTION:Jääkäriprikaati järjestää hiihdon sotilas -SM -kilpailut 20.– 23.3.2023 Rovaniemellä oheisen asiakirjan mukaisesti. \nReserviläiset voivat osallistua partiohiihdon C-sarjaan. Reserviläisten osallistuminen tapahtuu vapaaehtoisena harjoituksena. Reserviläispartion koko on maksimissaan viisi (5) henkilöä (4 varsinaista jäsentä + 1 varajäsen). Jääkäriprikaati varustaa reserviläisten joukkueet. \nReserviläispartiot ilmoittautuvat kilpailuihin piirinsä kautta. Jokaisesta ResUL:n piiristä voi osallistua 1 – 2 joukkuetta. Kuitenkin niin\, että reserviläispartioiden määrä ei ylitä 20 joukkuetta. Reserviläisten ilmoittautumiset tulee olla perillä Jääkäriprikaatissa sähköpostitse kilpailujen sihteerillä keskiviikkoon 15.3.2023 klo 16:00 mennessä käskyn mukana olevalla reserviläisten ilmoittautumislomakkeella. ResUL:n piirit vastaavat joukkueidensa ilmoittautumisesta. \nPohjois-Savon ilmoittautumiset: 10.3.2023 mennessä\nmyös lisätietoja voi tiedustella: Saadut liitetiedostot tapahtumasta.\nMika Lustig\nmika.lustig@gmail.com
URL:https://www.vihma.fi/tapahtuma/puolustusvoimien-jarjestama-hiihdon-sotilas-sm-kilpailu-20-23-3-2023-rovaniemi/
CATEGORIES:Ammunta,Liikunta
END:VEVENT
BEGIN:VEVENT
DTSTART;TZID=Europe/Helsinki:20230320T170000
DTEND;TZID=Europe/Helsinki:20230320T190000
DTSTAMP:20260422T142549
CREATED:20230120T111351Z
LAST-MODIFIED:20230120T111351Z
UID:10000403-1679331600-1679338800@www.vihma.fi
SUMMARY:Heinjoki pistoolivuoro
DESCRIPTION:Pohjois-Savon reservipiirien ja Kuopion ampuma- ja metsästysseuran (KAMS) yhteinen pistoolivuoro Heinjoen pistooliradalla klo 17-19. \nHuom! Radan maksimi kaliberi 9 mm ja ainoastaan vaipattomat lyijyluodit sallittuja! \nYhdistysten lainakalustoa ei ole toistaiseksi saatavilla näille vuoroille.
URL:https://www.vihma.fi/tapahtuma/heinjoki-pistoolivuoro-2/2023-03-20/
LOCATION:Heinjoen ampumaurheilukeskus\, Savitie 118\, Hiltulanlahti\, 70870\, Suomi
CATEGORIES:Ammunta
GEO:62.7948279;27.5626754
X-APPLE-STRUCTURED-LOCATION;VALUE=URI;X-ADDRESS=Heinjoen ampumaurheilukeskus Savitie 118 Hiltulanlahti 70870 Suomi;X-APPLE-RADIUS=500;X-TITLE=Savitie 118:geo:27.5626754,62.7948279
END:VEVENT
END:VCALENDAR