BEGIN:VCALENDAR
VERSION:2.0
PRODID:-//Vihma.fi - ECPv6.15.20//NONSGML v1.0//EN
CALSCALE:GREGORIAN
METHOD:PUBLISH
X-WR-CALNAME:Vihma.fi
X-ORIGINAL-URL:https://www.vihma.fi
X-WR-CALDESC:Tapahtumat Vihma.fi
REFRESH-INTERVAL;VALUE=DURATION:PT1H
X-Robots-Tag:noindex
X-PUBLISHED-TTL:PT1H
BEGIN:VTIMEZONE
TZID:Europe/Helsinki
BEGIN:DAYLIGHT
TZOFFSETFROM:+0200
TZOFFSETTO:+0300
TZNAME:EEST
DTSTART:20220327T010000
END:DAYLIGHT
BEGIN:STANDARD
TZOFFSETFROM:+0300
TZOFFSETTO:+0200
TZNAME:EET
DTSTART:20221030T010000
END:STANDARD
BEGIN:DAYLIGHT
TZOFFSETFROM:+0200
TZOFFSETTO:+0300
TZNAME:EEST
DTSTART:20230326T010000
END:DAYLIGHT
BEGIN:STANDARD
TZOFFSETFROM:+0300
TZOFFSETTO:+0200
TZNAME:EET
DTSTART:20231029T010000
END:STANDARD
BEGIN:DAYLIGHT
TZOFFSETFROM:+0200
TZOFFSETTO:+0300
TZNAME:EEST
DTSTART:20240331T010000
END:DAYLIGHT
BEGIN:STANDARD
TZOFFSETFROM:+0300
TZOFFSETTO:+0200
TZNAME:EET
DTSTART:20241027T010000
END:STANDARD
END:VTIMEZONE
BEGIN:VEVENT
DTSTART;VALUE=DATE:20230318
DTEND;VALUE=DATE:20230320
DTSTAMP:20260422T160213
CREATED:20230126T060131Z
LAST-MODIFIED:20230126T141001Z
UID:10000679-1679097600-1679270399@www.vihma.fi
SUMMARY:RESUL:n ilma-asemestaruuskilpailut Lappeenrannan Urheilutalon ilma-aseradalla 18.-19.3.2023
DESCRIPTION:Reserviläisurheiluliiton ilma-asemestaruuskilpailut järjestetään Lappeenrannassa 18.-19.3.2023 \n  \nLisätietoja Resul sivuilla \nIlmoittautuminen piireittäin. \nPohjois-Savon ilmoittautumiset 15.2.2023 mennessä. \nJanne Hyvärinen \njannejames@gmail.com \n 
URL:https://www.vihma.fi/tapahtuma/resuln-ilma-asemestaruuskilpailut-lappeenrannan-urheilutalon-ilma-aseradalla-18-19-3-2023/
CATEGORIES:Ammunta
END:VEVENT
END:VCALENDAR