BEGIN:VCALENDAR
VERSION:2.0
PRODID:-//Vihma.fi - ECPv6.15.20//NONSGML v1.0//EN
CALSCALE:GREGORIAN
METHOD:PUBLISH
X-ORIGINAL-URL:https://www.vihma.fi
X-WR-CALDESC:Tapahtumat Vihma.fi
REFRESH-INTERVAL;VALUE=DURATION:PT1H
X-Robots-Tag:noindex
X-PUBLISHED-TTL:PT1H
BEGIN:VTIMEZONE
TZID:Europe/Helsinki
BEGIN:DAYLIGHT
TZOFFSETFROM:+0200
TZOFFSETTO:+0300
TZNAME:EEST
DTSTART:20220327T010000
END:DAYLIGHT
BEGIN:STANDARD
TZOFFSETFROM:+0300
TZOFFSETTO:+0200
TZNAME:EET
DTSTART:20221030T010000
END:STANDARD
BEGIN:DAYLIGHT
TZOFFSETFROM:+0200
TZOFFSETTO:+0300
TZNAME:EEST
DTSTART:20230326T010000
END:DAYLIGHT
BEGIN:STANDARD
TZOFFSETFROM:+0300
TZOFFSETTO:+0200
TZNAME:EET
DTSTART:20231029T010000
END:STANDARD
BEGIN:DAYLIGHT
TZOFFSETFROM:+0200
TZOFFSETTO:+0300
TZNAME:EEST
DTSTART:20240331T010000
END:DAYLIGHT
BEGIN:STANDARD
TZOFFSETFROM:+0300
TZOFFSETTO:+0200
TZNAME:EET
DTSTART:20241027T010000
END:STANDARD
END:VTIMEZONE
BEGIN:VEVENT
DTSTART;TZID=Europe/Helsinki:20230310T160000
DTEND;TZID=Europe/Helsinki:20230312T160000
DTSTAMP:20260422T161244
CREATED:20230117T074841Z
LAST-MODIFIED:20230117T074841Z
UID:10000291-1678464000-1678636800@www.vihma.fi
SUMMARY:Resul talvijotos: Karhu-jotos 10-12.3.2023 Ilomantsi
DESCRIPTION:Reserviläisurheiluliiton tämän vuoden talvijotos kulkee nimellä Karhujotos. \nTalvijotoksen järjestää tänä vuonna Ilomantsin reserviläiset. \nKerää partio kasaan ja iilmoittaudu suoraan kisäjärjestäjien sivujen kautta. \nKarhujotos
URL:https://www.vihma.fi/tapahtuma/resul-talvijotos-karhu-jotos-10-12-3-2023-ilomantsi/2023-03-10/
CATEGORIES:JOTOS
END:VEVENT
END:VCALENDAR