BEGIN:VCALENDAR
VERSION:2.0
PRODID:-//Vihma.fi - ECPv6.15.20//NONSGML v1.0//EN
CALSCALE:GREGORIAN
METHOD:PUBLISH
X-ORIGINAL-URL:https://www.vihma.fi
X-WR-CALDESC:Tapahtumat Vihma.fi
REFRESH-INTERVAL;VALUE=DURATION:PT1H
X-Robots-Tag:noindex
X-PUBLISHED-TTL:PT1H
BEGIN:VTIMEZONE
TZID:Europe/Helsinki
BEGIN:DAYLIGHT
TZOFFSETFROM:+0200
TZOFFSETTO:+0300
TZNAME:EEST
DTSTART:20220327T010000
END:DAYLIGHT
BEGIN:STANDARD
TZOFFSETFROM:+0300
TZOFFSETTO:+0200
TZNAME:EET
DTSTART:20221030T010000
END:STANDARD
BEGIN:DAYLIGHT
TZOFFSETFROM:+0200
TZOFFSETTO:+0300
TZNAME:EEST
DTSTART:20230326T010000
END:DAYLIGHT
BEGIN:STANDARD
TZOFFSETFROM:+0300
TZOFFSETTO:+0200
TZNAME:EET
DTSTART:20231029T010000
END:STANDARD
BEGIN:DAYLIGHT
TZOFFSETFROM:+0200
TZOFFSETTO:+0300
TZNAME:EEST
DTSTART:20240331T010000
END:DAYLIGHT
BEGIN:STANDARD
TZOFFSETFROM:+0300
TZOFFSETTO:+0200
TZNAME:EET
DTSTART:20241027T010000
END:STANDARD
END:VTIMEZONE
BEGIN:VEVENT
DTSTART;TZID=Europe/Helsinki:20230211T100000
DTEND;TZID=Europe/Helsinki:20230211T170000
DTSTAMP:20260422T185054
CREATED:20230124T162851Z
LAST-MODIFIED:20230208T051317Z
UID:10000671-1676109600-1676134800@www.vihma.fi
SUMMARY:Pohjois-Savon reserviläispiirien ilma-aseiden PM-kisat
DESCRIPTION:Aika: 11.2.2023 klo 10.00 \nPaikka: KAMS:n ilma-aserata\, Sawohousen alakerta\, Tarhakuja 1\, Kuopio \nHuom! Ilmoittautuminen 7.2.23 mennessä sähköpostiin:\nmika.welling@gmail.com tai tekstiviestinä 040-5754149.\n(nimi\, sarja\, lajit ja yhdistys) \nMainitse ilmoittautuessasi ensisijainen yhteystietosi mahdollista lisäinfoa varten. \nEräluettelot julkaistaan Vihmassa paria päivää ennen\nkilpailua. Sarjoja voidaan yhdistää\, mikäli osanottajia ei ole tarpeeksi. \nEI JÄLKI-ILMOITTAUTUMISIA! \nMaksut: Osallistumismaksu 10€/hlö/laji käteisellä ennen kilpailua (miel. tasaraha). \nTiedustelut: Kilpailunjohtaja Mika Welling p. 040 5753 149 \nERÄLUETTELO
URL:https://www.vihma.fi/tapahtuma/pohjois-savon-reservilaispiirien-ilma-aseiden-pm-kisat/
CATEGORIES:Ammunta
END:VEVENT
END:VCALENDAR