BEGIN:VCALENDAR
VERSION:2.0
PRODID:-//Vihma.fi - ECPv6.15.20//NONSGML v1.0//EN
CALSCALE:GREGORIAN
METHOD:PUBLISH
X-ORIGINAL-URL:https://www.vihma.fi
X-WR-CALDESC:Tapahtumat Vihma.fi
REFRESH-INTERVAL;VALUE=DURATION:PT1H
X-Robots-Tag:noindex
X-PUBLISHED-TTL:PT1H
BEGIN:VTIMEZONE
TZID:Europe/Helsinki
BEGIN:DAYLIGHT
TZOFFSETFROM:+0200
TZOFFSETTO:+0300
TZNAME:EEST
DTSTART:20220327T010000
END:DAYLIGHT
BEGIN:STANDARD
TZOFFSETFROM:+0300
TZOFFSETTO:+0200
TZNAME:EET
DTSTART:20221030T010000
END:STANDARD
BEGIN:DAYLIGHT
TZOFFSETFROM:+0200
TZOFFSETTO:+0300
TZNAME:EEST
DTSTART:20230326T010000
END:DAYLIGHT
BEGIN:STANDARD
TZOFFSETFROM:+0300
TZOFFSETTO:+0200
TZNAME:EET
DTSTART:20231029T010000
END:STANDARD
BEGIN:DAYLIGHT
TZOFFSETFROM:+0200
TZOFFSETTO:+0300
TZNAME:EEST
DTSTART:20240331T010000
END:DAYLIGHT
BEGIN:STANDARD
TZOFFSETFROM:+0300
TZOFFSETTO:+0200
TZNAME:EET
DTSTART:20241027T010000
END:STANDARD
END:VTIMEZONE
BEGIN:VEVENT
DTSTART;TZID=Europe/Helsinki:20230203T080000
DTEND;TZID=Europe/Helsinki:20230203T170000
DTSTAMP:20260423T025052
CREATED:20240110T202535Z
LAST-MODIFIED:20240124T162255Z
UID:10000730-1675411200-1675443600@www.vihma.fi
SUMMARY:Ulkoratavuoro Rissala
DESCRIPTION:2024 Pohjois-Savon reservipiirien johdettu ampumaratavuoro keskiviikkoisin Karjalan lennoston radalla Rissalassa. \nVuorolle pitää olla voimassa oleva kulkulupa PV:n alueelle. \nHUOM! Kaikkien radalle saapuvien on käytävä toistaiseksi ilmoittautumassa päävartiossa! \nIlmoita päävartiossa meneväsi reserviläisten ampumavuorolle ja esitä ajo-/henkilökortti sekä yhdistyksen jäsenkortti. Kuittaat sieltä mukaasi vierailijakortin\, joka pitää palauttaa lähtiessä. \nLainakaluston varaus tästä \nOhjeet uusille ampujille \nTammikuu \nKe 31.01.2024 klo 18-20 – Pistooli \nHelmikuu \nKE 07.02.2024 klo 18-20 – Kivääri \nKE 14.02.2024 klo 18-20 – Pistooli \nKE 21.02.2024 klo 18-20 – Kivääri \nKE 28.02.2024 klo 18-20 – Pistooli \nMaaliskuu \nKE 06.03.2024 klo 18-20 – Kivääri \nKE 13.03.2024 klo 18-20 – Pistooli \nKE 20.03.2024 klo 18-20 – Kivääri \nKE 27.03.2024 klo 18-20 – Pistooli \nHuhtikuu \nKE 03.04.2024 klo 18-20 – Kivääri \nKE 10.04.2024 klo 18-20 – Pistooli \nKE 17.04.2024 klo 18-20 – Kivääri \nKE 24.04.2024 klo 18-20 – Pistooli \nToukokuu \nKE 01.05.2024 VAPPU \nKE 08.05.2024 klo 18-20 – Pistooli \nKE 15.05.2024 klo 18-20 – Kivääri \nKE 22.05.2024 klo 18-20 – Pistooli \nKE 29.05.2024 klo 18-20 – Kivääri \nKesäkuu \nKE 05.06.2024 klo 18-20 – Pistooli \nKE 12.06.2024 klo 18-20 – Kivääri \nKE 19.06.2024 klo 18-20 – Pistooli \nKE 26.06.2024 klo 18-20 – Kivääri \nHeinäkuu \nKE 03.07.2024 klo 18-20 – Pistooli \nKE 10.07.2024 klo 18-20 – Kivääri \nKE 17.07.2024 klo 18-20 – Pistooli \nKE 24.07.2024 klo 18-20 – Kivääri \nKE 31.07.2024 klo 18-20 – Pistooli \nElokuu \nKE 07.08.2024 klo 18-20 – Kivääri \nKE 14.08.2024 klo 18-20 – Pistooli \nKE 21.08.2024 klo 18-20 – Kivääri \nKE 28.08.2024 klo 18-20 – Pistooli \nSyyskuu \nKE 04.09.2024 klo 18-20 – Kivääri \nKE 11.09.2024 klo 18-20 – Pistooli \nKE 18.09.2024 klo 18-20 – Kivääri \nKE 25.09.2024 klo 18-20 – Pistooli \nLokakuu \nKE 02.10.2024 klo 18-20 – Kivääri \nKE 09.10.2024 klo 18-20 – Pistooli \nKE 16.10.2024 klo 18-20 – Kivääri \nKE 23.10.2024 klo 18-20 – Pistooli \nKE 30.10.2024 klo 18-20 – Kivääri \nMarraskuu \nKE 06.11.2024 klo 18-20 – Pistooli \nKE 13.11.2024 klo 18-20 – Kivääri \nKE 20.11.2024 klo 18-20 – Pistooli \nKE 27.11.2024 klo 18-20 – Kivääri \nJoulukuu \nKE 04.12.2024 klo 18-20 – Pistooli \nKE 11.12.2024 klo 18-20 – Kivääri \nKE 18.12.2024 klo 18-20 – Pistooli \nJOULUTAUKO
URL:https://www.vihma.fi/tapahtuma/ulkoratavuoro-rissala-4-2022-09-28/2023-02-03/
LOCATION:Rissala\, Leppälammentie\, Toivala\, 70900
CATEGORIES:Ammunta
ORGANIZER;CN="Pohjois-Savon reservipiirit":MAILTO:toiminnanjohtaja@vihma.fi
GEO:62.9927132;27.788968
X-APPLE-STRUCTURED-LOCATION;VALUE=URI;X-ADDRESS=Rissala Leppälammentie Toivala 70900;X-APPLE-RADIUS=500;X-TITLE=Leppälammentie:geo:27.788968,62.9927132
END:VEVENT
BEGIN:VEVENT
DTSTART;TZID=Europe/Helsinki:20230203T170000
DTEND;TZID=Europe/Helsinki:20230203T190000
DTSTAMP:20260423T025052
CREATED:20230120T111639Z
LAST-MODIFIED:20230120T112013Z
UID:10000444-1675443600-1675450800@www.vihma.fi
SUMMARY:Kiväärivuoro Heinjoki
DESCRIPTION:Pohjois-Savon reservipiirien ja Kuopion ampuma- ja metsästysseuran (KAMS) yhteinen kiväärivuoro Heinjoen luodikkoradalla klo 17-19. \nYhdistysten lainakalustoa ei ole toistaiseksi saatavilla näille vuoroille.
URL:https://www.vihma.fi/tapahtuma/ulkoratavuoro-heinjoki-3/2023-02-03/
LOCATION:Heinjoen ampumaurheilukeskus\, Savitie 118\, Hiltulanlahti\, 70870\, Suomi
CATEGORIES:Ammunta
GEO:62.7948279;27.5626754
X-APPLE-STRUCTURED-LOCATION;VALUE=URI;X-ADDRESS=Heinjoen ampumaurheilukeskus Savitie 118 Hiltulanlahti 70870 Suomi;X-APPLE-RADIUS=500;X-TITLE=Savitie 118:geo:27.5626754,62.7948279
END:VEVENT
END:VCALENDAR