BEGIN:VCALENDAR
VERSION:2.0
PRODID:-//Vihma.fi - ECPv6.15.20//NONSGML v1.0//EN
CALSCALE:GREGORIAN
METHOD:PUBLISH
X-ORIGINAL-URL:https://www.vihma.fi
X-WR-CALDESC:Tapahtumat Vihma.fi
REFRESH-INTERVAL;VALUE=DURATION:PT1H
X-Robots-Tag:noindex
X-PUBLISHED-TTL:PT1H
BEGIN:VTIMEZONE
TZID:Europe/Helsinki
BEGIN:DAYLIGHT
TZOFFSETFROM:+0200
TZOFFSETTO:+0300
TZNAME:EEST
DTSTART:20220327T010000
END:DAYLIGHT
BEGIN:STANDARD
TZOFFSETFROM:+0300
TZOFFSETTO:+0200
TZNAME:EET
DTSTART:20221030T010000
END:STANDARD
BEGIN:DAYLIGHT
TZOFFSETFROM:+0200
TZOFFSETTO:+0300
TZNAME:EEST
DTSTART:20230326T010000
END:DAYLIGHT
BEGIN:STANDARD
TZOFFSETFROM:+0300
TZOFFSETTO:+0200
TZNAME:EET
DTSTART:20231029T010000
END:STANDARD
BEGIN:DAYLIGHT
TZOFFSETFROM:+0200
TZOFFSETTO:+0300
TZNAME:EEST
DTSTART:20240331T010000
END:DAYLIGHT
BEGIN:STANDARD
TZOFFSETFROM:+0300
TZOFFSETTO:+0200
TZNAME:EET
DTSTART:20241027T010000
END:STANDARD
END:VTIMEZONE
BEGIN:VEVENT
DTSTART;TZID=Europe/Helsinki:20230201T180000
DTEND;TZID=Europe/Helsinki:20230201T193000
DTSTAMP:20260423T040520
CREATED:20230117T070704Z
LAST-MODIFIED:20230117T070704Z
UID:10000290-1675274400-1675279800@www.vihma.fi
SUMMARY:Vihman suunnistuskoulu 1.2.2023 klo 18.00
DESCRIPTION:Reserviläisen kenttäkelpoisuuden yksi osa-alue on suunnistustaito. \nSuunnistuksessa on tarkoitus löytää karttaan merkityt rastit oikeassa järjestyksessä mahdollisimman nopeasti. \nLajina suunnistus on monipuolinen – se kehittää kestävyys- ja lihaskuntoa\, kehonhallintaa ja tasapainoa. Epätasaisella alustalla liikkuminen\, mäkien kiipeily ja jalkojen nostelu risukossa haastavat kehoa ihan eri tavalla kuin tasamaalla kävely. Kun huomio on suunnistustehtävän ratkomisessa\, metsässä jaksaa huomaamatta liikkua pidempään. \n  \nVihman liikuntatoimikunta järjestää kiinnostuneille Pohjois-Savon reserviläisyhdistysten jäsenille suunnistuskoulutusta talven mittaan. \n  \nKäymme koulutuksessa alkuun läpi suunnistuksessa tarvittavia perustaitoja: opetellaan karttamerkkejä\, suunnistuksen teoriaa ja tekemään reitinvalintoja rastivälille\, sekä harjoitellaan kartan suuntaamista ja kompassin käyttöä. Aloitetaan harjoittelu sisätiloissa ja taitojen kartuttua päästään metsään. \nJoten tämä on oiva tilaisuus jos olet joskus harkinnut aloittamista… \nEnsimmäinen kerta aloitteleville suunnistajille järjestetään Piiritoimistolla 1.2.2023 klo 18.00 \nOsoite: Mäkikatu 5 A 1\, Kuopio \nSuunnistuskoulutus on maksuton P-S alueen reserviläisyhdistysten jäsenille \n  \nIlmoittautuminen: Mika Lustig / p. 044 552 5249 / mika.lustig@gmail.com \n  \nKuten eräässä monille tutussa laulussa mainitaan \nJos metsään haluat mennä niin takuulla yllätyt… \nLoppu on omissa käsissä. Kaverilta voi myös kysyä.
URL:https://www.vihma.fi/tapahtuma/vihman-suunnistuskoulu-1-2-2023-klo-18-00/
CATEGORIES:Koulutus,Liikunta
END:VEVENT
BEGIN:VEVENT
DTSTART;TZID=Europe/Helsinki:20230201T180000
DTEND;TZID=Europe/Helsinki:20230201T193000
DTSTAMP:20260423T040520
CREATED:20230123T183106Z
LAST-MODIFIED:20230126T163403Z
UID:10000545-1675274400-1675279800@www.vihma.fi
SUMMARY:Ilmapistoolivuoro Iisalmessa
DESCRIPTION:Ilmapistoolivuoro Iisalmen kaupungin väestönsuojassa. \nVuoro alkaa klo 18:00 keskiviikkoisin. Yhdistyksen välineet käytössä (aseet\, panokset\, taulut) eli et tarvitse omaa asetta. Omilla pistooleilla voi myös ampua. \nOsallistujille suositellaan kuulosuojainten ja suojalasien käyttöä. \nTaulumaksu 5€ käteisellä paikanpäällä.\nLisätietoja iisres58@gmail.com
URL:https://www.vihma.fi/tapahtuma/ilmapistoolivuoro-iisalmessa/2023-02-01/
LOCATION:Iisalmi\, Iisalmi
CATEGORIES:Ammunta
GEO:63.5694237;27.1826451
END:VEVENT
END:VCALENDAR