BEGIN:VCALENDAR
VERSION:2.0
PRODID:-//Vihma.fi - ECPv6.15.20//NONSGML v1.0//EN
CALSCALE:GREGORIAN
METHOD:PUBLISH
X-ORIGINAL-URL:https://www.vihma.fi
X-WR-CALDESC:Tapahtumat Vihma.fi
REFRESH-INTERVAL;VALUE=DURATION:PT1H
X-Robots-Tag:noindex
X-PUBLISHED-TTL:PT1H
BEGIN:VTIMEZONE
TZID:Europe/Helsinki
BEGIN:DAYLIGHT
TZOFFSETFROM:+0200
TZOFFSETTO:+0300
TZNAME:EEST
DTSTART:20220327T010000
END:DAYLIGHT
BEGIN:STANDARD
TZOFFSETFROM:+0300
TZOFFSETTO:+0200
TZNAME:EET
DTSTART:20221030T010000
END:STANDARD
BEGIN:DAYLIGHT
TZOFFSETFROM:+0200
TZOFFSETTO:+0300
TZNAME:EEST
DTSTART:20230326T010000
END:DAYLIGHT
BEGIN:STANDARD
TZOFFSETFROM:+0300
TZOFFSETTO:+0200
TZNAME:EET
DTSTART:20231029T010000
END:STANDARD
BEGIN:DAYLIGHT
TZOFFSETFROM:+0200
TZOFFSETTO:+0300
TZNAME:EEST
DTSTART:20240331T010000
END:DAYLIGHT
BEGIN:STANDARD
TZOFFSETFROM:+0300
TZOFFSETTO:+0200
TZNAME:EET
DTSTART:20241027T010000
END:STANDARD
END:VTIMEZONE
BEGIN:VEVENT
DTSTART;TZID=Europe/Helsinki:20230603T090000
DTEND;TZID=Europe/Helsinki:20230603T160000
DTSTAMP:20260419T223418
CREATED:20230510T040600Z
LAST-MODIFIED:20230602T050909Z
UID:10000849-1685782800-1685808000@www.vihma.fi
SUMMARY:Reserviläisammunnan PM. RA1-RA4
DESCRIPTION:Kilpailukutsu \nTervetuloa Pohjois-Savon reservipiirien reserviläisammunnan RA1 –\nRA4 PM kilpailuihin Suonenjoelle. Piirinmestaruus ratkeaa 4 lajin\nyhteistuloksesta. Lisäksi palkitaan paras kivääri- ja pistooliampuja.\nKilpailu ammutaan omilla aseilla eikä järjestäjän puolesta tule lainaaseita.\nKysy laina-asetta omasta res.yhdistyksestäsi mikäli tarvitset. \nAika: 03.06.2023 lauantaina\nKlo 09:00 Kilpailijoiden vastaanotto aukeaa.\nKlo 09.30 Avajaispuheet ja varomääräykset.\nklo 10:00 Ensimmäiset erät aloittaa ammunnan. \nPaikka: Onkilammen ampumarata\, Ampumaradantie 149\, 77600 Suonenjoki \nSarjat: H\, H50\, Joukkue H (3 ampujaa/joukkue\, kaikki ikään ja sukupuoleen katsomatta) \nIlmoittautuminen: 31.05.2023 mennessä sähköpostiin tero.tapio.turpeinen@gmail.com tai viestinä numeroon 0440138076\n(nimi\, sarja\, lajit ja yhdistys) lisäksi yhdistyksittäin joukkueet. \nJälki-ilmoittautumisia otetaan\, mikäli erissä on tilaa. \nMaksut: osallistumismaksu 20e kaikki lajit. On myös mahdollista ampua pelkästään kivääri-tai pistoolilajit 10e. \nOsallistumismaksu maksetaan Suonenjoen reserviläisten tilille: FI97 5443 0420 0827 07 (ota kuitti mukaan kilpailupaikalle\, joko sähköinen tai paperinen) Tai käteismaksu paikan päällä tasarahalla ilman lisämaksua. \nPaikan päällä on myös kanttiini\, josta saa kahvia ja makkaraa.\n(makkaranpaistoon säävaraus\, jos on metsäpalovaroitus voimassa) \n  \nERÄLUETTELOT
URL:https://www.vihma.fi/tapahtuma/reservilaisammunnan-pm-ra1-ra4-2/
LOCATION:Suonenjoki\, Onkilampi
CATEGORIES:Ammunta
END:VEVENT
END:VCALENDAR