BEGIN:VCALENDAR
VERSION:2.0
PRODID:-//Vihma.fi - ECPv6.15.20//NONSGML v1.0//EN
CALSCALE:GREGORIAN
METHOD:PUBLISH
X-WR-CALNAME:Vihma.fi
X-ORIGINAL-URL:https://www.vihma.fi
X-WR-CALDESC:Tapahtumat Vihma.fi
REFRESH-INTERVAL;VALUE=DURATION:PT1H
X-Robots-Tag:noindex
X-PUBLISHED-TTL:PT1H
BEGIN:VTIMEZONE
TZID:Europe/Helsinki
BEGIN:DAYLIGHT
TZOFFSETFROM:+0200
TZOFFSETTO:+0300
TZNAME:EEST
DTSTART:20220327T010000
END:DAYLIGHT
BEGIN:STANDARD
TZOFFSETFROM:+0300
TZOFFSETTO:+0200
TZNAME:EET
DTSTART:20221030T010000
END:STANDARD
BEGIN:DAYLIGHT
TZOFFSETFROM:+0200
TZOFFSETTO:+0300
TZNAME:EEST
DTSTART:20230326T010000
END:DAYLIGHT
BEGIN:STANDARD
TZOFFSETFROM:+0300
TZOFFSETTO:+0200
TZNAME:EET
DTSTART:20231029T010000
END:STANDARD
BEGIN:DAYLIGHT
TZOFFSETFROM:+0200
TZOFFSETTO:+0300
TZNAME:EEST
DTSTART:20240331T010000
END:DAYLIGHT
BEGIN:STANDARD
TZOFFSETFROM:+0300
TZOFFSETTO:+0200
TZNAME:EET
DTSTART:20241027T010000
END:STANDARD
END:VTIMEZONE
BEGIN:VEVENT
DTSTART;TZID=Europe/Helsinki:20230202T180000
DTEND;TZID=Europe/Helsinki:20230202T200000
DTSTAMP:20260424T202409
CREATED:20230120T152404Z
LAST-MODIFIED:20230120T152404Z
UID:10000543-1675360800-1675368000@www.vihma.fi
SUMMARY:Sotilasmoniottelun laji-info / Remar Portti\, Kuopio
DESCRIPTION:Tutustutaan Simon Jääskeläisen ja Janne Hyvärisen opastuksella sotilasmoniottelun lajeihin ja kilpailutapaan sekä kuullaan kokemuksia lajin parista. Sovitaan perustettavan treeniryhmän käytänteistä ja yhteisen WhatsApp-ryhmän perustamisesta. Tapahtuman aluksi tarjolla kahvi/tee ja pientä suolaista. \nTarjoilun ja kokoustilan koon varmistamiseksi ilmoittauduthan 30.1. mennessä: satulinnaranta(at)hotmail.com (nimi\, yhteystiedot\, kerho\, ruoka-ainerajoitteet). Tapahtuma on saanut piirin liikuntatoimikunnan avustuksen ja on osallistujille maksuton. \n 
URL:https://www.vihma.fi/tapahtuma/sotilasmoniottelun-laji-info-remar-portti-kuopio/
LOCATION:Remar Portti\, Puutarhakatu 9\, Kuopio
CATEGORIES:Liikunta
GEO:62.8977187;27.681402
X-APPLE-STRUCTURED-LOCATION;VALUE=URI;X-ADDRESS=Remar Portti Puutarhakatu 9 Kuopio;X-APPLE-RADIUS=500;X-TITLE=Puutarhakatu 9:geo:27.681402,62.8977187
END:VEVENT
END:VCALENDAR